Workbook

Sheet Навигатор накоплений
C1: Мои банковские накопления
A3: Зеленые ячейки — ручной ввод. Серые — автоматические расчеты.
A4: Ключевые показатели
A5: ВСЕГО НАКОПЛЕНИЙ | D5: ОЖИДАЕМАЯ СУММА | H5: ПРОГРЕСС ЦЕЛЕЙ
A6: =SUM(C22:C28)+SUM(D31:D36) -> 0 | D6: =SUM(I22:I28)+SUM(I31:I36) -> 0 | H6: =IFERROR((SUMPRODUCT((C12:C18<=B12:B18)*C12:C18)+SUMPRODUCT((C12:C18>B12:B18)*B12:B18))/SUM(B12:B18),"")
A7: Автоматическая проверка
A8: =IF(SUM(C12:C18)>A6,"Проверьте цели: распределено больше текущих сбережений",IF(SUM(C12:C18)<A6,"Есть нераспределенные сбережения","Данные согласованы")) -> Данные согласованы
A10: Финансовые цели
A11: Цель | B11: Сумма цели, ₽ | C11: Уже накоплено, ₽ | D11: Прогресс | E11: Осталось, ₽ | F11: Желаемая дата | G11: Плановый взнос, ₽/мес | H11: Дата достижения цели | I11: Рекомендуемый взнос, ₽/мес | J11: Статус
D12: =IF(A12="","",IF(OR(B12="",B12<=0),"",IFERROR(MAX(0,MIN(1,N(C12)/B12)),""))) | E12: =IF(A12="","",IF(OR(B12="",B12<=0),"",MAX(0,B12-N(C12)))) | H12: =IF(A12="","",IF(E12="","",IF(E12=0,TODAY(),IF(OR(G12="",G12<=0),"",IFERROR(EDATE(TODAY(),ROUNDUP(E12/G12,0)),""))))) | I12: =IF(A12="","",IF(E12="","",IF(E12=0,0,IF(F12="","",IF(F12<=TODAY(),E12,ROUNDUP(E12/MAX(1,DATEDIF(TODAY(),F12,"M")+IF(EDATE(TODAY(),DATEDIF(TODAY(),F12,"M"))<F12,1,0)),0)))))) | J12: =IF(A12="","",IF(E12="","",IF(E12=0,"Цель достигнута",IF(F12="","Укажите срок",IF(F12<TODAY(),"Срок прошёл",IF(OR(G12="",G12<=0),"Укажите взнос",IF(H12="","Укажите взнос",IF(H12<=F12,"По плану","Нужно увеличить взнос"))))))))
D13: =IF(A13="","",IF(OR(B13="",B13<=0),"",IFERROR(MAX(0,MIN(1,N(C13)/B13)),""))) | E13: =IF(A13="","",IF(OR(B13="",B13<=0),"",MAX(0,B13-N(C13)))) | H13: =IF(A13="","",IF(E13="","",IF(E13=0,TODAY(),IF(OR(G13="",G13<=0),"",IFERROR(EDATE(TODAY(),ROUNDUP(E13/G13,0)),""))))) | I13: =IF(A13="","",IF(E13="","",IF(E13=0,0,IF(F13="","",IF(F13<=TODAY(),E13,ROUNDUP(E13/MAX(1,DATEDIF(TODAY(),F13,"M")+IF(EDATE(TODAY(),DATEDIF(TODAY(),F13,"M"))<F13,1,0)),0)))))) | J13: =IF(A13="","",IF(E13="","",IF(E13=0,"Цель достигнута",IF(F13="","Укажите срок",IF(F13<TODAY(),"Срок прошёл",IF(OR(G13="",G13<=0),"Укажите взнос",IF(H13="","Укажите взнос",IF(H13<=F13,"По плану","Нужно увеличить взнос"))))))))
D14: =IF(A14="","",IF(OR(B14="",B14<=0),"",IFERROR(MAX(0,MIN(1,N(C14)/B14)),""))) | E14: =IF(A14="","",IF(OR(B14="",B14<=0),"",MAX(0,B14-N(C14)))) | H14: =IF(A14="","",IF(E14="","",IF(E14=0,TODAY(),IF(OR(G14="",G14<=0),"",IFERROR(EDATE(TODAY(),ROUNDUP(E14/G14,0)),""))))) | I14: =IF(A14="","",IF(E14="","",IF(E14=0,0,IF(F14="","",IF(F14<=TODAY(),E14,ROUNDUP(E14/MAX(1,DATEDIF(TODAY(),F14,"M")+IF(EDATE(TODAY(),DATEDIF(TODAY(),F14,"M"))<F14,1,0)),0)))))) | J14: =IF(A14="","",IF(E14="","",IF(E14=0,"Цель достигнута",IF(F14="","Укажите срок",IF(F14<TODAY(),"Срок прошёл",IF(OR(G14="",G14<=0),"Укажите взнос",IF(H14="","Укажите взнос",IF(H14<=F14,"По плану","Нужно увеличить взнос"))))))))
D15: =IF(A15="","",IF(OR(B15="",B15<=0),"",IFERROR(MAX(0,MIN(1,N(C15)/B15)),""))) | E15: =IF(A15="","",IF(OR(B15="",B15<=0),"",MAX(0,B15-N(C15)))) | H15: =IF(A15="","",IF(E15="","",IF(E15=0,TODAY(),IF(OR(G15="",G15<=0),"",IFERROR(EDATE(TODAY(),ROUNDUP(E15/G15,0)),""))))) | I15: =IF(A15="","",IF(E15="","",IF(E15=0,0,IF(F15="","",IF(F15<=TODAY(),E15,ROUNDUP(E15/MAX(1,DATEDIF(TODAY(),F15,"M")+IF(EDATE(TODAY(),DATEDIF(TODAY(),F15,"M"))<F15,1,0)),0)))))) | J15: =IF(A15="","",IF(E15="","",IF(E15=0,"Цель достигнута",IF(F15="","Укажите срок",IF(F15<TODAY(),"Срок прошёл",IF(OR(G15="",G15<=0),"Укажите взнос",IF(H15="","Укажите взнос",IF(H15<=F15,"По плану","Нужно увеличить взнос"))))))))
D16: =IF(A16="","",IF(OR(B16="",B16<=0),"",IFERROR(MAX(0,MIN(1,N(C16)/B16)),""))) | E16: =IF(A16="","",IF(OR(B16="",B16<=0),"",MAX(0,B16-N(C16)))) | H16: =IF(A16="","",IF(E16="","",IF(E16=0,TODAY(),IF(OR(G16="",G16<=0),"",IFERROR(EDATE(TODAY(),ROUNDUP(E16/G16,0)),""))))) | I16: =IF(A16="","",IF(E16="","",IF(E16=0,0,IF(F16="","",IF(F16<=TODAY(),E16,ROUNDUP(E16/MAX(1,DATEDIF(TODAY(),F16,"M")+IF(EDATE(TODAY(),DATEDIF(TODAY(),F16,"M"))<F16,1,0)),0)))))) | J16: =IF(A16="","",IF(E16="","",IF(E16=0,"Цель достигнута",IF(F16="","Укажите срок",IF(F16<TODAY(),"Срок прошёл",IF(OR(G16="",G16<=0),"Укажите взнос",IF(H16="","Укажите взнос",IF(H16<=F16,"По плану","Нужно увеличить взнос"))))))))
D17: =IF(A17="","",IF(OR(B17="",B17<=0),"",IFERROR(MAX(0,MIN(1,N(C17)/B17)),""))) | E17: =IF(A17="","",IF(OR(B17="",B17<=0),"",MAX(0,B17-N(C17)))) | H17: =IF(A17="","",IF(E17="","",IF(E17=0,TODAY(),IF(OR(G17="",G17<=0),"",IFERROR(EDATE(TODAY(),ROUNDUP(E17/G17,0)),""))))) | I17: =IF(A17="","",IF(E17="","",IF(E17=0,0,IF(F17="","",IF(F17<=TODAY(),E17,ROUNDUP(E17/MAX(1,DATEDIF(TODAY(),F17,"M")+IF(EDATE(TODAY(),DATEDIF(TODAY(),F17,"M"))<F17,1,0)),0)))))) | J17: =IF(A17="","",IF(E17="","",IF(E17=0,"Цель достигнута",IF(F17="","Укажите срок",IF(F17<TODAY(),"Срок прошёл",IF(OR(G17="",G17<=0),"Укажите взнос",IF(H17="","Укажите взнос",IF(H17<=F17,"По плану","Нужно увеличить взнос"))))))))
D18: =IF(A18="","",IF(OR(B18="",B18<=0),"",IFERROR(MAX(0,MIN(1,N(C18)/B18)),""))) | E18: =IF(A18="","",IF(OR(B18="",B18<=0),"",MAX(0,B18-N(C18)))) | H18: =IF(A18="","",IF(E18="","",IF(E18=0,TODAY(),IF(OR(G18="",G18<=0),"",IFERROR(EDATE(TODAY(),ROUNDUP(E18/G18,0)),""))))) | I18: =IF(A18="","",IF(E18="","",IF(E18=0,0,IF(F18="","",IF(F18<=TODAY(),E18,ROUNDUP(E18/MAX(1,DATEDIF(TODAY(),F18,"M")+IF(EDATE(TODAY(),DATEDIF(TODAY(),F18,"M"))<F18,1,0)),0)))))) | J18: =IF(A18="","",IF(E18="","",IF(E18=0,"Цель достигнута",IF(F18="","Укажите срок",IF(F18<TODAY(),"Срок прошёл",IF(OR(G18="",G18<=0),"Укажите взнос",IF(H18="","Укажите взнос",IF(H18<=F18,"По плану","Нужно увеличить взнос"))))))))
A20: Вклады | M20: 22
A21: Название | B21: Банк | C21: Сумма вклада, ₽ | D21: Ставка, % годовых | E21: Дата открытия | F21: Дата окончания | G21: Пополнение, ₽/мес | H21: Начисляемый доход, ₽ (с ежемесячной капитализацией) | I21: Ожидаемая сумма, ₽ (с ежемесячной капитализацией) | M21: 22
H22: =IF(A22="","",Расчеты!M67) | I22: =IF(A22="","",Расчеты!N67) | M22: 22
H23: =IF(A23="","",Расчеты!R67) | I23: =IF(A23="","",Расчеты!S67) | M23: 22
H24: =IF(A24="","",Расчеты!W67) | I24: =IF(A24="","",Расчеты!X67) | L24: 22 | M24: 22
H25: =IF(A25="","",Расчеты!AB67) | I25: =IF(A25="","",Расчеты!AC67)
H26: =IF(A26="","",Расчеты!AG67) | I26: =IF(A26="","",Расчеты!AH67)
H27: =IF(A27="","",Расчеты!AL67) | I27: =IF(A27="","",Расчеты!AM67) | L27: 22 | M27: 22
H28: =IF(A28="","",Расчеты!AQ67) | I28: =IF(A28="","",Расчеты!AR67)
A29: Накопительные счета
A30: Название | B30: Банк | C30: Дата начала расчета | D30: Сумма счета на дату начала, ₽ | E30: Текущая ставка, % годовых (Если банк меняет ставку, обновите значение) | F30: Способ начисления процентов | G30: Плановое пополнение, ₽/мес | H30: Прогнозный доход за 12 месяцев, ₽ | I30: Ожидаемая сумма через 12 месяцев, ₽ | K30: 22 | L30: 22
H31: {=IF(A31="","",Расчеты!H22)} | I31: =IF(A31="","",Расчеты!I22)
H32: =IF(A32="","",Расчеты!H39) | I32: =IF(A32="","",Расчеты!I39)
H33: =IF(A33="","",Расчеты!H56) | I33: =IF(A33="","",Расчеты!I56)
H34: =IF(A34="","",Расчеты!H73) | I34: =IF(A34="","",Расчеты!I73)
H35: =IF(A35="","",Расчеты!H90) | I35: =IF(A35="","",Расчеты!I90)
H36: =IF(A36="","",Расчеты!H107) | I36: =IF(A36="","",Расчеты!I107)
A37: Прогноз строится на 12 месяцев от указанной даты начала расчета. Укажите в «Сумме счета» остаток именно на эту дату. Снятия не учитываются, ставка считается неизменной, проценты капитализируются ежемесячно.
A40: Вычисления налога на доходы (вклады и накопительные счета)
A42: Максимальная ключевая ставка на 1-е число месяца в 2026 году | C42: НДФЛ
A43: 0.16 | C43: 0.13
A45: Доход за 2026 год | B45: =SUM(H22:H28)+SUM(H31:H36) -> 0
A46: Налог за 2026 | B46: =-MAX(0,(B45-(1000000*A43))*C43) -> 0

Sheet Расчеты
A1: Технический расчет накопительных счетов | K1: Технический расчет вкладов
A3: Назначение листа: помесячная проверка прогноза за 12 месяцев, капитализации процентов и влияния плановых пополнений. | K3: Расчет по каждому вкладу независимый: проценты считаются по календарным дням, дневной процент округляется вниз до копеек; ежемесячные пополнения и капитализированные проценты начинают участвовать в базе со следующего дня. Общих коэффициентов подгонки нет.
A4: Расчет автоматически следует за строками первого листа. Если строка добавляется внутри таблицы вкладов или накопительных счетов, техлист подхватывает ее по порядку. Подготовлено до 10 продуктов каждого типа.
A5: При ежедневном остатке пополнение входит в процентную базу текущего периода; при минимальном остатке за месяц — только со следующего периода. Проценты капитализируются в конце каждого расчетного периода. | K5: =IF('Навигатор накоплений'!A22="","Вклад не заполнен",'Навигатор накоплений'!A22&" — "&'Навигатор накоплений'!B22) -> Вклад не заполнен | P5: =IF('Навигатор накоплений'!A23="","Вклад не заполнен",'Навигатор накоплений'!A23&" — "&'Навигатор накоплений'!B23) -> Вклад не заполнен | U5: =IF('Навигатор накоплений'!A24="","Вклад не заполнен",'Навигатор накоплений'!A24&" — "&'Навигатор накоплений'!B24) -> Вклад не заполнен | Z5: =IF('Навигатор накоплений'!A25="","Вклад не заполнен",'Навигатор накоплений'!A25&" — "&'Навигатор накоплений'!B25) -> Вклад не заполнен | AE5: =IF('Навигатор накоплений'!A26="","Вклад не заполнен",'Навигатор накоплений'!A26&" — "&'Навигатор накоплений'!B26) -> Вклад не заполнен | AJ5: =IF('Навигатор накоплений'!A27="","Вклад не заполнен",'Навигатор накоплений'!A27&" — "&'Навигатор накоплений'!B27) -> Вклад не заполнен | AO5: =IF('Навигатор накоплений'!A28="","Вклад не заполнен",'Навигатор накоплений'!A28&" — "&'Навигатор накоплений'!B28) -> Вклад не заполнен
K6: Начало периода | L6: Конец периода | M6: Начислено процентов, ₽ | N6: Остаток на конец, ₽ | P6: Начало периода | Q6: Конец периода | R6: Начислено процентов, ₽ | S6: Остаток на конец, ₽ | U6: Начало периода | V6: Конец периода | W6: Начислено процентов, ₽ | X6: Остаток на конец, ₽ | Z6: Начало периода | AA6: Конец периода | AB6: Начислено процентов, ₽ | AC6: Остаток на конец, ₽ | AE6: Начало периода | AF6: Конец периода | AG6: Начислено процентов, ₽ | AH6: Остаток на конец, ₽ | AJ6: Начало периода | AK6: Конец периода | AL6: Начислено процентов, ₽ | AM6: Остаток на конец, ₽ | AO6: Начало периода | AP6: Конец периода | AQ6: Начислено процентов, ₽ | AR6: Остаток на конец, ₽
K7: =IF(OR('Навигатор накоплений'!A22="",'Навигатор накоплений'!E22="",'Навигатор накоплений'!F22="",'Навигатор накоплений'!F22<='Навигатор накоплений'!E22),"",'Навигатор накоплений'!E22) | L7: =IF(K7="","",MIN(EDATE('Навигатор накоплений'!E22,1),'Навигатор накоплений'!F22)) | M7: =IF(K7="","",ROUND('Навигатор накоплений'!C22*'Навигатор накоплений'!D22*IF(YEAR(K7)=YEAR(L7-1),(L7-K7)/(DATE(YEAR(K7),12,31)-DATE(YEAR(K7),1,1)+1),(DATE(YEAR(K7)+1,1,1)-K7)/(DATE(YEAR(K7),12,31)-DATE(YEAR(K7),1,1)+1)+(L7-DATE(YEAR(L7),1,1))/(DATE(YEAR(L7),12,31)-DATE(YEAR(L7),1,1)+1)),2)) | N7: =IF(K7="","",ROUND('Навигатор накоплений'!C22+M7+IF(L7<'Навигатор накоплений'!F22,N('Навигатор накоплений'!G22),0),2)) | P7: =IF(OR('Навигатор накоплений'!A23="",'Навигатор накоплений'!E23="",'Навигатор накоплений'!F23="",'Навигатор накоплений'!F23<='Навигатор накоплений'!E23),"",'Навигатор накоплений'!E23) | Q7: =IF(P7="","",MIN(EDATE('Навигатор накоплений'!E23,1),'Навигатор накоплений'!F23)) | R7: =IF(P7="","",ROUND('Навигатор накоплений'!C23*'Навигатор накоплений'!D23*IF(YEAR(P7)=YEAR(Q7-1),(Q7-P7)/(DATE(YEAR(P7),12,31)-DATE(YEAR(P7),1,1)+1),(DATE(YEAR(P7)+1,1,1)-P7)/(DATE(YEAR(P7),12,31)-DATE(YEAR(P7),1,1)+1)+(Q7-DATE(YEAR(Q7),1,1))/(DATE(YEAR(Q7),12,31)-DATE(YEAR(Q7),1,1)+1)),2)) | S7: =IF(P7="","",ROUND('Навигатор накоплений'!C23+R7+IF(Q7<'Навигатор накоплений'!F23,N('Навигатор накоплений'!G23),0),2)) | U7: =IF(OR('Навигатор накоплений'!A24="",'Навигатор накоплений'!E24="",'Навигатор накоплений'!F24="",'Навигатор накоплений'!F24<='Навигатор накоплений'!E24),"",'Навигатор накоплений'!E24) | V7: =IF(U7="","",MIN(EDATE('Навигатор накоплений'!E24,1),'Навигатор накоплений'!F24)) | W7: =IF(U7="","",ROUND('Навигатор накоплений'!C24*'Навигатор накоплений'!D24*IF(YEAR(U7)=YEAR(V7-1),(V7-U7)/(DATE(YEAR(U7),12,31)-DATE(YEAR(U7),1,1)+1),(DATE(YEAR(U7)+1,1,1)-U7)/(DATE(YEAR(U7),12,31)-DATE(YEAR(U7),1,1)+1)+(V7-DATE(YEAR(V7),1,1))/(DATE(YEAR(V7),12,31)-DATE(YEAR(V7),1,1)+1)),2)) | X7: =IF(U7="","",ROUND('Навигатор накоплений'!C24+W7+IF(V7<'Навигатор накоплений'!F24,N('Навигатор накоплений'!G24),0),2)) | Z7: =IF(OR('Навигатор накоплений'!A25="",'Навигатор накоплений'!E25="",'Навигатор накоплений'!F25="",'Навигатор накоплений'!F25<='Навигатор накоплений'!E25),"",'Навигатор накоплений'!E25) | AA7: =IF(Z7="","",MIN(EDATE('Навигатор накоплений'!E25,1),'Навигатор накоплений'!F25)) | AB7: =IF(Z7="","",ROUND('Навигатор накоплений'!C25*'Навигатор накоплений'!D25*IF(YEAR(Z7)=YEAR(AA7-1),(AA7-Z7)/(DATE(YEAR(Z7),12,31)-DATE(YEAR(Z7),1,1)+1),(DATE(YEAR(Z7)+1,1,1)-Z7)/(DATE(YEAR(Z7),12,31)-DATE(YEAR(Z7),1,1)+1)+(AA7-DATE(YEAR(AA7),1,1))/(DATE(YEAR(AA7),12,31)-DATE(YEAR(AA7),1,1)+1)),2)) | AC7: =IF(Z7="","",ROUND('Навигатор накоплений'!C25+AB7+IF(AA7<'Навигатор накоплений'!F25,N('Навигатор накоплений'!G25),0),2)) | AE7: =IF(OR('Навигатор накоплений'!A26="",'Навигатор накоплений'!E26="",'Навигатор накоплений'!F26="",'Навигатор накоплений'!F26<='Навигатор накоплений'!E26),"",'Навигатор накоплений'!E26) | AF7: =IF(AE7="","",MIN(EDATE('Навигатор накоплений'!E26,1),'Навигатор накоплений'!F26)) | AG7: =IF(AE7="","",ROUND('Навигатор накоплений'!C26*'Навигатор накоплений'!D26*IF(YEAR(AE7)=YEAR(AF7-1),(AF7-AE7)/(DATE(YEAR(AE7),12,31)-DATE(YEAR(AE7),1,1)+1),(DATE(YEAR(AE7)+1,1,1)-AE7)/(DATE(YEAR(AE7),12,31)-DATE(YEAR(AE7),1,1)+1)+(AF7-DATE(YEAR(AF7),1,1))/(DATE(YEAR(AF7),12,31)-DATE(YEAR(AF7),1,1)+1)),2)) | AH7: =IF(AE7="","",ROUND('Навигатор накоплений'!C26+AG7+IF(AF7<'Навигатор накоплений'!F26,N('Навигатор накоплений'!G26),0),2)) | AJ7: =IF(OR('Навигатор накоплений'!A27="",'Навигатор накоплений'!E27="",'Навигатор накоплений'!F27="",'Навигатор накоплений'!F27<='Навигатор накоплений'!E27),"",'Навигатор накоплений'!E27) | AK7: =IF(AJ7="","",MIN(EDATE('Навигатор накоплений'!E27,1),'Навигатор накоплений'!F27)) | AL7: =IF(AJ7="","",ROUND('Навигатор накоплений'!C27*'Навигатор накоплений'!D27*IF(YEAR(AJ7)=YEAR(AK7-1),(AK7-AJ7)/(DATE(YEAR(AJ7),12,31)-DATE(YEAR(AJ7),1,1)+1),(DATE(YEAR(AJ7)+1,1,1)-AJ7)/(DATE(YEAR(AJ7),12,31)-DATE(YEAR(AJ7),1,1)+1)+(AK7-DATE(YEAR(AK7),1,1))/(DATE(YEAR(AK7),12,31)-DATE(YEAR(AK7),1,1)+1)),2)) | AM7: =IF(AJ7="","",ROUND('Навигатор накоплений'!C27+AL7+IF(AK7<'Навигатор накоплений'!F27,N('Навигатор накоплений'!G27),0),2)) | AO7: =IF(OR('Навигатор накоплений'!A28="",'Навигатор накоплений'!E28="",'Навигатор накоплений'!F28="",'Навигатор накоплений'!F28<='Навигатор накоплений'!E28),"",'Навигатор накоплений'!E28) | AP7: =IF(AO7="","",MIN(EDATE('Навигатор накоплений'!E28,1),'Навигатор накоплений'!F28)) | AQ7: =IF(AO7="","",ROUND('Навигатор накоплений'!C28*'Навигатор накоплений'!D28*IF(YEAR(AO7)=YEAR(AP7-1),(AP7-AO7)/(DATE(YEAR(AO7),12,31)-DATE(YEAR(AO7),1,1)+1),(DATE(YEAR(AO7)+1,1,1)-AO7)/(DATE(YEAR(AO7),12,31)-DATE(YEAR(AO7),1,1)+1)+(AP7-DATE(YEAR(AP7),1,1))/(DATE(YEAR(AP7),12,31)-DATE(YEAR(AP7),1,1)+1)),2)) | AR7: =IF(AO7="","",ROUND('Навигатор накоплений'!C28+AQ7+IF(AP7<'Навигатор накоплений'!F28,N('Навигатор накоплений'!G28),0),2)) | AT7: =IF(OR(K7="",L7="",M7="",L7<=K7),0,ROUND(M7*MAX(0,MIN(L7,DATE(2027,1,1))-MAX(K7,DATE(2026,1,1)))/(L7-K7),2)) -> 0 | AU7: =IF(OR(P7="",Q7="",R7="",Q7<=P7),0,ROUND(R7*MAX(0,MIN(Q7,DATE(2027,1,1))-MAX(P7,DATE(2026,1,1)))/(Q7-P7),2)) -> 0 | AV7: =IF(OR(U7="",V7="",W7="",V7<=U7),0,ROUND(W7*MAX(0,MIN(V7,DATE(2027,1,1))-MAX(U7,DATE(2026,1,1)))/(V7-U7),2)) -> 0 | AW7: =IF(OR(Z7="",AA7="",AB7="",AA7<=Z7),0,ROUND(AB7*MAX(0,MIN(AA7,DATE(2027,1,1))-MAX(Z7,DATE(2026,1,1)))/(AA7-Z7),2)) -> 0 | AX7: =IF(OR(AE7="",AF7="",AG7="",AF7<=AE7),0,ROUND(AG7*MAX(0,MIN(AF7,DATE(2027,1,1))-MAX(AE7,DATE(2026,1,1)))/(AF7-AE7),2)) -> 0 | AY7: =IF(OR(AJ7="",AK7="",AL7="",AK7<=AJ7),0,ROUND(AL7*MAX(0,MIN(AK7,DATE(2027,1,1))-MAX(AJ7,DATE(2026,1,1)))/(AK7-AJ7),2)) -> 0 | AZ7: =IF(OR(AO7="",AP7="",AQ7="",AP7<=AO7),0,ROUND(AQ7*MAX(0,MIN(AP7,DATE(2027,1,1))-MAX(AO7,DATE(2026,1,1)))/(AP7-AO7),2)) -> 0 | BA7: =IF(OR(B10="",C10="",H10="",C10<=B10),0,ROUND(H10*MAX(0,MIN(C10,DATE(2027,1,1))-MAX(B10,DATE(2026,1,1)))/(C10-B10),2)) -> 0 | BB7: =IF(OR(B27="",C27="",H27="",C27<=B27),0,ROUND(H27*MAX(0,MIN(C27,DATE(2027,1,1))-MAX(B27,DATE(2026,1,1)))/(C27-B27),2)) -> 0 | BC7: =IF(OR(B44="",C44="",H44="",C44<=B44),0,ROUND(H44*MAX(0,MIN(C44,DATE(2027,1,1))-MAX(B44,DATE(2026,1,1)))/(C44-B44),2)) -> 0 | BD7: =IF(OR(B61="",C61="",H61="",C61<=B61),0,ROUND(H61*MAX(0,MIN(C61,DATE(2027,1,1))-MAX(B61,DATE(2026,1,1)))/(C61-B61),2)) -> 0 | BE7: =IF(OR(B78="",C78="",H78="",C78<=B78),0,ROUND(H78*MAX(0,MIN(C78,DATE(2027,1,1))-MAX(B78,DATE(2026,1,1)))/(C78-B78),2)) -> 0 | BF7: =IF(OR(B95="",C95="",H95="",C95<=B95),0,ROUND(H95*MAX(0,MIN(C95,DATE(2027,1,1))-MAX(B95,DATE(2026,1,1)))/(C95-B95),2)) -> 0
A8: =IF('Навигатор накоплений'!A31="","Счет не заполнен","Счет: "&'Навигатор накоплений'!A31&" — "&'Навигатор накоплений'!B31) -> Счет не заполнен | K8: =IF('Навигатор накоплений'!A22="","",IF(2<=DATEDIF('Навигатор накоплений'!E22,'Навигатор накоплений'!F22,"m")+IF(EDATE('Навигатор накоплений'!E22,DATEDIF('Навигатор накоплений'!E22,'Навигатор накоплений'!F22,"m"))<'Навигатор накоплений'!F22,1,0),L7,"")) | L8: =IF(K8="","",MIN(EDATE('Навигатор накоплений'!E22,2),'Навигатор накоплений'!F22)) | M8: =IF(K8="","",ROUND(N7*'Навигатор накоплений'!D22*IF(YEAR(K8)=YEAR(L8-1),(L8-K8)/(DATE(YEAR(K8),12,31)-DATE(YEAR(K8),1,1)+1),(DATE(YEAR(K8)+1,1,1)-K8)/(DATE(YEAR(K8),12,31)-DATE(YEAR(K8),1,1)+1)+(L8-DATE(YEAR(L8),1,1))/(DATE(YEAR(L8),12,31)-DATE(YEAR(L8),1,1)+1)),2)) | N8: =IF(K8="","",ROUND(N7+M8+IF(L8<'Навигатор накоплений'!F22,N('Навигатор накоплений'!G22),0),2)) | P8: =IF('Навигатор накоплений'!A23="","",IF(2<=DATEDIF('Навигатор накоплений'!E23,'Навигатор накоплений'!F23,"m")+IF(EDATE('Навигатор накоплений'!E23,DATEDIF('Навигатор накоплений'!E23,'Навигатор накоплений'!F23,"m"))<'Навигатор накоплений'!F23,1,0),Q7,"")) | Q8: =IF(P8="","",MIN(EDATE('Навигатор накоплений'!E23,2),'Навигатор накоплений'!F23)) | R8: =IF(P8="","",ROUND(S7*'Навигатор накоплений'!D23*IF(YEAR(P8)=YEAR(Q8-1),(Q8-P8)/(DATE(YEAR(P8),12,31)-DATE(YEAR(P8),1,1)+1),(DATE(YEAR(P8)+1,1,1)-P8)/(DATE(YEAR(P8),12,31)-DATE(YEAR(P8),1,1)+1)+(Q8-DATE(YEAR(Q8),1,1))/(DATE(YEAR(Q8),12,31)-DATE(YEAR(Q8),1,1)+1)),2)) | S8: =IF(P8="","",ROUND(S7+R8+IF(Q8<'Навигатор накоплений'!F23,N('Навигатор накоплений'!G23),0),2)) | U8: =IF('Навигатор накоплений'!A24="","",IF(2<=DATEDIF('Навигатор накоплений'!E24,'Навигатор накоплений'!F24,"m")+IF(EDATE('Навигатор накоплений'!E24,DATEDIF('Навигатор накоплений'!E24,'Навигатор накоплений'!F24,"m"))<'Навигатор накоплений'!F24,1,0),V7,"")) | V8: =IF(U8="","",MIN(EDATE('Навигатор накоплений'!E24,2),'Навигатор накоплений'!F24)) | W8: =IF(U8="","",ROUND(X7*'Навигатор накоплений'!D24*IF(YEAR(U8)=YEAR(V8-1),(V8-U8)/(DATE(YEAR(U8),12,31)-DATE(YEAR(U8),1,1)+1),(DATE(YEAR(U8)+1,1,1)-U8)/(DATE(YEAR(U8),12,31)-DATE(YEAR(U8),1,1)+1)+(V8-DATE(YEAR(V8),1,1))/(DATE(YEAR(V8),12,31)-DATE(YEAR(V8),1,1)+1)),2)) | X8: =IF(U8="","",ROUND(X7+W8+IF(V8<'Навигатор накоплений'!F24,N('Навигатор накоплений'!G24),0),2)) | Z8: =IF('Навигатор накоплений'!A25="","",IF(2<=DATEDIF('Навигатор накоплений'!E25,'Навигатор накоплений'!F25,"m")+IF(EDATE('Навигатор накоплений'!E25,DATEDIF('Навигатор накоплений'!E25,'Навигатор накоплений'!F25,"m"))<'Навигатор накоплений'!F25,1,0),AA7,"")) | AA8: =IF(Z8="","",MIN(EDATE('Навигатор накоплений'!E25,2),'Навигатор накоплений'!F25)) | AB8: =IF(Z8="","",ROUND(AC7*'Навигатор накоплений'!D25*IF(YEAR(Z8)=YEAR(AA8-1),(AA8-Z8)/(DATE(YEAR(Z8),12,31)-DATE(YEAR(Z8),1,1)+1),(DATE(YEAR(Z8)+1,1,1)-Z8)/(DATE(YEAR(Z8),12,31)-DATE(YEAR(Z8),1,1)+1)+(AA8-DATE(YEAR(AA8),1,1))/(DATE(YEAR(AA8),12,31)-DATE(YEAR(AA8),1,1)+1)),2)) | AC8: =IF(Z8="","",ROUND(AC7+AB8+IF(AA8<'Навигатор накоплений'!F25,N('Навигатор накоплений'!G25),0),2)) | AE8: =IF('Навигатор накоплений'!A26="","",IF(2<=DATEDIF('Навигатор накоплений'!E26,'Навигатор накоплений'!F26,"m")+IF(EDATE('Навигатор накоплений'!E26,DATEDIF('Навигатор накоплений'!E26,'Навигатор накоплений'!F26,"m"))<'Навигатор накоплений'!F26,1,0),AF7,"")) | AF8: =IF(AE8="","",MIN(EDATE('Навигатор накоплений'!E26,2),'Навигатор накоплений'!F26)) | AG8: =IF(AE8="","",ROUND(AH7*'Навигатор накоплений'!D26*IF(YEAR(AE8)=YEAR(AF8-1),(AF8-AE8)/(DATE(YEAR(AE8),12,31)-DATE(YEAR(AE8),1,1)+1),(DATE(YEAR(AE8)+1,1,1)-AE8)/(DATE(YEAR(AE8),12,31)-DATE(YEAR(AE8),1,1)+1)+(AF8-DATE(YEAR(AF8),1,1))/(DATE(YEAR(AF8),12,31)-DATE(YEAR(AF8),1,1)+1)),2)) | AH8: =IF(AE8="","",ROUND(AH7+AG8+IF(AF8<'Навигатор накоплений'!F26,N('Навигатор накоплений'!G26),0),2)) | AJ8: =IF('Навигатор накоплений'!A27="","",IF(2<=DATEDIF('Навигатор накоплений'!E27,'Навигатор накоплений'!F27,"m")+IF(EDATE('Навигатор накоплений'!E27,DATEDIF('Навигатор накоплений'!E27,'Навигатор накоплений'!F27,"m"))<'Навигатор накоплений'!F27,1,0),AK7,"")) | AK8: =IF(AJ8="","",MIN(EDATE('Навигатор накоплений'!E27,2),'Навигатор накоплений'!F27)) | AL8: =IF(AJ8="","",ROUND(AM7*'Навигатор накоплений'!D27*IF(YEAR(AJ8)=YEAR(AK8-1),(AK8-AJ8)/(DATE(YEAR(AJ8),12,31)-DATE(YEAR(AJ8),1,1)+1),(DATE(YEAR(AJ8)+1,1,1)-AJ8)/(DATE(YEAR(AJ8),12,31)-DATE(YEAR(AJ8),1,1)+1)+(AK8-DATE(YEAR(AK8),1,1))/(DATE(YEAR(AK8),12,31)-DATE(YEAR(AK8),1,1)+1)),2)) | AM8: =IF(AJ8="","",ROUND(AM7+AL8+IF(AK8<'Навигатор накоплений'!F27,N('Навигатор накоплений'!G27),0),2)) | AO8: =IF('Навигатор накоплений'!A28="","",IF(2<=DATEDIF('Навигатор накоплений'!E28,'Навигатор накоплений'!F28,"m")+IF(EDATE('Навигатор накоплений'!E28,DATEDIF('Навигатор накоплений'!E28,'Навигатор накоплений'!F28,"m"))<'Навигатор накоплений'!F28,1,0),AP7,"")) | AP8: =IF(AO8="","",MIN(EDATE('Навигатор накоплений'!E28,2),'Навигатор накоплений'!F28)) | AQ8: =IF(AO8="","",ROUND(AR7*'Навигатор накоплений'!D28*IF(YEAR(AO8)=YEAR(AP8-1),(AP8-AO8)/(DATE(YEAR(AO8),12,31)-DATE(YEAR(AO8),1,1)+1),(DATE(YEAR(AO8)+1,1,1)-AO8)/(DATE(YEAR(AO8),12,31)-DATE(YEAR(AO8),1,1)+1)+(AP8-DATE(YEAR(AP8),1,1))/(DATE(YEAR(AP8),12,31)-DATE(YEAR(AP8),1,1)+1)),2)) | AR8: =IF(AO8="","",ROUND(AR7+AQ8+IF(AP8<'Навигатор накоплений'!F28,N('Навигатор накоплений'!G28),0),2)) | AT8: =IF(OR(K8="",L8="",M8="",L8<=K8),0,ROUND(M8*MAX(0,MIN(L8,DATE(2027,1,1))-MAX(K8,DATE(2026,1,1)))/(L8-K8),2)) -> 0 | AU8: =IF(OR(P8="",Q8="",R8="",Q8<=P8),0,ROUND(R8*MAX(0,MIN(Q8,DATE(2027,1,1))-MAX(P8,DATE(2026,1,1)))/(Q8-P8),2)) -> 0 | AV8: =IF(OR(U8="",V8="",W8="",V8<=U8),0,ROUND(W8*MAX(0,MIN(V8,DATE(2027,1,1))-MAX(U8,DATE(2026,1,1)))/(V8-U8),2)) -> 0 | AW8: =IF(OR(Z8="",AA8="",AB8="",AA8<=Z8),0,ROUND(AB8*MAX(0,MIN(AA8,DATE(2027,1,1))-MAX(Z8,DATE(2026,1,1)))/(AA8-Z8),2)) -> 0 | AX8: =IF(OR(AE8="",AF8="",AG8="",AF8<=AE8),0,ROUND(AG8*MAX(0,MIN(AF8,DATE(2027,1,1))-MAX(AE8,DATE(2026,1,1)))/(AF8-AE8),2)) -> 0 | AY8: =IF(OR(AJ8="",AK8="",AL8="",AK8<=AJ8),0,ROUND(AL8*MAX(0,MIN(AK8,DATE(2027,1,1))-MAX(AJ8,DATE(2026,1,1)))/(AK8-AJ8),2)) -> 0 | AZ8: =IF(OR(AO8="",AP8="",AQ8="",AP8<=AO8),0,ROUND(AQ8*MAX(0,MIN(AP8,DATE(2027,1,1))-MAX(AO8,DATE(2026,1,1)))/(AP8-AO8),2)) -> 0 | BA8: =IF(OR(B11="",C11="",H11="",C11<=B11),0,ROUND(H11*MAX(0,MIN(C11,DATE(2027,1,1))-MAX(B11,DATE(2026,1,1)))/(C11-B11),2)) -> 0 | BB8: =IF(OR(B28="",C28="",H28="",C28<=B28),0,ROUND(H28*MAX(0,MIN(C28,DATE(2027,1,1))-MAX(B28,DATE(2026,1,1)))/(C28-B28),2)) -> 0 | BC8: =IF(OR(B45="",C45="",H45="",C45<=B45),0,ROUND(H45*MAX(0,MIN(C45,DATE(2027,1,1))-MAX(B45,DATE(2026,1,1)))/(C45-B45),2)) -> 0 | BD8: =IF(OR(B62="",C62="",H62="",C62<=B62),0,ROUND(H62*MAX(0,MIN(C62,DATE(2027,1,1))-MAX(B62,DATE(2026,1,1)))/(C62-B62),2)) -> 0 | BE8: =IF(OR(B79="",C79="",H79="",C79<=B79),0,ROUND(H79*MAX(0,MIN(C79,DATE(2027,1,1))-MAX(B79,DATE(2026,1,1)))/(C79-B79),2)) -> 0 | BF8: =IF(OR(B96="",C96="",H96="",C96<=B96),0,ROUND(H96*MAX(0,MIN(C96,DATE(2027,1,1))-MAX(B96,DATE(2026,1,1)))/(C96-B96),2)) -> 0
A9: Месяц | B9: Начало периода | C9: Конец периода | D9: Остаток на начало, ₽ | E9: Пополнение, ₽ | F9: База для процентов, ₽ | G9: Дней | H9: Начислено процентов, ₽ | I9: Остаток на конец, ₽ | K9: =IF('Навигатор накоплений'!A22="","",IF(3<=DATEDIF('Навигатор накоплений'!E22,'Навигатор накоплений'!F22,"m")+IF(EDATE('Навигатор накоплений'!E22,DATEDIF('Навигатор накоплений'!E22,'Навигатор накоплений'!F22,"m"))<'Навигатор накоплений'!F22,1,0),L8,"")) | L9: =IF(K9="","",MIN(EDATE('Навигатор накоплений'!E22,3),'Навигатор накоплений'!F22)) | M9: =IF(K9="","",ROUND(N8*'Навигатор накоплений'!D22*IF(YEAR(K9)=YEAR(L9-1),(L9-K9)/(DATE(YEAR(K9),12,31)-DATE(YEAR(K9),1,1)+1),(DATE(YEAR(K9)+1,1,1)-K9)/(DATE(YEAR(K9),12,31)-DATE(YEAR(K9),1,1)+1)+(L9-DATE(YEAR(L9),1,1))/(DATE(YEAR(L9),12,31)-DATE(YEAR(L9),1,1)+1)),2)) | N9: =IF(K9="","",ROUND(N8+M9+IF(L9<'Навигатор накоплений'!F22,N('Навигатор накоплений'!G22),0),2)) | P9: =IF('Навигатор накоплений'!A23="","",IF(3<=DATEDIF('Навигатор накоплений'!E23,'Навигатор накоплений'!F23,"m")+IF(EDATE('Навигатор накоплений'!E23,DATEDIF('Навигатор накоплений'!E23,'Навигатор накоплений'!F23,"m"))<'Навигатор накоплений'!F23,1,0),Q8,"")) | Q9: =IF(P9="","",MIN(EDATE('Навигатор накоплений'!E23,3),'Навигатор накоплений'!F23)) | R9: =IF(P9="","",ROUND(S8*'Навигатор накоплений'!D23*IF(YEAR(P9)=YEAR(Q9-1),(Q9-P9)/(DATE(YEAR(P9),12,31)-DATE(YEAR(P9),1,1)+1),(DATE(YEAR(P9)+1,1,1)-P9)/(DATE(YEAR(P9),12,31)-DATE(YEAR(P9),1,1)+1)+(Q9-DATE(YEAR(Q9),1,1))/(DATE(YEAR(Q9),12,31)-DATE(YEAR(Q9),1,1)+1)),2)) | S9: =IF(P9="","",ROUND(S8+R9+IF(Q9<'Навигатор накоплений'!F23,N('Навигатор накоплений'!G23),0),2)) | U9: =IF('Навигатор накоплений'!A24="","",IF(3<=DATEDIF('Навигатор накоплений'!E24,'Навигатор накоплений'!F24,"m")+IF(EDATE('Навигатор накоплений'!E24,DATEDIF('Навигатор накоплений'!E24,'Навигатор накоплений'!F24,"m"))<'Навигатор накоплений'!F24,1,0),V8,"")) | V9: =IF(U9="","",MIN(EDATE('Навигатор накоплений'!E24,3),'Навигатор накоплений'!F24)) | W9: =IF(U9="","",ROUND(X8*'Навигатор накоплений'!D24*IF(YEAR(U9)=YEAR(V9-1),(V9-U9)/(DATE(YEAR(U9),12,31)-DATE(YEAR(U9),1,1)+1),(DATE(YEAR(U9)+1,1,1)-U9)/(DATE(YEAR(U9),12,31)-DATE(YEAR(U9),1,1)+1)+(V9-DATE(YEAR(V9),1,1))/(DATE(YEAR(V9),12,31)-DATE(YEAR(V9),1,1)+1)),2)) | X9: =IF(U9="","",ROUND(X8+W9+IF(V9<'Навигатор накоплений'!F24,N('Навигатор накоплений'!G24),0),2)) | Z9: =IF('Навигатор накоплений'!A25="","",IF(3<=DATEDIF('Навигатор накоплений'!E25,'Навигатор накоплений'!F25,"m")+IF(EDATE('Навигатор накоплений'!E25,DATEDIF('Навигатор накоплений'!E25,'Навигатор накоплений'!F25,"m"))<'Навигатор накоплений'!F25,1,0),AA8,"")) | AA9: =IF(Z9="","",MIN(EDATE('Навигатор накоплений'!E25,3),'Навигатор накоплений'!F25)) | AB9: =IF(Z9="","",ROUND(AC8*'Навигатор накоплений'!D25*IF(YEAR(Z9)=YEAR(AA9-1),(AA9-Z9)/(DATE(YEAR(Z9),12,31)-DATE(YEAR(Z9),1,1)+1),(DATE(YEAR(Z9)+1,1,1)-Z9)/(DATE(YEAR(Z9),12,31)-DATE(YEAR(Z9),1,1)+1)+(AA9-DATE(YEAR(AA9),1,1))/(DATE(YEAR(AA9),12,31)-DATE(YEAR(AA9),1,1)+1)),2)) | AC9: =IF(Z9="","",ROUND(AC8+AB9+IF(AA9<'Навигатор накоплений'!F25,N('Навигатор накоплений'!G25),0),2)) | AE9: =IF('Навигатор накоплений'!A26="","",IF(3<=DATEDIF('Навигатор накоплений'!E26,'Навигатор накоплений'!F26,"m")+IF(EDATE('Навигатор накоплений'!E26,DATEDIF('Навигатор накоплений'!E26,'Навигатор накоплений'!F26,"m"))<'Навигатор накоплений'!F26,1,0),AF8,"")) | AF9: =IF(AE9="","",MIN(EDATE('Навигатор накоплений'!E26,3),'Навигатор накоплений'!F26)) | AG9: =IF(AE9="","",ROUND(AH8*'Навигатор накоплений'!D26*IF(YEAR(AE9)=YEAR(AF9-1),(AF9-AE9)/(DATE(YEAR(AE9),12,31)-DATE(YEAR(AE9),1,1)+1),(DATE(YEAR(AE9)+1,1,1)-AE9)/(DATE(YEAR(AE9),12,31)-DATE(YEAR(AE9),1,1)+1)+(AF9-DATE(YEAR(AF9),1,1))/(DATE(YEAR(AF9),12,31)-DATE(YEAR(AF9),1,1)+1)),2)) | AH9: =IF(AE9="","",ROUND(AH8+AG9+IF(AF9<'Навигатор накоплений'!F26,N('Навигатор накоплений'!G26),0),2)) | AJ9: =IF('Навигатор накоплений'!A27="","",IF(3<=DATEDIF('Навигатор накоплений'!E27,'Навигатор накоплений'!F27,"m")+IF(EDATE('Навигатор накоплений'!E27,DATEDIF('Навигатор накоплений'!E27,'Навигатор накоплений'!F27,"m"))<'Навигатор накоплений'!F27,1,0),AK8,"")) | AK9: =IF(AJ9="","",MIN(EDATE('Навигатор накоплений'!E27,3),'Навигатор накоплений'!F27)) | AL9: =IF(AJ9="","",ROUND(AM8*'Навигатор накоплений'!D27*IF(YEAR(AJ9)=YEAR(AK9-1),(AK9-AJ9)/(DATE(YEAR(AJ9),12,31)-DATE(YEAR(AJ9),1,1)+1),(DATE(YEAR(AJ9)+1,1,1)-AJ9)/(DATE(YEAR(AJ9),12,31)-DATE(YEAR(AJ9),1,1)+1)+(AK9-DATE(YEAR(AK9),1,1))/(DATE(YEAR(AK9),12,31)-DATE(YEAR(AK9),1,1)+1)),2)) | AM9: =IF(AJ9="","",ROUND(AM8+AL9+IF(AK9<'Навигатор накоплений'!F27,N('Навигатор накоплений'!G27),0),2)) | AO9: =IF('Навигатор накоплений'!A28="","",IF(3<=DATEDIF('Навигатор накоплений'!E28,'Навигатор накоплений'!F28,"m")+IF(EDATE('Навигатор накоплений'!E28,DATEDIF('Навигатор накоплений'!E28,'Навигатор накоплений'!F28,"m"))<'Навигатор накоплений'!F28,1,0),AP8,"")) | AP9: =IF(AO9="","",MIN(EDATE('Навигатор накоплений'!E28,3),'Навигатор накоплений'!F28)) | AQ9: =IF(AO9="","",ROUND(AR8*'Навигатор накоплений'!D28*IF(YEAR(AO9)=YEAR(AP9-1),(AP9-AO9)/(DATE(YEAR(AO9),12,31)-DATE(YEAR(AO9),1,1)+1),(DATE(YEAR(AO9)+1,1,1)-AO9)/(DATE(YEAR(AO9),12,31)-DATE(YEAR(AO9),1,1)+1)+(AP9-DATE(YEAR(AP9),1,1))/(DATE(YEAR(AP9),12,31)-DATE(YEAR(AP9),1,1)+1)),2)) | AR9: =IF(AO9="","",ROUND(AR8+AQ9+IF(AP9<'Навигатор накоплений'!F28,N('Навигатор накоплений'!G28),0),2)) | AT9: =IF(OR(K9="",L9="",M9="",L9<=K9),0,ROUND(M9*MAX(0,MIN(L9,DATE(2027,1,1))-MAX(K9,DATE(2026,1,1)))/(L9-K9),2)) -> 0 | AU9: =IF(OR(P9="",Q9="",R9="",Q9<=P9),0,ROUND(R9*MAX(0,MIN(Q9,DATE(2027,1,1))-MAX(P9,DATE(2026,1,1)))/(Q9-P9),2)) -> 0 | AV9: =IF(OR(U9="",V9="",W9="",V9<=U9),0,ROUND(W9*MAX(0,MIN(V9,DATE(2027,1,1))-MAX(U9,DATE(2026,1,1)))/(V9-U9),2)) -> 0 | AW9: =IF(OR(Z9="",AA9="",AB9="",AA9<=Z9),0,ROUND(AB9*MAX(0,MIN(AA9,DATE(2027,1,1))-MAX(Z9,DATE(2026,1,1)))/(AA9-Z9),2)) -> 0 | AX9: =IF(OR(AE9="",AF9="",AG9="",AF9<=AE9),0,ROUND(AG9*MAX(0,MIN(AF9,DATE(2027,1,1))-MAX(AE9,DATE(2026,1,1)))/(AF9-AE9),2)) -> 0 | AY9: =IF(OR(AJ9="",AK9="",AL9="",AK9<=AJ9),0,ROUND(AL9*MAX(0,MIN(AK9,DATE(2027,1,1))-MAX(AJ9,DATE(2026,1,1)))/(AK9-AJ9),2)) -> 0 | AZ9: =IF(OR(AO9="",AP9="",AQ9="",AP9<=AO9),0,ROUND(AQ9*MAX(0,MIN(AP9,DATE(2027,1,1))-MAX(AO9,DATE(2026,1,1)))/(AP9-AO9),2)) -> 0 | BA9: =IF(OR(B12="",C12="",H12="",C12<=B12),0,ROUND(H12*MAX(0,MIN(C12,DATE(2027,1,1))-MAX(B12,DATE(2026,1,1)))/(C12-B12),2)) -> 0 | BB9: =IF(OR(B29="",C29="",H29="",C29<=B29),0,ROUND(H29*MAX(0,MIN(C29,DATE(2027,1,1))-MAX(B29,DATE(2026,1,1)))/(C29-B29),2)) -> 0 | BC9: =IF(OR(B46="",C46="",H46="",C46<=B46),0,ROUND(H46*MAX(0,MIN(C46,DATE(2027,1,1))-MAX(B46,DATE(2026,1,1)))/(C46-B46),2)) -> 0 | BD9: =IF(OR(B63="",C63="",H63="",C63<=B63),0,ROUND(H63*MAX(0,MIN(C63,DATE(2027,1,1))-MAX(B63,DATE(2026,1,1)))/(C63-B63),2)) -> 0 | BE9: =IF(OR(B80="",C80="",H80="",C80<=B80),0,ROUND(H80*MAX(0,MIN(C80,DATE(2027,1,1))-MAX(B80,DATE(2026,1,1)))/(C80-B80),2)) -> 0 | BF9: =IF(OR(B97="",C97="",H97="",C97<=B97),0,ROUND(H97*MAX(0,MIN(C97,DATE(2027,1,1))-MAX(B97,DATE(2026,1,1)))/(C97-B97),2)) -> 0
A10: 1 | B10: =IF('Навигатор накоплений'!A31="","",EDATE('Навигатор накоплений'!C31,A10-1)) | C10: =IF(B10="","",EDATE('Навигатор накоплений'!C31,A10)) | D10: =IF(B10="","",'Навигатор накоплений'!D31) | E10: =IF(B10="","",N('Навигатор накоплений'!G31)) | F10: =IF(B10="","",IF('Навигатор накоплений'!F31="Ежедневный остаток",D10+E10,D10)) | G10: =IF(B10="","",C10-B10) | H10: =IF(B10="","",ROUND(F10*'Навигатор накоплений'!E31*IF(YEAR(B10)=YEAR(C10-1),(C10-B10)/(DATE(YEAR(B10),12,31)-DATE(YEAR(B10),1,1)+1),(DATE(YEAR(B10)+1,1,1)-B10)/(DATE(YEAR(B10),12,31)-DATE(YEAR(B10),1,1)+1)+(C10-DATE(YEAR(C10),1,1))/(DATE(YEAR(C10),12,31)-DATE(YEAR(C10),1,1)+1)),2)) | I10: =IF(B10="","",ROUND(D10+E10+H10,2)) | K10: =IF('Навигатор накоплений'!A22="","",IF(4<=DATEDIF('Навигатор накоплений'!E22,'Навигатор накоплений'!F22,"m")+IF(EDATE('Навигатор накоплений'!E22,DATEDIF('Навигатор накоплений'!E22,'Навигатор накоплений'!F22,"m"))<'Навигатор накоплений'!F22,1,0),L9,"")) | L10: =IF(K10="","",MIN(EDATE('Навигатор накоплений'!E22,4),'Навигатор накоплений'!F22)) | M10: =IF(K10="","",ROUND(N9*'Навигатор накоплений'!D22*IF(YEAR(K10)=YEAR(L10-1),(L10-K10)/(DATE(YEAR(K10),12,31)-DATE(YEAR(K10),1,1)+1),(DATE(YEAR(K10)+1,1,1)-K10)/(DATE(YEAR(K10),12,31)-DATE(YEAR(K10),1,1)+1)+(L10-DATE(YEAR(L10),1,1))/(DATE(YEAR(L10),12,31)-DATE(YEAR(L10),1,1)+1)),2)) | N10: =IF(K10="","",ROUND(N9+M10+IF(L10<'Навигатор накоплений'!F22,N('Навигатор накоплений'!G22),0),2)) | P10: =IF('Навигатор накоплений'!A23="","",IF(4<=DATEDIF('Навигатор накоплений'!E23,'Навигатор накоплений'!F23,"m")+IF(EDATE('Навигатор накоплений'!E23,DATEDIF('Навигатор накоплений'!E23,'Навигатор накоплений'!F23,"m"))<'Навигатор накоплений'!F23,1,0),Q9,"")) | Q10: =IF(P10="","",MIN(EDATE('Навигатор накоплений'!E23,4),'Навигатор накоплений'!F23)) | R10: =IF(P10="","",ROUND(S9*'Навигатор накоплений'!D23*IF(YEAR(P10)=YEAR(Q10-1),(Q10-P10)/(DATE(YEAR(P10),12,31)-DATE(YEAR(P10),1,1)+1),(DATE(YEAR(P10)+1,1,1)-P10)/(DATE(YEAR(P10),12,31)-DATE(YEAR(P10),1,1)+1)+(Q10-DATE(YEAR(Q10),1,1))/(DATE(YEAR(Q10),12,31)-DATE(YEAR(Q10),1,1)+1)),2)) | S10: =IF(P10="","",ROUND(S9+R10+IF(Q10<'Навигатор накоплений'!F23,N('Навигатор накоплений'!G23),0),2)) | U10: =IF('Навигатор накоплений'!A24="","",IF(4<=DATEDIF('Навигатор накоплений'!E24,'Навигатор накоплений'!F24,"m")+IF(EDATE('Навигатор накоплений'!E24,DATEDIF('Навигатор накоплений'!E24,'Навигатор накоплений'!F24,"m"))<'Навигатор накоплений'!F24,1,0),V9,"")) | V10: =IF(U10="","",MIN(EDATE('Навигатор накоплений'!E24,4),'Навигатор накоплений'!F24)) | W10: =IF(U10="","",ROUND(X9*'Навигатор накоплений'!D24*IF(YEAR(U10)=YEAR(V10-1),(V10-U10)/(DATE(YEAR(U10),12,31)-DATE(YEAR(U10),1,1)+1),(DATE(YEAR(U10)+1,1,1)-U10)/(DATE(YEAR(U10),12,31)-DATE(YEAR(U10),1,1)+1)+(V10-DATE(YEAR(V10),1,1))/(DATE(YEAR(V10),12,31)-DATE(YEAR(V10),1,1)+1)),2)) | X10: =IF(U10="","",ROUND(X9+W10+IF(V10<'Навигатор накоплений'!F24,N('Навигатор накоплений'!G24),0),2)) | Z10: =IF('Навигатор накоплений'!A25="","",IF(4<=DATEDIF('Навигатор накоплений'!E25,'Навигатор накоплений'!F25,"m")+IF(EDATE('Навигатор накоплений'!E25,DATEDIF('Навигатор накоплений'!E25,'Навигатор накоплений'!F25,"m"))<'Навигатор накоплений'!F25,1,0),AA9,"")) | AA10: =IF(Z10="","",MIN(EDATE('Навигатор накоплений'!E25,4),'Навигатор накоплений'!F25)) | AB10: =IF(Z10="","",ROUND(AC9*'Навигатор накоплений'!D25*IF(YEAR(Z10)=YEAR(AA10-1),(AA10-Z10)/(DATE(YEAR(Z10),12,31)-DATE(YEAR(Z10),1,1)+1),(DATE(YEAR(Z10)+1,1,1)-Z10)/(DATE(YEAR(Z10),12,31)-DATE(YEAR(Z10),1,1)+1)+(AA10-DATE(YEAR(AA10),1,1))/(DATE(YEAR(AA10),12,31)-DATE(YEAR(AA10),1,1)+1)),2)) | AC10: =IF(Z10="","",ROUND(AC9+AB10+IF(AA10<'Навигатор накоплений'!F25,N('Навигатор накоплений'!G25),0),2)) | AE10: =IF('Навигатор накоплений'!A26="","",IF(4<=DATEDIF('Навигатор накоплений'!E26,'Навигатор накоплений'!F26,"m")+IF(EDATE('Навигатор накоплений'!E26,DATEDIF('Навигатор накоплений'!E26,'Навигатор накоплений'!F26,"m"))<'Навигатор накоплений'!F26,1,0),AF9,"")) | AF10: =IF(AE10="","",MIN(EDATE('Навигатор накоплений'!E26,4),'Навигатор накоплений'!F26)) | AG10: =IF(AE10="","",ROUND(AH9*'Навигатор накоплений'!D26*IF(YEAR(AE10)=YEAR(AF10-1),(AF10-AE10)/(DATE(YEAR(AE10),12,31)-DATE(YEAR(AE10),1,1)+1),(DATE(YEAR(AE10)+1,1,1)-AE10)/(DATE(YEAR(AE10),12,31)-DATE(YEAR(AE10),1,1)+1)+(AF10-DATE(YEAR(AF10),1,1))/(DATE(YEAR(AF10),12,31)-DATE(YEAR(AF10),1,1)+1)),2)) | AH10: =IF(AE10="","",ROUND(AH9+AG10+IF(AF10<'Навигатор накоплений'!F26,N('Навигатор накоплений'!G26),0),2)) | AJ10: =IF('Навигатор накоплений'!A27="","",IF(4<=DATEDIF('Навигатор накоплений'!E27,'Навигатор накоплений'!F27,"m")+IF(EDATE('Навигатор накоплений'!E27,DATEDIF('Навигатор накоплений'!E27,'Навигатор накоплений'!F27,"m"))<'Навигатор накоплений'!F27,1,0),AK9,"")) | AK10: =IF(AJ10="","",MIN(EDATE('Навигатор накоплений'!E27,4),'Навигатор накоплений'!F27)) | AL10: =IF(AJ10="","",ROUND(AM9*'Навигатор накоплений'!D27*IF(YEAR(AJ10)=YEAR(AK10-1),(AK10-AJ10)/(DATE(YEAR(AJ10),12,31)-DATE(YEAR(AJ10),1,1)+1),(DATE(YEAR(AJ10)+1,1,1)-AJ10)/(DATE(YEAR(AJ10),12,31)-DATE(YEAR(AJ10),1,1)+1)+(AK10-DATE(YEAR(AK10),1,1))/(DATE(YEAR(AK10),12,31)-DATE(YEAR(AK10),1,1)+1)),2)) | AM10: =IF(AJ10="","",ROUND(AM9+AL10+IF(AK10<'Навигатор накоплений'!F27,N('Навигатор накоплений'!G27),0),2)) | AO10: =IF('Навигатор накоплений'!A28="","",IF(4<=DATEDIF('Навигатор накоплений'!E28,'Навигатор накоплений'!F28,"m")+IF(EDATE('Навигатор накоплений'!E28,DATEDIF('Навигатор накоплений'!E28,'Навигатор накоплений'!F28,"m"))<'Навигатор накоплений'!F28,1,0),AP9,"")) | AP10: =IF(AO10="","",MIN(EDATE('Навигатор накоплений'!E28,4),'Навигатор накоплений'!F28)) | AQ10: =IF(AO10="","",ROUND(AR9*'Навигатор накоплений'!D28*IF(YEAR(AO10)=YEAR(AP10-1),(AP10-AO10)/(DATE(YEAR(AO10),12,31)-DATE(YEAR(AO10),1,1)+1),(DATE(YEAR(AO10)+1,1,1)-AO10)/(DATE(YEAR(AO10),12,31)-DATE(YEAR(AO10),1,1)+1)+(AP10-DATE(YEAR(AP10),1,1))/(DATE(YEAR(AP10),12,31)-DATE(YEAR(AP10),1,1)+1)),2)) | AR10: =IF(AO10="","",ROUND(AR9+AQ10+IF(AP10<'Навигатор накоплений'!F28,N('Навигатор накоплений'!G28),0),2)) | AT10: =IF(OR(K10="",L10="",M10="",L10<=K10),0,ROUND(M10*MAX(0,MIN(L10,DATE(2027,1,1))-MAX(K10,DATE(2026,1,1)))/(L10-K10),2)) -> 0 | AU10: =IF(OR(P10="",Q10="",R10="",Q10<=P10),0,ROUND(R10*MAX(0,MIN(Q10,DATE(2027,1,1))-MAX(P10,DATE(2026,1,1)))/(Q10-P10),2)) -> 0 | AV10: =IF(OR(U10="",V10="",W10="",V10<=U10),0,ROUND(W10*MAX(0,MIN(V10,DATE(2027,1,1))-MAX(U10,DATE(2026,1,1)))/(V10-U10),2)) -> 0 | AW10: =IF(OR(Z10="",AA10="",AB10="",AA10<=Z10),0,ROUND(AB10*MAX(0,MIN(AA10,DATE(2027,1,1))-MAX(Z10,DATE(2026,1,1)))/(AA10-Z10),2)) -> 0 | AX10: =IF(OR(AE10="",AF10="",AG10="",AF10<=AE10),0,ROUND(AG10*MAX(0,MIN(AF10,DATE(2027,1,1))-MAX(AE10,DATE(2026,1,1)))/(AF10-AE10),2)) -> 0 | AY10: =IF(OR(AJ10="",AK10="",AL10="",AK10<=AJ10),0,ROUND(AL10*MAX(0,MIN(AK10,DATE(2027,1,1))-MAX(AJ10,DATE(2026,1,1)))/(AK10-AJ10),2)) -> 0 | AZ10: =IF(OR(AO10="",AP10="",AQ10="",AP10<=AO10),0,ROUND(AQ10*MAX(0,MIN(AP10,DATE(2027,1,1))-MAX(AO10,DATE(2026,1,1)))/(AP10-AO10),2)) -> 0 | BA10: =IF(OR(B13="",C13="",H13="",C13<=B13),0,ROUND(H13*MAX(0,MIN(C13,DATE(2027,1,1))-MAX(B13,DATE(2026,1,1)))/(C13-B13),2)) -> 0 | BB10: =IF(OR(B30="",C30="",H30="",C30<=B30),0,ROUND(H30*MAX(0,MIN(C30,DATE(2027,1,1))-MAX(B30,DATE(2026,1,1)))/(C30-B30),2)) -> 0 | BC10: =IF(OR(B47="",C47="",H47="",C47<=B47),0,ROUND(H47*MAX(0,MIN(C47,DATE(2027,1,1))-MAX(B47,DATE(2026,1,1)))/(C47-B47),2)) -> 0 | BD10: =IF(OR(B64="",C64="",H64="",C64<=B64),0,ROUND(H64*MAX(0,MIN(C64,DATE(2027,1,1))-MAX(B64,DATE(2026,1,1)))/(C64-B64),2)) -> 0 | BE10: =IF(OR(B81="",C81="",H81="",C81<=B81),0,ROUND(H81*MAX(0,MIN(C81,DATE(2027,1,1))-MAX(B81,DATE(2026,1,1)))/(C81-B81),2)) -> 0 | BF10: =IF(OR(B98="",C98="",H98="",C98<=B98),0,ROUND(H98*MAX(0,MIN(C98,DATE(2027,1,1))-MAX(B98,DATE(2026,1,1)))/(C98-B98),2)) -> 0
A11: 2 | B11: =IF('Навигатор накоплений'!A31="","",EDATE('Навигатор накоплений'!C31,A11-1)) | C11: =IF(B11="","",EDATE('Навигатор накоплений'!C31,A11)) | D11: =IF(B11="","",I10) | E11: =IF(B11="","",N('Навигатор накоплений'!G31)) | F11: =IF(B11="","",IF('Навигатор накоплений'!F31="Ежедневный остаток",D11+E11,D11)) | G11: =IF(B11="","",C11-B11) | H11: =IF(B11="","",ROUND(F11*'Навигатор накоплений'!E31*IF(YEAR(B11)=YEAR(C11-1),(C11-B11)/(DATE(YEAR(B11),12,31)-DATE(YEAR(B11),1,1)+1),(DATE(YEAR(B11)+1,1,1)-B11)/(DATE(YEAR(B11),12,31)-DATE(YEAR(B11),1,1)+1)+(C11-DATE(YEAR(C11),1,1))/(DATE(YEAR(C11),12,31)-DATE(YEAR(C11),1,1)+1)),2)) | I11: =IF(B11="","",ROUND(D11+E11+H11,2)) | K11: =IF('Навигатор накоплений'!A22="","",IF(5<=DATEDIF('Навигатор накоплений'!E22,'Навигатор накоплений'!F22,"m")+IF(EDATE('Навигатор накоплений'!E22,DATEDIF('Навигатор накоплений'!E22,'Навигатор накоплений'!F22,"m"))<'Навигатор накоплений'!F22,1,0),L10,"")) | L11: =IF(K11="","",MIN(EDATE('Навигатор накоплений'!E22,5),'Навигатор накоплений'!F22)) | M11: =IF(K11="","",ROUND(N10*'Навигатор накоплений'!D22*IF(YEAR(K11)=YEAR(L11-1),(L11-K11)/(DATE(YEAR(K11),12,31)-DATE(YEAR(K11),1,1)+1),(DATE(YEAR(K11)+1,1,1)-K11)/(DATE(YEAR(K11),12,31)-DATE(YEAR(K11),1,1)+1)+(L11-DATE(YEAR(L11),1,1))/(DATE(YEAR(L11),12,31)-DATE(YEAR(L11),1,1)+1)),2)) | N11: =IF(K11="","",ROUND(N10+M11+IF(L11<'Навигатор накоплений'!F22,N('Навигатор накоплений'!G22),0),2)) | P11: =IF('Навигатор накоплений'!A23="","",IF(5<=DATEDIF('Навигатор накоплений'!E23,'Навигатор накоплений'!F23,"m")+IF(EDATE('Навигатор накоплений'!E23,DATEDIF('Навигатор накоплений'!E23,'Навигатор накоплений'!F23,"m"))<'Навигатор накоплений'!F23,1,0),Q10,"")) | Q11: =IF(P11="","",MIN(EDATE('Навигатор накоплений'!E23,5),'Навигатор накоплений'!F23)) | R11: =IF(P11="","",ROUND(S10*'Навигатор накоплений'!D23*IF(YEAR(P11)=YEAR(Q11-1),(Q11-P11)/(DATE(YEAR(P11),12,31)-DATE(YEAR(P11),1,1)+1),(DATE(YEAR(P11)+1,1,1)-P11)/(DATE(YEAR(P11),12,31)-DATE(YEAR(P11),1,1)+1)+(Q11-DATE(YEAR(Q11),1,1))/(DATE(YEAR(Q11),12,31)-DATE(YEAR(Q11),1,1)+1)),2)) | S11: =IF(P11="","",ROUND(S10+R11+IF(Q11<'Навигатор накоплений'!F23,N('Навигатор накоплений'!G23),0),2)) | U11: =IF('Навигатор накоплений'!A24="","",IF(5<=DATEDIF('Навигатор накоплений'!E24,'Навигатор накоплений'!F24,"m")+IF(EDATE('Навигатор накоплений'!E24,DATEDIF('Навигатор накоплений'!E24,'Навигатор накоплений'!F24,"m"))<'Навигатор накоплений'!F24,1,0),V10,"")) | V11: =IF(U11="","",MIN(EDATE('Навигатор накоплений'!E24,5),'Навигатор накоплений'!F24)) | W11: =IF(U11="","",ROUND(X10*'Навигатор накоплений'!D24*IF(YEAR(U11)=YEAR(V11-1),(V11-U11)/(DATE(YEAR(U11),12,31)-DATE(YEAR(U11),1,1)+1),(DATE(YEAR(U11)+1,1,1)-U11)/(DATE(YEAR(U11),12,31)-DATE(YEAR(U11),1,1)+1)+(V11-DATE(YEAR(V11),1,1))/(DATE(YEAR(V11),12,31)-DATE(YEAR(V11),1,1)+1)),2)) | X11: =IF(U11="","",ROUND(X10+W11+IF(V11<'Навигатор накоплений'!F24,N('Навигатор накоплений'!G24),0),2)) | Z11: =IF('Навигатор накоплений'!A25="","",IF(5<=DATEDIF('Навигатор накоплений'!E25,'Навигатор накоплений'!F25,"m")+IF(EDATE('Навигатор накоплений'!E25,DATEDIF('Навигатор накоплений'!E25,'Навигатор накоплений'!F25,"m"))<'Навигатор накоплений'!F25,1,0),AA10,"")) | AA11: =IF(Z11="","",MIN(EDATE('Навигатор накоплений'!E25,5),'Навигатор накоплений'!F25)) | AB11: =IF(Z11="","",ROUND(AC10*'Навигатор накоплений'!D25*IF(YEAR(Z11)=YEAR(AA11-1),(AA11-Z11)/(DATE(YEAR(Z11),12,31)-DATE(YEAR(Z11),1,1)+1),(DATE(YEAR(Z11)+1,1,1)-Z11)/(DATE(YEAR(Z11),12,31)-DATE(YEAR(Z11),1,1)+1)+(AA11-DATE(YEAR(AA11),1,1))/(DATE(YEAR(AA11),12,31)-DATE(YEAR(AA11),1,1)+1)),2)) | AC11: =IF(Z11="","",ROUND(AC10+AB11+IF(AA11<'Навигатор накоплений'!F25,N('Навигатор накоплений'!G25),0),2)) | AE11: =IF('Навигатор накоплений'!A26="","",IF(5<=DATEDIF('Навигатор накоплений'!E26,'Навигатор накоплений'!F26,"m")+IF(EDATE('Навигатор накоплений'!E26,DATEDIF('Навигатор накоплений'!E26,'Навигатор накоплений'!F26,"m"))<'Навигатор накоплений'!F26,1,0),AF10,"")) | AF11: =IF(AE11="","",MIN(EDATE('Навигатор накоплений'!E26,5),'Навигатор накоплений'!F26)) | AG11: =IF(AE11="","",ROUND(AH10*'Навигатор накоплений'!D26*IF(YEAR(AE11)=YEAR(AF11-1),(AF11-AE11)/(DATE(YEAR(AE11),12,31)-DATE(YEAR(AE11),1,1)+1),(DATE(YEAR(AE11)+1,1,1)-AE11)/(DATE(YEAR(AE11),12,31)-DATE(YEAR(AE11),1,1)+1)+(AF11-DATE(YEAR(AF11),1,1))/(DATE(YEAR(AF11),12,31)-DATE(YEAR(AF11),1,1)+1)),2)) | AH11: =IF(AE11="","",ROUND(AH10+AG11+IF(AF11<'Навигатор накоплений'!F26,N('Навигатор накоплений'!G26),0),2)) | AJ11: =IF('Навигатор накоплений'!A27="","",IF(5<=DATEDIF('Навигатор накоплений'!E27,'Навигатор накоплений'!F27,"m")+IF(EDATE('Навигатор накоплений'!E27,DATEDIF('Навигатор накоплений'!E27,'Навигатор накоплений'!F27,"m"))<'Навигатор накоплений'!F27,1,0),AK10,"")) | AK11: =IF(AJ11="","",MIN(EDATE('Навигатор накоплений'!E27,5),'Навигатор накоплений'!F27)) | AL11: =IF(AJ11="","",ROUND(AM10*'Навигатор накоплений'!D27*IF(YEAR(AJ11)=YEAR(AK11-1),(AK11-AJ11)/(DATE(YEAR(AJ11),12,31)-DATE(YEAR(AJ11),1,1)+1),(DATE(YEAR(AJ11)+1,1,1)-AJ11)/(DATE(YEAR(AJ11),12,31)-DATE(YEAR(AJ11),1,1)+1)+(AK11-DATE(YEAR(AK11),1,1))/(DATE(YEAR(AK11),12,31)-DATE(YEAR(AK11),1,1)+1)),2)) | AM11: =IF(AJ11="","",ROUND(AM10+AL11+IF(AK11<'Навигатор накоплений'!F27,N('Навигатор накоплений'!G27),0),2)) | AO11: =IF('Навигатор накоплений'!A28="","",IF(5<=DATEDIF('Навигатор накоплений'!E28,'Навигатор накоплений'!F28,"m")+IF(EDATE('Навигатор накоплений'!E28,DATEDIF('Навигатор накоплений'!E28,'Навигатор накоплений'!F28,"m"))<'Навигатор накоплений'!F28,1,0),AP10,"")) | AP11: =IF(AO11="","",MIN(EDATE('Навигатор накоплений'!E28,5),'Навигатор накоплений'!F28)) | AQ11: =IF(AO11="","",ROUND(AR10*'Навигатор накоплений'!D28*IF(YEAR(AO11)=YEAR(AP11-1),(AP11-AO11)/(DATE(YEAR(AO11),12,31)-DATE(YEAR(AO11),1,1)+1),(DATE(YEAR(AO11)+1,1,1)-AO11)/(DATE(YEAR(AO11),12,31)-DATE(YEAR(AO11),1,1)+1)+(AP11-DATE(YEAR(AP11),1,1))/(DATE(YEAR(AP11),12,31)-DATE(YEAR(AP11),1,1)+1)),2)) | AR11: =IF(AO11="","",ROUND(AR10+AQ11+IF(AP11<'Навигатор накоплений'!F28,N('Навигатор накоплений'!G28),0),2)) | AT11: =IF(OR(K11="",L11="",M11="",L11<=K11),0,ROUND(M11*MAX(0,MIN(L11,DATE(2027,1,1))-MAX(K11,DATE(2026,1,1)))/(L11-K11),2)) -> 0 | AU11: =IF(OR(P11="",Q11="",R11="",Q11<=P11),0,ROUND(R11*MAX(0,MIN(Q11,DATE(2027,1,1))-MAX(P11,DATE(2026,1,1)))/(Q11-P11),2)) -> 0 | AV11: =IF(OR(U11="",V11="",W11="",V11<=U11),0,ROUND(W11*MAX(0,MIN(V11,DATE(2027,1,1))-MAX(U11,DATE(2026,1,1)))/(V11-U11),2)) -> 0 | AW11: =IF(OR(Z11="",AA11="",AB11="",AA11<=Z11),0,ROUND(AB11*MAX(0,MIN(AA11,DATE(2027,1,1))-MAX(Z11,DATE(2026,1,1)))/(AA11-Z11),2)) -> 0 | AX11: =IF(OR(AE11="",AF11="",AG11="",AF11<=AE11),0,ROUND(AG11*MAX(0,MIN(AF11,DATE(2027,1,1))-MAX(AE11,DATE(2026,1,1)))/(AF11-AE11),2)) -> 0 | AY11: =IF(OR(AJ11="",AK11="",AL11="",AK11<=AJ11),0,ROUND(AL11*MAX(0,MIN(AK11,DATE(2027,1,1))-MAX(AJ11,DATE(2026,1,1)))/(AK11-AJ11),2)) -> 0 | AZ11: =IF(OR(AO11="",AP11="",AQ11="",AP11<=AO11),0,ROUND(AQ11*MAX(0,MIN(AP11,DATE(2027,1,1))-MAX(AO11,DATE(2026,1,1)))/(AP11-AO11),2)) -> 0 | BA11: =IF(OR(B14="",C14="",H14="",C14<=B14),0,ROUND(H14*MAX(0,MIN(C14,DATE(2027,1,1))-MAX(B14,DATE(2026,1,1)))/(C14-B14),2)) -> 0 | BB11: =IF(OR(B31="",C31="",H31="",C31<=B31),0,ROUND(H31*MAX(0,MIN(C31,DATE(2027,1,1))-MAX(B31,DATE(2026,1,1)))/(C31-B31),2)) -> 0 | BC11: =IF(OR(B48="",C48="",H48="",C48<=B48),0,ROUND(H48*MAX(0,MIN(C48,DATE(2027,1,1))-MAX(B48,DATE(2026,1,1)))/(C48-B48),2)) -> 0 | BD11: =IF(OR(B65="",C65="",H65="",C65<=B65),0,ROUND(H65*MAX(0,MIN(C65,DATE(2027,1,1))-MAX(B65,DATE(2026,1,1)))/(C65-B65),2)) -> 0 | BE11: =IF(OR(B82="",C82="",H82="",C82<=B82),0,ROUND(H82*MAX(0,MIN(C82,DATE(2027,1,1))-MAX(B82,DATE(2026,1,1)))/(C82-B82),2)) -> 0 | BF11: =IF(OR(B99="",C99="",H99="",C99<=B99),0,ROUND(H99*MAX(0,MIN(C99,DATE(2027,1,1))-MAX(B99,DATE(2026,1,1)))/(C99-B99),2)) -> 0
A12: 3 | B12: =IF('Навигатор накоплений'!A31="","",EDATE('Навигатор накоплений'!C31,A12-1)) | C12: =IF(B12="","",EDATE('Навигатор накоплений'!C31,A12)) | D12: =IF(B12="","",I11) | E12: =IF(B12="","",N('Навигатор накоплений'!G31)) | F12: =IF(B12="","",IF('Навигатор накоплений'!F31="Ежедневный остаток",D12+E12,D12)) | G12: =IF(B12="","",C12-B12) | H12: =IF(B12="","",ROUND(F12*'Навигатор накоплений'!E31*IF(YEAR(B12)=YEAR(C12-1),(C12-B12)/(DATE(YEAR(B12),12,31)-DATE(YEAR(B12),1,1)+1),(DATE(YEAR(B12)+1,1,1)-B12)/(DATE(YEAR(B12),12,31)-DATE(YEAR(B12),1,1)+1)+(C12-DATE(YEAR(C12),1,1))/(DATE(YEAR(C12),12,31)-DATE(YEAR(C12),1,1)+1)),2)) | I12: =IF(B12="","",ROUND(D12+E12+H12,2)) | K12: =IF('Навигатор накоплений'!A22="","",IF(6<=DATEDIF('Навигатор накоплений'!E22,'Навигатор накоплений'!F22,"m")+IF(EDATE('Навигатор накоплений'!E22,DATEDIF('Навигатор накоплений'!E22,'Навигатор накоплений'!F22,"m"))<'Навигатор накоплений'!F22,1,0),L11,"")) | L12: =IF(K12="","",MIN(EDATE('Навигатор накоплений'!E22,6),'Навигатор накоплений'!F22)) | M12: =IF(K12="","",ROUND(N11*'Навигатор накоплений'!D22*IF(YEAR(K12)=YEAR(L12-1),(L12-K12)/(DATE(YEAR(K12),12,31)-DATE(YEAR(K12),1,1)+1),(DATE(YEAR(K12)+1,1,1)-K12)/(DATE(YEAR(K12),12,31)-DATE(YEAR(K12),1,1)+1)+(L12-DATE(YEAR(L12),1,1))/(DATE(YEAR(L12),12,31)-DATE(YEAR(L12),1,1)+1)),2)) | N12: =IF(K12="","",ROUND(N11+M12+IF(L12<'Навигатор накоплений'!F22,N('Навигатор накоплений'!G22),0),2)) | P12: =IF('Навигатор накоплений'!A23="","",IF(6<=DATEDIF('Навигатор накоплений'!E23,'Навигатор накоплений'!F23,"m")+IF(EDATE('Навигатор накоплений'!E23,DATEDIF('Навигатор накоплений'!E23,'Навигатор накоплений'!F23,"m"))<'Навигатор накоплений'!F23,1,0),Q11,"")) | Q12: =IF(P12="","",MIN(EDATE('Навигатор накоплений'!E23,6),'Навигатор накоплений'!F23)) | R12: =IF(P12="","",ROUND(S11*'Навигатор накоплений'!D23*IF(YEAR(P12)=YEAR(Q12-1),(Q12-P12)/(DATE(YEAR(P12),12,31)-DATE(YEAR(P12),1,1)+1),(DATE(YEAR(P12)+1,1,1)-P12)/(DATE(YEAR(P12),12,31)-DATE(YEAR(P12),1,1)+1)+(Q12-DATE(YEAR(Q12),1,1))/(DATE(YEAR(Q12),12,31)-DATE(YEAR(Q12),1,1)+1)),2)) | S12: =IF(P12="","",ROUND(S11+R12+IF(Q12<'Навигатор накоплений'!F23,N('Навигатор накоплений'!G23),0),2)) | U12: =IF('Навигатор накоплений'!A24="","",IF(6<=DATEDIF('Навигатор накоплений'!E24,'Навигатор накоплений'!F24,"m")+IF(EDATE('Навигатор накоплений'!E24,DATEDIF('Навигатор накоплений'!E24,'Навигатор накоплений'!F24,"m"))<'Навигатор накоплений'!F24,1,0),V11,"")) | V12: =IF(U12="","",MIN(EDATE('Навигатор накоплений'!E24,6),'Навигатор накоплений'!F24)) | W12: =IF(U12="","",ROUND(X11*'Навигатор накоплений'!D24*IF(YEAR(U12)=YEAR(V12-1),(V12-U12)/(DATE(YEAR(U12),12,31)-DATE(YEAR(U12),1,1)+1),(DATE(YEAR(U12)+1,1,1)-U12)/(DATE(YEAR(U12),12,31)-DATE(YEAR(U12),1,1)+1)+(V12-DATE(YEAR(V12),1,1))/(DATE(YEAR(V12),12,31)-DATE(YEAR(V12),1,1)+1)),2)) | X12: =IF(U12="","",ROUND(X11+W12+IF(V12<'Навигатор накоплений'!F24,N('Навигатор накоплений'!G24),0),2)) | Z12: =IF('Навигатор накоплений'!A25="","",IF(6<=DATEDIF('Навигатор накоплений'!E25,'Навигатор накоплений'!F25,"m")+IF(EDATE('Навигатор накоплений'!E25,DATEDIF('Навигатор накоплений'!E25,'Навигатор накоплений'!F25,"m"))<'Навигатор накоплений'!F25,1,0),AA11,"")) | AA12: =IF(Z12="","",MIN(EDATE('Навигатор накоплений'!E25,6),'Навигатор накоплений'!F25)) | AB12: =IF(Z12="","",ROUND(AC11*'Навигатор накоплений'!D25*IF(YEAR(Z12)=YEAR(AA12-1),(AA12-Z12)/(DATE(YEAR(Z12),12,31)-DATE(YEAR(Z12),1,1)+1),(DATE(YEAR(Z12)+1,1,1)-Z12)/(DATE(YEAR(Z12),12,31)-DATE(YEAR(Z12),1,1)+1)+(AA12-DATE(YEAR(AA12),1,1))/(DATE(YEAR(AA12),12,31)-DATE(YEAR(AA12),1,1)+1)),2)) | AC12: =IF(Z12="","",ROUND(AC11+AB12+IF(AA12<'Навигатор накоплений'!F25,N('Навигатор накоплений'!G25),0),2)) | AE12: =IF('Навигатор накоплений'!A26="","",IF(6<=DATEDIF('Навигатор накоплений'!E26,'Навигатор накоплений'!F26,"m")+IF(EDATE('Навигатор накоплений'!E26,DATEDIF('Навигатор накоплений'!E26,'Навигатор накоплений'!F26,"m"))<'Навигатор накоплений'!F26,1,0),AF11,"")) | AF12: =IF(AE12="","",MIN(EDATE('Навигатор накоплений'!E26,6),'Навигатор накоплений'!F26)) | AG12: =IF(AE12="","",ROUND(AH11*'Навигатор накоплений'!D26*IF(YEAR(AE12)=YEAR(AF12-1),(AF12-AE12)/(DATE(YEAR(AE12),12,31)-DATE(YEAR(AE12),1,1)+1),(DATE(YEAR(AE12)+1,1,1)-AE12)/(DATE(YEAR(AE12),12,31)-DATE(YEAR(AE12),1,1)+1)+(AF12-DATE(YEAR(AF12),1,1))/(DATE(YEAR(AF12),12,31)-DATE(YEAR(AF12),1,1)+1)),2)) | AH12: =IF(AE12="","",ROUND(AH11+AG12+IF(AF12<'Навигатор накоплений'!F26,N('Навигатор накоплений'!G26),0),2)) | AJ12: =IF('Навигатор накоплений'!A27="","",IF(6<=DATEDIF('Навигатор накоплений'!E27,'Навигатор накоплений'!F27,"m")+IF(EDATE('Навигатор накоплений'!E27,DATEDIF('Навигатор накоплений'!E27,'Навигатор накоплений'!F27,"m"))<'Навигатор накоплений'!F27,1,0),AK11,"")) | AK12: =IF(AJ12="","",MIN(EDATE('Навигатор накоплений'!E27,6),'Навигатор накоплений'!F27)) | AL12: =IF(AJ12="","",ROUND(AM11*'Навигатор накоплений'!D27*IF(YEAR(AJ12)=YEAR(AK12-1),(AK12-AJ12)/(DATE(YEAR(AJ12),12,31)-DATE(YEAR(AJ12),1,1)+1),(DATE(YEAR(AJ12)+1,1,1)-AJ12)/(DATE(YEAR(AJ12),12,31)-DATE(YEAR(AJ12),1,1)+1)+(AK12-DATE(YEAR(AK12),1,1))/(DATE(YEAR(AK12),12,31)-DATE(YEAR(AK12),1,1)+1)),2)) | AM12: =IF(AJ12="","",ROUND(AM11+AL12+IF(AK12<'Навигатор накоплений'!F27,N('Навигатор накоплений'!G27),0),2)) | AO12: =IF('Навигатор накоплений'!A28="","",IF(6<=DATEDIF('Навигатор накоплений'!E28,'Навигатор накоплений'!F28,"m")+IF(EDATE('Навигатор накоплений'!E28,DATEDIF('Навигатор накоплений'!E28,'Навигатор накоплений'!F28,"m"))<'Навигатор накоплений'!F28,1,0),AP11,"")) | AP12: =IF(AO12="","",MIN(EDATE('Навигатор накоплений'!E28,6),'Навигатор накоплений'!F28)) | AQ12: =IF(AO12="","",ROUND(AR11*'Навигатор накоплений'!D28*IF(YEAR(AO12)=YEAR(AP12-1),(AP12-AO12)/(DATE(YEAR(AO12),12,31)-DATE(YEAR(AO12),1,1)+1),(DATE(YEAR(AO12)+1,1,1)-AO12)/(DATE(YEAR(AO12),12,31)-DATE(YEAR(AO12),1,1)+1)+(AP12-DATE(YEAR(AP12),1,1))/(DATE(YEAR(AP12),12,31)-DATE(YEAR(AP12),1,1)+1)),2)) | AR12: =IF(AO12="","",ROUND(AR11+AQ12+IF(AP12<'Навигатор накоплений'!F28,N('Навигатор накоплений'!G28),0),2)) | AT12: =IF(OR(K12="",L12="",M12="",L12<=K12),0,ROUND(M12*MAX(0,MIN(L12,DATE(2027,1,1))-MAX(K12,DATE(2026,1,1)))/(L12-K12),2)) -> 0 | AU12: =IF(OR(P12="",Q12="",R12="",Q12<=P12),0,ROUND(R12*MAX(0,MIN(Q12,DATE(2027,1,1))-MAX(P12,DATE(2026,1,1)))/(Q12-P12),2)) -> 0 | AV12: =IF(OR(U12="",V12="",W12="",V12<=U12),0,ROUND(W12*MAX(0,MIN(V12,DATE(2027,1,1))-MAX(U12,DATE(2026,1,1)))/(V12-U12),2)) -> 0 | AW12: =IF(OR(Z12="",AA12="",AB12="",AA12<=Z12),0,ROUND(AB12*MAX(0,MIN(AA12,DATE(2027,1,1))-MAX(Z12,DATE(2026,1,1)))/(AA12-Z12),2)) -> 0 | AX12: =IF(OR(AE12="",AF12="",AG12="",AF12<=AE12),0,ROUND(AG12*MAX(0,MIN(AF12,DATE(2027,1,1))-MAX(AE12,DATE(2026,1,1)))/(AF12-AE12),2)) -> 0 | AY12: =IF(OR(AJ12="",AK12="",AL12="",AK12<=AJ12),0,ROUND(AL12*MAX(0,MIN(AK12,DATE(2027,1,1))-MAX(AJ12,DATE(2026,1,1)))/(AK12-AJ12),2)) -> 0 | AZ12: =IF(OR(AO12="",AP12="",AQ12="",AP12<=AO12),0,ROUND(AQ12*MAX(0,MIN(AP12,DATE(2027,1,1))-MAX(AO12,DATE(2026,1,1)))/(AP12-AO12),2)) -> 0 | BA12: =IF(OR(B15="",C15="",H15="",C15<=B15),0,ROUND(H15*MAX(0,MIN(C15,DATE(2027,1,1))-MAX(B15,DATE(2026,1,1)))/(C15-B15),2)) -> 0 | BB12: =IF(OR(B32="",C32="",H32="",C32<=B32),0,ROUND(H32*MAX(0,MIN(C32,DATE(2027,1,1))-MAX(B32,DATE(2026,1,1)))/(C32-B32),2)) -> 0 | BC12: =IF(OR(B49="",C49="",H49="",C49<=B49),0,ROUND(H49*MAX(0,MIN(C49,DATE(2027,1,1))-MAX(B49,DATE(2026,1,1)))/(C49-B49),2)) -> 0 | BD12: =IF(OR(B66="",C66="",H66="",C66<=B66),0,ROUND(H66*MAX(0,MIN(C66,DATE(2027,1,1))-MAX(B66,DATE(2026,1,1)))/(C66-B66),2)) -> 0 | BE12: =IF(OR(B83="",C83="",H83="",C83<=B83),0,ROUND(H83*MAX(0,MIN(C83,DATE(2027,1,1))-MAX(B83,DATE(2026,1,1)))/(C83-B83),2)) -> 0 | BF12: =IF(OR(B100="",C100="",H100="",C100<=B100),0,ROUND(H100*MAX(0,MIN(C100,DATE(2027,1,1))-MAX(B100,DATE(2026,1,1)))/(C100-B100),2)) -> 0
A13: 4 | B13: =IF('Навигатор накоплений'!A31="","",EDATE('Навигатор накоплений'!C31,A13-1)) | C13: =IF(B13="","",EDATE('Навигатор накоплений'!C31,A13)) | D13: =IF(B13="","",I12) | E13: =IF(B13="","",N('Навигатор накоплений'!G31)) | F13: =IF(B13="","",IF('Навигатор накоплений'!F31="Ежедневный остаток",D13+E13,D13)) | G13: =IF(B13="","",C13-B13) | H13: =IF(B13="","",ROUND(F13*'Навигатор накоплений'!E31*IF(YEAR(B13)=YEAR(C13-1),(C13-B13)/(DATE(YEAR(B13),12,31)-DATE(YEAR(B13),1,1)+1),(DATE(YEAR(B13)+1,1,1)-B13)/(DATE(YEAR(B13),12,31)-DATE(YEAR(B13),1,1)+1)+(C13-DATE(YEAR(C13),1,1))/(DATE(YEAR(C13),12,31)-DATE(YEAR(C13),1,1)+1)),2)) | I13: =IF(B13="","",ROUND(D13+E13+H13,2)) | K13: =IF('Навигатор накоплений'!A22="","",IF(7<=DATEDIF('Навигатор накоплений'!E22,'Навигатор накоплений'!F22,"m")+IF(EDATE('Навигатор накоплений'!E22,DATEDIF('Навигатор накоплений'!E22,'Навигатор накоплений'!F22,"m"))<'Навигатор накоплений'!F22,1,0),L12,"")) | L13: =IF(K13="","",MIN(EDATE('Навигатор накоплений'!E22,7),'Навигатор накоплений'!F22)) | M13: =IF(K13="","",ROUND(N12*'Навигатор накоплений'!D22*IF(YEAR(K13)=YEAR(L13-1),(L13-K13)/(DATE(YEAR(K13),12,31)-DATE(YEAR(K13),1,1)+1),(DATE(YEAR(K13)+1,1,1)-K13)/(DATE(YEAR(K13),12,31)-DATE(YEAR(K13),1,1)+1)+(L13-DATE(YEAR(L13),1,1))/(DATE(YEAR(L13),12,31)-DATE(YEAR(L13),1,1)+1)),2)) | N13: =IF(K13="","",ROUND(N12+M13+IF(L13<'Навигатор накоплений'!F22,N('Навигатор накоплений'!G22),0),2)) | P13: =IF('Навигатор накоплений'!A23="","",IF(7<=DATEDIF('Навигатор накоплений'!E23,'Навигатор накоплений'!F23,"m")+IF(EDATE('Навигатор накоплений'!E23,DATEDIF('Навигатор накоплений'!E23,'Навигатор накоплений'!F23,"m"))<'Навигатор накоплений'!F23,1,0),Q12,"")) | Q13: =IF(P13="","",MIN(EDATE('Навигатор накоплений'!E23,7),'Навигатор накоплений'!F23)) | R13: =IF(P13="","",ROUND(S12*'Навигатор накоплений'!D23*IF(YEAR(P13)=YEAR(Q13-1),(Q13-P13)/(DATE(YEAR(P13),12,31)-DATE(YEAR(P13),1,1)+1),(DATE(YEAR(P13)+1,1,1)-P13)/(DATE(YEAR(P13),12,31)-DATE(YEAR(P13),1,1)+1)+(Q13-DATE(YEAR(Q13),1,1))/(DATE(YEAR(Q13),12,31)-DATE(YEAR(Q13),1,1)+1)),2)) | S13: =IF(P13="","",ROUND(S12+R13+IF(Q13<'Навигатор накоплений'!F23,N('Навигатор накоплений'!G23),0),2)) | U13: =IF('Навигатор накоплений'!A24="","",IF(7<=DATEDIF('Навигатор накоплений'!E24,'Навигатор накоплений'!F24,"m")+IF(EDATE('Навигатор накоплений'!E24,DATEDIF('Навигатор накоплений'!E24,'Навигатор накоплений'!F24,"m"))<'Навигатор накоплений'!F24,1,0),V12,"")) | V13: =IF(U13="","",MIN(EDATE('Навигатор накоплений'!E24,7),'Навигатор накоплений'!F24)) | W13: =IF(U13="","",ROUND(X12*'Навигатор накоплений'!D24*IF(YEAR(U13)=YEAR(V13-1),(V13-U13)/(DATE(YEAR(U13),12,31)-DATE(YEAR(U13),1,1)+1),(DATE(YEAR(U13)+1,1,1)-U13)/(DATE(YEAR(U13),12,31)-DATE(YEAR(U13),1,1)+1)+(V13-DATE(YEAR(V13),1,1))/(DATE(YEAR(V13),12,31)-DATE(YEAR(V13),1,1)+1)),2)) | X13: =IF(U13="","",ROUND(X12+W13+IF(V13<'Навигатор накоплений'!F24,N('Навигатор накоплений'!G24),0),2)) | Z13: =IF('Навигатор накоплений'!A25="","",IF(7<=DATEDIF('Навигатор накоплений'!E25,'Навигатор накоплений'!F25,"m")+IF(EDATE('Навигатор накоплений'!E25,DATEDIF('Навигатор накоплений'!E25,'Навигатор накоплений'!F25,"m"))<'Навигатор накоплений'!F25,1,0),AA12,"")) | AA13: =IF(Z13="","",MIN(EDATE('Навигатор накоплений'!E25,7),'Навигатор накоплений'!F25)) | AB13: =IF(Z13="","",ROUND(AC12*'Навигатор накоплений'!D25*IF(YEAR(Z13)=YEAR(AA13-1),(AA13-Z13)/(DATE(YEAR(Z13),12,31)-DATE(YEAR(Z13),1,1)+1),(DATE(YEAR(Z13)+1,1,1)-Z13)/(DATE(YEAR(Z13),12,31)-DATE(YEAR(Z13),1,1)+1)+(AA13-DATE(YEAR(AA13),1,1))/(DATE(YEAR(AA13),12,31)-DATE(YEAR(AA13),1,1)+1)),2)) | AC13: =IF(Z13="","",ROUND(AC12+AB13+IF(AA13<'Навигатор накоплений'!F25,N('Навигатор накоплений'!G25),0),2)) | AE13: =IF('Навигатор накоплений'!A26="","",IF(7<=DATEDIF('Навигатор накоплений'!E26,'Навигатор накоплений'!F26,"m")+IF(EDATE('Навигатор накоплений'!E26,DATEDIF('Навигатор накоплений'!E26,'Навигатор накоплений'!F26,"m"))<'Навигатор накоплений'!F26,1,0),AF12,"")) | AF13: =IF(AE13="","",MIN(EDATE('Навигатор накоплений'!E26,7),'Навигатор накоплений'!F26)) | AG13: =IF(AE13="","",ROUND(AH12*'Навигатор накоплений'!D26*IF(YEAR(AE13)=YEAR(AF13-1),(AF13-AE13)/(DATE(YEAR(AE13),12,31)-DATE(YEAR(AE13),1,1)+1),(DATE(YEAR(AE13)+1,1,1)-AE13)/(DATE(YEAR(AE13),12,31)-DATE(YEAR(AE13),1,1)+1)+(AF13-DATE(YEAR(AF13),1,1))/(DATE(YEAR(AF13),12,31)-DATE(YEAR(AF13),1,1)+1)),2)) | AH13: =IF(AE13="","",ROUND(AH12+AG13+IF(AF13<'Навигатор накоплений'!F26,N('Навигатор накоплений'!G26),0),2)) | AJ13: =IF('Навигатор накоплений'!A27="","",IF(7<=DATEDIF('Навигатор накоплений'!E27,'Навигатор накоплений'!F27,"m")+IF(EDATE('Навигатор накоплений'!E27,DATEDIF('Навигатор накоплений'!E27,'Навигатор накоплений'!F27,"m"))<'Навигатор накоплений'!F27,1,0),AK12,"")) | AK13: =IF(AJ13="","",MIN(EDATE('Навигатор накоплений'!E27,7),'Навигатор накоплений'!F27)) | AL13: =IF(AJ13="","",ROUND(AM12*'Навигатор накоплений'!D27*IF(YEAR(AJ13)=YEAR(AK13-1),(AK13-AJ13)/(DATE(YEAR(AJ13),12,31)-DATE(YEAR(AJ13),1,1)+1),(DATE(YEAR(AJ13)+1,1,1)-AJ13)/(DATE(YEAR(AJ13),12,31)-DATE(YEAR(AJ13),1,1)+1)+(AK13-DATE(YEAR(AK13),1,1))/(DATE(YEAR(AK13),12,31)-DATE(YEAR(AK13),1,1)+1)),2)) | AM13: =IF(AJ13="","",ROUND(AM12+AL13+IF(AK13<'Навигатор накоплений'!F27,N('Навигатор накоплений'!G27),0),2)) | AO13: =IF('Навигатор накоплений'!A28="","",IF(7<=DATEDIF('Навигатор накоплений'!E28,'Навигатор накоплений'!F28,"m")+IF(EDATE('Навигатор накоплений'!E28,DATEDIF('Навигатор накоплений'!E28,'Навигатор накоплений'!F28,"m"))<'Навигатор накоплений'!F28,1,0),AP12,"")) | AP13: =IF(AO13="","",MIN(EDATE('Навигатор накоплений'!E28,7),'Навигатор накоплений'!F28)) | AQ13: =IF(AO13="","",ROUND(AR12*'Навигатор накоплений'!D28*IF(YEAR(AO13)=YEAR(AP13-1),(AP13-AO13)/(DATE(YEAR(AO13),12,31)-DATE(YEAR(AO13),1,1)+1),(DATE(YEAR(AO13)+1,1,1)-AO13)/(DATE(YEAR(AO13),12,31)-DATE(YEAR(AO13),1,1)+1)+(AP13-DATE(YEAR(AP13),1,1))/(DATE(YEAR(AP13),12,31)-DATE(YEAR(AP13),1,1)+1)),2)) | AR13: =IF(AO13="","",ROUND(AR12+AQ13+IF(AP13<'Навигатор накоплений'!F28,N('Навигатор накоплений'!G28),0),2)) | AT13: =IF(OR(K13="",L13="",M13="",L13<=K13),0,ROUND(M13*MAX(0,MIN(L13,DATE(2027,1,1))-MAX(K13,DATE(2026,1,1)))/(L13-K13),2)) -> 0 | AU13: =IF(OR(P13="",Q13="",R13="",Q13<=P13),0,ROUND(R13*MAX(0,MIN(Q13,DATE(2027,1,1))-MAX(P13,DATE(2026,1,1)))/(Q13-P13),2)) -> 0 | AV13: =IF(OR(U13="",V13="",W13="",V13<=U13),0,ROUND(W13*MAX(0,MIN(V13,DATE(2027,1,1))-MAX(U13,DATE(2026,1,1)))/(V13-U13),2)) -> 0 | AW13: =IF(OR(Z13="",AA13="",AB13="",AA13<=Z13),0,ROUND(AB13*MAX(0,MIN(AA13,DATE(2027,1,1))-MAX(Z13,DATE(2026,1,1)))/(AA13-Z13),2)) -> 0 | AX13: =IF(OR(AE13="",AF13="",AG13="",AF13<=AE13),0,ROUND(AG13*MAX(0,MIN(AF13,DATE(2027,1,1))-MAX(AE13,DATE(2026,1,1)))/(AF13-AE13),2)) -> 0 | AY13: =IF(OR(AJ13="",AK13="",AL13="",AK13<=AJ13),0,ROUND(AL13*MAX(0,MIN(AK13,DATE(2027,1,1))-MAX(AJ13,DATE(2026,1,1)))/(AK13-AJ13),2)) -> 0 | AZ13: =IF(OR(AO13="",AP13="",AQ13="",AP13<=AO13),0,ROUND(AQ13*MAX(0,MIN(AP13,DATE(2027,1,1))-MAX(AO13,DATE(2026,1,1)))/(AP13-AO13),2)) -> 0 | BA13: =IF(OR(B16="",C16="",H16="",C16<=B16),0,ROUND(H16*MAX(0,MIN(C16,DATE(2027,1,1))-MAX(B16,DATE(2026,1,1)))/(C16-B16),2)) -> 0 | BB13: =IF(OR(B33="",C33="",H33="",C33<=B33),0,ROUND(H33*MAX(0,MIN(C33,DATE(2027,1,1))-MAX(B33,DATE(2026,1,1)))/(C33-B33),2)) -> 0 | BC13: =IF(OR(B50="",C50="",H50="",C50<=B50),0,ROUND(H50*MAX(0,MIN(C50,DATE(2027,1,1))-MAX(B50,DATE(2026,1,1)))/(C50-B50),2)) -> 0 | BD13: =IF(OR(B67="",C67="",H67="",C67<=B67),0,ROUND(H67*MAX(0,MIN(C67,DATE(2027,1,1))-MAX(B67,DATE(2026,1,1)))/(C67-B67),2)) -> 0 | BE13: =IF(OR(B84="",C84="",H84="",C84<=B84),0,ROUND(H84*MAX(0,MIN(C84,DATE(2027,1,1))-MAX(B84,DATE(2026,1,1)))/(C84-B84),2)) -> 0 | BF13: =IF(OR(B101="",C101="",H101="",C101<=B101),0,ROUND(H101*MAX(0,MIN(C101,DATE(2027,1,1))-MAX(B101,DATE(2026,1,1)))/(C101-B101),2)) -> 0
A14: 5 | B14: =IF('Навигатор накоплений'!A31="","",EDATE('Навигатор накоплений'!C31,A14-1)) | C14: =IF(B14="","",EDATE('Навигатор накоплений'!C31,A14)) | D14: =IF(B14="","",I13) | E14: =IF(B14="","",N('Навигатор накоплений'!G31)) | F14: =IF(B14="","",IF('Навигатор накоплений'!F31="Ежедневный остаток",D14+E14,D14)) | G14: =IF(B14="","",C14-B14) | H14: =IF(B14="","",ROUND(F14*'Навигатор накоплений'!E31*IF(YEAR(B14)=YEAR(C14-1),(C14-B14)/(DATE(YEAR(B14),12,31)-DATE(YEAR(B14),1,1)+1),(DATE(YEAR(B14)+1,1,1)-B14)/(DATE(YEAR(B14),12,31)-DATE(YEAR(B14),1,1)+1)+(C14-DATE(YEAR(C14),1,1))/(DATE(YEAR(C14),12,31)-DATE(YEAR(C14),1,1)+1)),2)) | I14: =IF(B14="","",ROUND(D14+E14+H14,2)) | K14: =IF('Навигатор накоплений'!A22="","",IF(8<=DATEDIF('Навигатор накоплений'!E22,'Навигатор накоплений'!F22,"m")+IF(EDATE('Навигатор накоплений'!E22,DATEDIF('Навигатор накоплений'!E22,'Навигатор накоплений'!F22,"m"))<'Навигатор накоплений'!F22,1,0),L13,"")) | L14: =IF(K14="","",MIN(EDATE('Навигатор накоплений'!E22,8),'Навигатор накоплений'!F22)) | M14: =IF(K14="","",ROUND(N13*'Навигатор накоплений'!D22*IF(YEAR(K14)=YEAR(L14-1),(L14-K14)/(DATE(YEAR(K14),12,31)-DATE(YEAR(K14),1,1)+1),(DATE(YEAR(K14)+1,1,1)-K14)/(DATE(YEAR(K14),12,31)-DATE(YEAR(K14),1,1)+1)+(L14-DATE(YEAR(L14),1,1))/(DATE(YEAR(L14),12,31)-DATE(YEAR(L14),1,1)+1)),2)) | N14: =IF(K14="","",ROUND(N13+M14+IF(L14<'Навигатор накоплений'!F22,N('Навигатор накоплений'!G22),0),2)) | P14: =IF('Навигатор накоплений'!A23="","",IF(8<=DATEDIF('Навигатор накоплений'!E23,'Навигатор накоплений'!F23,"m")+IF(EDATE('Навигатор накоплений'!E23,DATEDIF('Навигатор накоплений'!E23,'Навигатор накоплений'!F23,"m"))<'Навигатор накоплений'!F23,1,0),Q13,"")) | Q14: =IF(P14="","",MIN(EDATE('Навигатор накоплений'!E23,8),'Навигатор накоплений'!F23)) | R14: =IF(P14="","",ROUND(S13*'Навигатор накоплений'!D23*IF(YEAR(P14)=YEAR(Q14-1),(Q14-P14)/(DATE(YEAR(P14),12,31)-DATE(YEAR(P14),1,1)+1),(DATE(YEAR(P14)+1,1,1)-P14)/(DATE(YEAR(P14),12,31)-DATE(YEAR(P14),1,1)+1)+(Q14-DATE(YEAR(Q14),1,1))/(DATE(YEAR(Q14),12,31)-DATE(YEAR(Q14),1,1)+1)),2)) | S14: =IF(P14="","",ROUND(S13+R14+IF(Q14<'Навигатор накоплений'!F23,N('Навигатор накоплений'!G23),0),2)) | U14: =IF('Навигатор накоплений'!A24="","",IF(8<=DATEDIF('Навигатор накоплений'!E24,'Навигатор накоплений'!F24,"m")+IF(EDATE('Навигатор накоплений'!E24,DATEDIF('Навигатор накоплений'!E24,'Навигатор накоплений'!F24,"m"))<'Навигатор накоплений'!F24,1,0),V13,"")) | V14: =IF(U14="","",MIN(EDATE('Навигатор накоплений'!E24,8),'Навигатор накоплений'!F24)) | W14: =IF(U14="","",ROUND(X13*'Навигатор накоплений'!D24*IF(YEAR(U14)=YEAR(V14-1),(V14-U14)/(DATE(YEAR(U14),12,31)-DATE(YEAR(U14),1,1)+1),(DATE(YEAR(U14)+1,1,1)-U14)/(DATE(YEAR(U14),12,31)-DATE(YEAR(U14),1,1)+1)+(V14-DATE(YEAR(V14),1,1))/(DATE(YEAR(V14),12,31)-DATE(YEAR(V14),1,1)+1)),2)) | X14: =IF(U14="","",ROUND(X13+W14+IF(V14<'Навигатор накоплений'!F24,N('Навигатор накоплений'!G24),0),2)) | Z14: =IF('Навигатор накоплений'!A25="","",IF(8<=DATEDIF('Навигатор накоплений'!E25,'Навигатор накоплений'!F25,"m")+IF(EDATE('Навигатор накоплений'!E25,DATEDIF('Навигатор накоплений'!E25,'Навигатор накоплений'!F25,"m"))<'Навигатор накоплений'!F25,1,0),AA13,"")) | AA14: =IF(Z14="","",MIN(EDATE('Навигатор накоплений'!E25,8),'Навигатор накоплений'!F25)) | AB14: =IF(Z14="","",ROUND(AC13*'Навигатор накоплений'!D25*IF(YEAR(Z14)=YEAR(AA14-1),(AA14-Z14)/(DATE(YEAR(Z14),12,31)-DATE(YEAR(Z14),1,1)+1),(DATE(YEAR(Z14)+1,1,1)-Z14)/(DATE(YEAR(Z14),12,31)-DATE(YEAR(Z14),1,1)+1)+(AA14-DATE(YEAR(AA14),1,1))/(DATE(YEAR(AA14),12,31)-DATE(YEAR(AA14),1,1)+1)),2)) | AC14: =IF(Z14="","",ROUND(AC13+AB14+IF(AA14<'Навигатор накоплений'!F25,N('Навигатор накоплений'!G25),0),2)) | AE14: =IF('Навигатор накоплений'!A26="","",IF(8<=DATEDIF('Навигатор накоплений'!E26,'Навигатор накоплений'!F26,"m")+IF(EDATE('Навигатор накоплений'!E26,DATEDIF('Навигатор накоплений'!E26,'Навигатор накоплений'!F26,"m"))<'Навигатор накоплений'!F26,1,0),AF13,"")) | AF14: =IF(AE14="","",MIN(EDATE('Навигатор накоплений'!E26,8),'Навигатор накоплений'!F26)) | AG14: =IF(AE14="","",ROUND(AH13*'Навигатор накоплений'!D26*IF(YEAR(AE14)=YEAR(AF14-1),(AF14-AE14)/(DATE(YEAR(AE14),12,31)-DATE(YEAR(AE14),1,1)+1),(DATE(YEAR(AE14)+1,1,1)-AE14)/(DATE(YEAR(AE14),12,31)-DATE(YEAR(AE14),1,1)+1)+(AF14-DATE(YEAR(AF14),1,1))/(DATE(YEAR(AF14),12,31)-DATE(YEAR(AF14),1,1)+1)),2)) | AH14: =IF(AE14="","",ROUND(AH13+AG14+IF(AF14<'Навигатор накоплений'!F26,N('Навигатор накоплений'!G26),0),2)) | AJ14: =IF('Навигатор накоплений'!A27="","",IF(8<=DATEDIF('Навигатор накоплений'!E27,'Навигатор накоплений'!F27,"m")+IF(EDATE('Навигатор накоплений'!E27,DATEDIF('Навигатор накоплений'!E27,'Навигатор накоплений'!F27,"m"))<'Навигатор накоплений'!F27,1,0),AK13,"")) | AK14: =IF(AJ14="","",MIN(EDATE('Навигатор накоплений'!E27,8),'Навигатор накоплений'!F27)) | AL14: =IF(AJ14="","",ROUND(AM13*'Навигатор накоплений'!D27*IF(YEAR(AJ14)=YEAR(AK14-1),(AK14-AJ14)/(DATE(YEAR(AJ14),12,31)-DATE(YEAR(AJ14),1,1)+1),(DATE(YEAR(AJ14)+1,1,1)-AJ14)/(DATE(YEAR(AJ14),12,31)-DATE(YEAR(AJ14),1,1)+1)+(AK14-DATE(YEAR(AK14),1,1))/(DATE(YEAR(AK14),12,31)-DATE(YEAR(AK14),1,1)+1)),2)) | AM14: =IF(AJ14="","",ROUND(AM13+AL14+IF(AK14<'Навигатор накоплений'!F27,N('Навигатор накоплений'!G27),0),2)) | AO14: =IF('Навигатор накоплений'!A28="","",IF(8<=DATEDIF('Навигатор накоплений'!E28,'Навигатор накоплений'!F28,"m")+IF(EDATE('Навигатор накоплений'!E28,DATEDIF('Навигатор накоплений'!E28,'Навигатор накоплений'!F28,"m"))<'Навигатор накоплений'!F28,1,0),AP13,"")) | AP14: =IF(AO14="","",MIN(EDATE('Навигатор накоплений'!E28,8),'Навигатор накоплений'!F28)) | AQ14: =IF(AO14="","",ROUND(AR13*'Навигатор накоплений'!D28*IF(YEAR(AO14)=YEAR(AP14-1),(AP14-AO14)/(DATE(YEAR(AO14),12,31)-DATE(YEAR(AO14),1,1)+1),(DATE(YEAR(AO14)+1,1,1)-AO14)/(DATE(YEAR(AO14),12,31)-DATE(YEAR(AO14),1,1)+1)+(AP14-DATE(YEAR(AP14),1,1))/(DATE(YEAR(AP14),12,31)-DATE(YEAR(AP14),1,1)+1)),2)) | AR14: =IF(AO14="","",ROUND(AR13+AQ14+IF(AP14<'Навигатор накоплений'!F28,N('Навигатор накоплений'!G28),0),2)) | AT14: =IF(OR(K14="",L14="",M14="",L14<=K14),0,ROUND(M14*MAX(0,MIN(L14,DATE(2027,1,1))-MAX(K14,DATE(2026,1,1)))/(L14-K14),2)) -> 0 | AU14: =IF(OR(P14="",Q14="",R14="",Q14<=P14),0,ROUND(R14*MAX(0,MIN(Q14,DATE(2027,1,1))-MAX(P14,DATE(2026,1,1)))/(Q14-P14),2)) -> 0 | AV14: =IF(OR(U14="",V14="",W14="",V14<=U14),0,ROUND(W14*MAX(0,MIN(V14,DATE(2027,1,1))-MAX(U14,DATE(2026,1,1)))/(V14-U14),2)) -> 0 | AW14: =IF(OR(Z14="",AA14="",AB14="",AA14<=Z14),0,ROUND(AB14*MAX(0,MIN(AA14,DATE(2027,1,1))-MAX(Z14,DATE(2026,1,1)))/(AA14-Z14),2)) -> 0 | AX14: =IF(OR(AE14="",AF14="",AG14="",AF14<=AE14),0,ROUND(AG14*MAX(0,MIN(AF14,DATE(2027,1,1))-MAX(AE14,DATE(2026,1,1)))/(AF14-AE14),2)) -> 0 | AY14: =IF(OR(AJ14="",AK14="",AL14="",AK14<=AJ14),0,ROUND(AL14*MAX(0,MIN(AK14,DATE(2027,1,1))-MAX(AJ14,DATE(2026,1,1)))/(AK14-AJ14),2)) -> 0 | AZ14: =IF(OR(AO14="",AP14="",AQ14="",AP14<=AO14),0,ROUND(AQ14*MAX(0,MIN(AP14,DATE(2027,1,1))-MAX(AO14,DATE(2026,1,1)))/(AP14-AO14),2)) -> 0 | BA14: =IF(OR(B17="",C17="",H17="",C17<=B17),0,ROUND(H17*MAX(0,MIN(C17,DATE(2027,1,1))-MAX(B17,DATE(2026,1,1)))/(C17-B17),2)) -> 0 | BB14: =IF(OR(B34="",C34="",H34="",C34<=B34),0,ROUND(H34*MAX(0,MIN(C34,DATE(2027,1,1))-MAX(B34,DATE(2026,1,1)))/(C34-B34),2)) -> 0 | BC14: =IF(OR(B51="",C51="",H51="",C51<=B51),0,ROUND(H51*MAX(0,MIN(C51,DATE(2027,1,1))-MAX(B51,DATE(2026,1,1)))/(C51-B51),2)) -> 0 | BD14: =IF(OR(B68="",C68="",H68="",C68<=B68),0,ROUND(H68*MAX(0,MIN(C68,DATE(2027,1,1))-MAX(B68,DATE(2026,1,1)))/(C68-B68),2)) -> 0 | BE14: =IF(OR(B85="",C85="",H85="",C85<=B85),0,ROUND(H85*MAX(0,MIN(C85,DATE(2027,1,1))-MAX(B85,DATE(2026,1,1)))/(C85-B85),2)) -> 0 | BF14: =IF(OR(B102="",C102="",H102="",C102<=B102),0,ROUND(H102*MAX(0,MIN(C102,DATE(2027,1,1))-MAX(B102,DATE(2026,1,1)))/(C102-B102),2)) -> 0
A15: 6 | B15: =IF('Навигатор накоплений'!A31="","",EDATE('Навигатор накоплений'!C31,A15-1)) | C15: =IF(B15="","",EDATE('Навигатор накоплений'!C31,A15)) | D15: =IF(B15="","",I14) | E15: =IF(B15="","",N('Навигатор накоплений'!G31)) | F15: =IF(B15="","",IF('Навигатор накоплений'!F31="Ежедневный остаток",D15+E15,D15)) | G15: =IF(B15="","",C15-B15) | H15: =IF(B15="","",ROUND(F15*'Навигатор накоплений'!E31*IF(YEAR(B15)=YEAR(C15-1),(C15-B15)/(DATE(YEAR(B15),12,31)-DATE(YEAR(B15),1,1)+1),(DATE(YEAR(B15)+1,1,1)-B15)/(DATE(YEAR(B15),12,31)-DATE(YEAR(B15),1,1)+1)+(C15-DATE(YEAR(C15),1,1))/(DATE(YEAR(C15),12,31)-DATE(YEAR(C15),1,1)+1)),2)) | I15: =IF(B15="","",ROUND(D15+E15+H15,2)) | K15: =IF('Навигатор накоплений'!A22="","",IF(9<=DATEDIF('Навигатор накоплений'!E22,'Навигатор накоплений'!F22,"m")+IF(EDATE('Навигатор накоплений'!E22,DATEDIF('Навигатор накоплений'!E22,'Навигатор накоплений'!F22,"m"))<'Навигатор накоплений'!F22,1,0),L14,"")) | L15: =IF(K15="","",MIN(EDATE('Навигатор накоплений'!E22,9),'Навигатор накоплений'!F22)) | M15: =IF(K15="","",ROUND(N14*'Навигатор накоплений'!D22*IF(YEAR(K15)=YEAR(L15-1),(L15-K15)/(DATE(YEAR(K15),12,31)-DATE(YEAR(K15),1,1)+1),(DATE(YEAR(K15)+1,1,1)-K15)/(DATE(YEAR(K15),12,31)-DATE(YEAR(K15),1,1)+1)+(L15-DATE(YEAR(L15),1,1))/(DATE(YEAR(L15),12,31)-DATE(YEAR(L15),1,1)+1)),2)) | N15: =IF(K15="","",ROUND(N14+M15+IF(L15<'Навигатор накоплений'!F22,N('Навигатор накоплений'!G22),0),2)) | P15: =IF('Навигатор накоплений'!A23="","",IF(9<=DATEDIF('Навигатор накоплений'!E23,'Навигатор накоплений'!F23,"m")+IF(EDATE('Навигатор накоплений'!E23,DATEDIF('Навигатор накоплений'!E23,'Навигатор накоплений'!F23,"m"))<'Навигатор накоплений'!F23,1,0),Q14,"")) | Q15: =IF(P15="","",MIN(EDATE('Навигатор накоплений'!E23,9),'Навигатор накоплений'!F23)) | R15: =IF(P15="","",ROUND(S14*'Навигатор накоплений'!D23*IF(YEAR(P15)=YEAR(Q15-1),(Q15-P15)/(DATE(YEAR(P15),12,31)-DATE(YEAR(P15),1,1)+1),(DATE(YEAR(P15)+1,1,1)-P15)/(DATE(YEAR(P15),12,31)-DATE(YEAR(P15),1,1)+1)+(Q15-DATE(YEAR(Q15),1,1))/(DATE(YEAR(Q15),12,31)-DATE(YEAR(Q15),1,1)+1)),2)) | S15: =IF(P15="","",ROUND(S14+R15+IF(Q15<'Навигатор накоплений'!F23,N('Навигатор накоплений'!G23),0),2)) | U15: =IF('Навигатор накоплений'!A24="","",IF(9<=DATEDIF('Навигатор накоплений'!E24,'Навигатор накоплений'!F24,"m")+IF(EDATE('Навигатор накоплений'!E24,DATEDIF('Навигатор накоплений'!E24,'Навигатор накоплений'!F24,"m"))<'Навигатор накоплений'!F24,1,0),V14,"")) | V15: =IF(U15="","",MIN(EDATE('Навигатор накоплений'!E24,9),'Навигатор накоплений'!F24)) | W15: =IF(U15="","",ROUND(X14*'Навигатор накоплений'!D24*IF(YEAR(U15)=YEAR(V15-1),(V15-U15)/(DATE(YEAR(U15),12,31)-DATE(YEAR(U15),1,1)+1),(DATE(YEAR(U15)+1,1,1)-U15)/(DATE(YEAR(U15),12,31)-DATE(YEAR(U15),1,1)+1)+(V15-DATE(YEAR(V15),1,1))/(DATE(YEAR(V15),12,31)-DATE(YEAR(V15),1,1)+1)),2)) | X15: =IF(U15="","",ROUND(X14+W15+IF(V15<'Навигатор накоплений'!F24,N('Навигатор накоплений'!G24),0),2)) | Z15: =IF('Навигатор накоплений'!A25="","",IF(9<=DATEDIF('Навигатор накоплений'!E25,'Навигатор накоплений'!F25,"m")+IF(EDATE('Навигатор накоплений'!E25,DATEDIF('Навигатор накоплений'!E25,'Навигатор накоплений'!F25,"m"))<'Навигатор накоплений'!F25,1,0),AA14,"")) | AA15: =IF(Z15="","",MIN(EDATE('Навигатор накоплений'!E25,9),'Навигатор накоплений'!F25)) | AB15: =IF(Z15="","",ROUND(AC14*'Навигатор накоплений'!D25*IF(YEAR(Z15)=YEAR(AA15-1),(AA15-Z15)/(DATE(YEAR(Z15),12,31)-DATE(YEAR(Z15),1,1)+1),(DATE(YEAR(Z15)+1,1,1)-Z15)/(DATE(YEAR(Z15),12,31)-DATE(YEAR(Z15),1,1)+1)+(AA15-DATE(YEAR(AA15),1,1))/(DATE(YEAR(AA15),12,31)-DATE(YEAR(AA15),1,1)+1)),2)) | AC15: =IF(Z15="","",ROUND(AC14+AB15+IF(AA15<'Навигатор накоплений'!F25,N('Навигатор накоплений'!G25),0),2)) | AE15: =IF('Навигатор накоплений'!A26="","",IF(9<=DATEDIF('Навигатор накоплений'!E26,'Навигатор накоплений'!F26,"m")+IF(EDATE('Навигатор накоплений'!E26,DATEDIF('Навигатор накоплений'!E26,'Навигатор накоплений'!F26,"m"))<'Навигатор накоплений'!F26,1,0),AF14,"")) | AF15: =IF(AE15="","",MIN(EDATE('Навигатор накоплений'!E26,9),'Навигатор накоплений'!F26)) | AG15: =IF(AE15="","",ROUND(AH14*'Навигатор накоплений'!D26*IF(YEAR(AE15)=YEAR(AF15-1),(AF15-AE15)/(DATE(YEAR(AE15),12,31)-DATE(YEAR(AE15),1,1)+1),(DATE(YEAR(AE15)+1,1,1)-AE15)/(DATE(YEAR(AE15),12,31)-DATE(YEAR(AE15),1,1)+1)+(AF15-DATE(YEAR(AF15),1,1))/(DATE(YEAR(AF15),12,31)-DATE(YEAR(AF15),1,1)+1)),2)) | AH15: =IF(AE15="","",ROUND(AH14+AG15+IF(AF15<'Навигатор накоплений'!F26,N('Навигатор накоплений'!G26),0),2)) | AJ15: =IF('Навигатор накоплений'!A27="","",IF(9<=DATEDIF('Навигатор накоплений'!E27,'Навигатор накоплений'!F27,"m")+IF(EDATE('Навигатор накоплений'!E27,DATEDIF('Навигатор накоплений'!E27,'Навигатор накоплений'!F27,"m"))<'Навигатор накоплений'!F27,1,0),AK14,"")) | AK15: =IF(AJ15="","",MIN(EDATE('Навигатор накоплений'!E27,9),'Навигатор накоплений'!F27)) | AL15: =IF(AJ15="","",ROUND(AM14*'Навигатор накоплений'!D27*IF(YEAR(AJ15)=YEAR(AK15-1),(AK15-AJ15)/(DATE(YEAR(AJ15),12,31)-DATE(YEAR(AJ15),1,1)+1),(DATE(YEAR(AJ15)+1,1,1)-AJ15)/(DATE(YEAR(AJ15),12,31)-DATE(YEAR(AJ15),1,1)+1)+(AK15-DATE(YEAR(AK15),1,1))/(DATE(YEAR(AK15),12,31)-DATE(YEAR(AK15),1,1)+1)),2)) | AM15: =IF(AJ15="","",ROUND(AM14+AL15+IF(AK15<'Навигатор накоплений'!F27,N('Навигатор накоплений'!G27),0),2)) | AO15: =IF('Навигатор накоплений'!A28="","",IF(9<=DATEDIF('Навигатор накоплений'!E28,'Навигатор накоплений'!F28,"m")+IF(EDATE('Навигатор накоплений'!E28,DATEDIF('Навигатор накоплений'!E28,'Навигатор накоплений'!F28,"m"))<'Навигатор накоплений'!F28,1,0),AP14,"")) | AP15: =IF(AO15="","",MIN(EDATE('Навигатор накоплений'!E28,9),'Навигатор накоплений'!F28)) | AQ15: =IF(AO15="","",ROUND(AR14*'Навигатор накоплений'!D28*IF(YEAR(AO15)=YEAR(AP15-1),(AP15-AO15)/(DATE(YEAR(AO15),12,31)-DATE(YEAR(AO15),1,1)+1),(DATE(YEAR(AO15)+1,1,1)-AO15)/(DATE(YEAR(AO15),12,31)-DATE(YEAR(AO15),1,1)+1)+(AP15-DATE(YEAR(AP15),1,1))/(DATE(YEAR(AP15),12,31)-DATE(YEAR(AP15),1,1)+1)),2)) | AR15: =IF(AO15="","",ROUND(AR14+AQ15+IF(AP15<'Навигатор накоплений'!F28,N('Навигатор накоплений'!G28),0),2)) | AT15: =IF(OR(K15="",L15="",M15="",L15<=K15),0,ROUND(M15*MAX(0,MIN(L15,DATE(2027,1,1))-MAX(K15,DATE(2026,1,1)))/(L15-K15),2)) -> 0 | AU15: =IF(OR(P15="",Q15="",R15="",Q15<=P15),0,ROUND(R15*MAX(0,MIN(Q15,DATE(2027,1,1))-MAX(P15,DATE(2026,1,1)))/(Q15-P15),2)) -> 0 | AV15: =IF(OR(U15="",V15="",W15="",V15<=U15),0,ROUND(W15*MAX(0,MIN(V15,DATE(2027,1,1))-MAX(U15,DATE(2026,1,1)))/(V15-U15),2)) -> 0 | AW15: =IF(OR(Z15="",AA15="",AB15="",AA15<=Z15),0,ROUND(AB15*MAX(0,MIN(AA15,DATE(2027,1,1))-MAX(Z15,DATE(2026,1,1)))/(AA15-Z15),2)) -> 0 | AX15: =IF(OR(AE15="",AF15="",AG15="",AF15<=AE15),0,ROUND(AG15*MAX(0,MIN(AF15,DATE(2027,1,1))-MAX(AE15,DATE(2026,1,1)))/(AF15-AE15),2)) -> 0 | AY15: =IF(OR(AJ15="",AK15="",AL15="",AK15<=AJ15),0,ROUND(AL15*MAX(0,MIN(AK15,DATE(2027,1,1))-MAX(AJ15,DATE(2026,1,1)))/(AK15-AJ15),2)) -> 0 | AZ15: =IF(OR(AO15="",AP15="",AQ15="",AP15<=AO15),0,ROUND(AQ15*MAX(0,MIN(AP15,DATE(2027,1,1))-MAX(AO15,DATE(2026,1,1)))/(AP15-AO15),2)) -> 0 | BA15: =IF(OR(B18="",C18="",H18="",C18<=B18),0,ROUND(H18*MAX(0,MIN(C18,DATE(2027,1,1))-MAX(B18,DATE(2026,1,1)))/(C18-B18),2)) -> 0 | BB15: =IF(OR(B35="",C35="",H35="",C35<=B35),0,ROUND(H35*MAX(0,MIN(C35,DATE(2027,1,1))-MAX(B35,DATE(2026,1,1)))/(C35-B35),2)) -> 0 | BC15: =IF(OR(B52="",C52="",H52="",C52<=B52),0,ROUND(H52*MAX(0,MIN(C52,DATE(2027,1,1))-MAX(B52,DATE(2026,1,1)))/(C52-B52),2)) -> 0 | BD15: =IF(OR(B69="",C69="",H69="",C69<=B69),0,ROUND(H69*MAX(0,MIN(C69,DATE(2027,1,1))-MAX(B69,DATE(2026,1,1)))/(C69-B69),2)) -> 0 | BE15: =IF(OR(B86="",C86="",H86="",C86<=B86),0,ROUND(H86*MAX(0,MIN(C86,DATE(2027,1,1))-MAX(B86,DATE(2026,1,1)))/(C86-B86),2)) -> 0 | BF15: =IF(OR(B103="",C103="",H103="",C103<=B103),0,ROUND(H103*MAX(0,MIN(C103,DATE(2027,1,1))-MAX(B103,DATE(2026,1,1)))/(C103-B103),2)) -> 0
A16: 7 | B16: =IF('Навигатор накоплений'!A31="","",EDATE('Навигатор накоплений'!C31,A16-1)) | C16: =IF(B16="","",EDATE('Навигатор накоплений'!C31,A16)) | D16: =IF(B16="","",I15) | E16: =IF(B16="","",N('Навигатор накоплений'!G31)) | F16: =IF(B16="","",IF('Навигатор накоплений'!F31="Ежедневный остаток",D16+E16,D16)) | G16: =IF(B16="","",C16-B16) | H16: =IF(B16="","",ROUND(F16*'Навигатор накоплений'!E31*IF(YEAR(B16)=YEAR(C16-1),(C16-B16)/(DATE(YEAR(B16),12,31)-DATE(YEAR(B16),1,1)+1),(DATE(YEAR(B16)+1,1,1)-B16)/(DATE(YEAR(B16),12,31)-DATE(YEAR(B16),1,1)+1)+(C16-DATE(YEAR(C16),1,1))/(DATE(YEAR(C16),12,31)-DATE(YEAR(C16),1,1)+1)),2)) | I16: =IF(B16="","",ROUND(D16+E16+H16,2)) | K16: =IF('Навигатор накоплений'!A22="","",IF(10<=DATEDIF('Навигатор накоплений'!E22,'Навигатор накоплений'!F22,"m")+IF(EDATE('Навигатор накоплений'!E22,DATEDIF('Навигатор накоплений'!E22,'Навигатор накоплений'!F22,"m"))<'Навигатор накоплений'!F22,1,0),L15,"")) | L16: =IF(K16="","",MIN(EDATE('Навигатор накоплений'!E22,10),'Навигатор накоплений'!F22)) | M16: =IF(K16="","",ROUND(N15*'Навигатор накоплений'!D22*IF(YEAR(K16)=YEAR(L16-1),(L16-K16)/(DATE(YEAR(K16),12,31)-DATE(YEAR(K16),1,1)+1),(DATE(YEAR(K16)+1,1,1)-K16)/(DATE(YEAR(K16),12,31)-DATE(YEAR(K16),1,1)+1)+(L16-DATE(YEAR(L16),1,1))/(DATE(YEAR(L16),12,31)-DATE(YEAR(L16),1,1)+1)),2)) | N16: =IF(K16="","",ROUND(N15+M16+IF(L16<'Навигатор накоплений'!F22,N('Навигатор накоплений'!G22),0),2)) | P16: =IF('Навигатор накоплений'!A23="","",IF(10<=DATEDIF('Навигатор накоплений'!E23,'Навигатор накоплений'!F23,"m")+IF(EDATE('Навигатор накоплений'!E23,DATEDIF('Навигатор накоплений'!E23,'Навигатор накоплений'!F23,"m"))<'Навигатор накоплений'!F23,1,0),Q15,"")) | Q16: =IF(P16="","",MIN(EDATE('Навигатор накоплений'!E23,10),'Навигатор накоплений'!F23)) | R16: =IF(P16="","",ROUND(S15*'Навигатор накоплений'!D23*IF(YEAR(P16)=YEAR(Q16-1),(Q16-P16)/(DATE(YEAR(P16),12,31)-DATE(YEAR(P16),1,1)+1),(DATE(YEAR(P16)+1,1,1)-P16)/(DATE(YEAR(P16),12,31)-DATE(YEAR(P16),1,1)+1)+(Q16-DATE(YEAR(Q16),1,1))/(DATE(YEAR(Q16),12,31)-DATE(YEAR(Q16),1,1)+1)),2)) | S16: =IF(P16="","",ROUND(S15+R16+IF(Q16<'Навигатор накоплений'!F23,N('Навигатор накоплений'!G23),0),2)) | U16: =IF('Навигатор накоплений'!A24="","",IF(10<=DATEDIF('Навигатор накоплений'!E24,'Навигатор накоплений'!F24,"m")+IF(EDATE('Навигатор накоплений'!E24,DATEDIF('Навигатор накоплений'!E24,'Навигатор накоплений'!F24,"m"))<'Навигатор накоплений'!F24,1,0),V15,"")) | V16: =IF(U16="","",MIN(EDATE('Навигатор накоплений'!E24,10),'Навигатор накоплений'!F24)) | W16: =IF(U16="","",ROUND(X15*'Навигатор накоплений'!D24*IF(YEAR(U16)=YEAR(V16-1),(V16-U16)/(DATE(YEAR(U16),12,31)-DATE(YEAR(U16),1,1)+1),(DATE(YEAR(U16)+1,1,1)-U16)/(DATE(YEAR(U16),12,31)-DATE(YEAR(U16),1,1)+1)+(V16-DATE(YEAR(V16),1,1))/(DATE(YEAR(V16),12,31)-DATE(YEAR(V16),1,1)+1)),2)) | X16: =IF(U16="","",ROUND(X15+W16+IF(V16<'Навигатор накоплений'!F24,N('Навигатор накоплений'!G24),0),2)) | Z16: =IF('Навигатор накоплений'!A25="","",IF(10<=DATEDIF('Навигатор накоплений'!E25,'Навигатор накоплений'!F25,"m")+IF(EDATE('Навигатор накоплений'!E25,DATEDIF('Навигатор накоплений'!E25,'Навигатор накоплений'!F25,"m"))<'Навигатор накоплений'!F25,1,0),AA15,"")) | AA16: =IF(Z16="","",MIN(EDATE('Навигатор накоплений'!E25,10),'Навигатор накоплений'!F25)) | AB16: =IF(Z16="","",ROUND(AC15*'Навигатор накоплений'!D25*IF(YEAR(Z16)=YEAR(AA16-1),(AA16-Z16)/(DATE(YEAR(Z16),12,31)-DATE(YEAR(Z16),1,1)+1),(DATE(YEAR(Z16)+1,1,1)-Z16)/(DATE(YEAR(Z16),12,31)-DATE(YEAR(Z16),1,1)+1)+(AA16-DATE(YEAR(AA16),1,1))/(DATE(YEAR(AA16),12,31)-DATE(YEAR(AA16),1,1)+1)),2)) | AC16: =IF(Z16="","",ROUND(AC15+AB16+IF(AA16<'Навигатор накоплений'!F25,N('Навигатор накоплений'!G25),0),2)) | AE16: =IF('Навигатор накоплений'!A26="","",IF(10<=DATEDIF('Навигатор накоплений'!E26,'Навигатор накоплений'!F26,"m")+IF(EDATE('Навигатор накоплений'!E26,DATEDIF('Навигатор накоплений'!E26,'Навигатор накоплений'!F26,"m"))<'Навигатор накоплений'!F26,1,0),AF15,"")) | AF16: =IF(AE16="","",MIN(EDATE('Навигатор накоплений'!E26,10),'Навигатор накоплений'!F26)) | AG16: =IF(AE16="","",ROUND(AH15*'Навигатор накоплений'!D26*IF(YEAR(AE16)=YEAR(AF16-1),(AF16-AE16)/(DATE(YEAR(AE16),12,31)-DATE(YEAR(AE16),1,1)+1),(DATE(YEAR(AE16)+1,1,1)-AE16)/(DATE(YEAR(AE16),12,31)-DATE(YEAR(AE16),1,1)+1)+(AF16-DATE(YEAR(AF16),1,1))/(DATE(YEAR(AF16),12,31)-DATE(YEAR(AF16),1,1)+1)),2)) | AH16: =IF(AE16="","",ROUND(AH15+AG16+IF(AF16<'Навигатор накоплений'!F26,N('Навигатор накоплений'!G26),0),2)) | AJ16: =IF('Навигатор накоплений'!A27="","",IF(10<=DATEDIF('Навигатор накоплений'!E27,'Навигатор накоплений'!F27,"m")+IF(EDATE('Навигатор накоплений'!E27,DATEDIF('Навигатор накоплений'!E27,'Навигатор накоплений'!F27,"m"))<'Навигатор накоплений'!F27,1,0),AK15,"")) | AK16: =IF(AJ16="","",MIN(EDATE('Навигатор накоплений'!E27,10),'Навигатор накоплений'!F27)) | AL16: =IF(AJ16="","",ROUND(AM15*'Навигатор накоплений'!D27*IF(YEAR(AJ16)=YEAR(AK16-1),(AK16-AJ16)/(DATE(YEAR(AJ16),12,31)-DATE(YEAR(AJ16),1,1)+1),(DATE(YEAR(AJ16)+1,1,1)-AJ16)/(DATE(YEAR(AJ16),12,31)-DATE(YEAR(AJ16),1,1)+1)+(AK16-DATE(YEAR(AK16),1,1))/(DATE(YEAR(AK16),12,31)-DATE(YEAR(AK16),1,1)+1)),2)) | AM16: =IF(AJ16="","",ROUND(AM15+AL16+IF(AK16<'Навигатор накоплений'!F27,N('Навигатор накоплений'!G27),0),2)) | AO16: =IF('Навигатор накоплений'!A28="","",IF(10<=DATEDIF('Навигатор накоплений'!E28,'Навигатор накоплений'!F28,"m")+IF(EDATE('Навигатор накоплений'!E28,DATEDIF('Навигатор накоплений'!E28,'Навигатор накоплений'!F28,"m"))<'Навигатор накоплений'!F28,1,0),AP15,"")) | AP16: =IF(AO16="","",MIN(EDATE('Навигатор накоплений'!E28,10),'Навигатор накоплений'!F28)) | AQ16: =IF(AO16="","",ROUND(AR15*'Навигатор накоплений'!D28*IF(YEAR(AO16)=YEAR(AP16-1),(AP16-AO16)/(DATE(YEAR(AO16),12,31)-DATE(YEAR(AO16),1,1)+1),(DATE(YEAR(AO16)+1,1,1)-AO16)/(DATE(YEAR(AO16),12,31)-DATE(YEAR(AO16),1,1)+1)+(AP16-DATE(YEAR(AP16),1,1))/(DATE(YEAR(AP16),12,31)-DATE(YEAR(AP16),1,1)+1)),2)) | AR16: =IF(AO16="","",ROUND(AR15+AQ16+IF(AP16<'Навигатор накоплений'!F28,N('Навигатор накоплений'!G28),0),2)) | AT16: =IF(OR(K16="",L16="",M16="",L16<=K16),0,ROUND(M16*MAX(0,MIN(L16,DATE(2027,1,1))-MAX(K16,DATE(2026,1,1)))/(L16-K16),2)) -> 0 | AU16: =IF(OR(P16="",Q16="",R16="",Q16<=P16),0,ROUND(R16*MAX(0,MIN(Q16,DATE(2027,1,1))-MAX(P16,DATE(2026,1,1)))/(Q16-P16),2)) -> 0 | AV16: =IF(OR(U16="",V16="",W16="",V16<=U16),0,ROUND(W16*MAX(0,MIN(V16,DATE(2027,1,1))-MAX(U16,DATE(2026,1,1)))/(V16-U16),2)) -> 0 | AW16: =IF(OR(Z16="",AA16="",AB16="",AA16<=Z16),0,ROUND(AB16*MAX(0,MIN(AA16,DATE(2027,1,1))-MAX(Z16,DATE(2026,1,1)))/(AA16-Z16),2)) -> 0 | AX16: =IF(OR(AE16="",AF16="",AG16="",AF16<=AE16),0,ROUND(AG16*MAX(0,MIN(AF16,DATE(2027,1,1))-MAX(AE16,DATE(2026,1,1)))/(AF16-AE16),2)) -> 0 | AY16: =IF(OR(AJ16="",AK16="",AL16="",AK16<=AJ16),0,ROUND(AL16*MAX(0,MIN(AK16,DATE(2027,1,1))-MAX(AJ16,DATE(2026,1,1)))/(AK16-AJ16),2)) -> 0 | AZ16: =IF(OR(AO16="",AP16="",AQ16="",AP16<=AO16),0,ROUND(AQ16*MAX(0,MIN(AP16,DATE(2027,1,1))-MAX(AO16,DATE(2026,1,1)))/(AP16-AO16),2)) -> 0 | BA16: =IF(OR(B19="",C19="",H19="",C19<=B19),0,ROUND(H19*MAX(0,MIN(C19,DATE(2027,1,1))-MAX(B19,DATE(2026,1,1)))/(C19-B19),2)) -> 0 | BB16: =IF(OR(B36="",C36="",H36="",C36<=B36),0,ROUND(H36*MAX(0,MIN(C36,DATE(2027,1,1))-MAX(B36,DATE(2026,1,1)))/(C36-B36),2)) -> 0 | BC16: =IF(OR(B53="",C53="",H53="",C53<=B53),0,ROUND(H53*MAX(0,MIN(C53,DATE(2027,1,1))-MAX(B53,DATE(2026,1,1)))/(C53-B53),2)) -> 0 | BD16: =IF(OR(B70="",C70="",H70="",C70<=B70),0,ROUND(H70*MAX(0,MIN(C70,DATE(2027,1,1))-MAX(B70,DATE(2026,1,1)))/(C70-B70),2)) -> 0 | BE16: =IF(OR(B87="",C87="",H87="",C87<=B87),0,ROUND(H87*MAX(0,MIN(C87,DATE(2027,1,1))-MAX(B87,DATE(2026,1,1)))/(C87-B87),2)) -> 0 | BF16: =IF(OR(B104="",C104="",H104="",C104<=B104),0,ROUND(H104*MAX(0,MIN(C104,DATE(2027,1,1))-MAX(B104,DATE(2026,1,1)))/(C104-B104),2)) -> 0
A17: 8 | B17: =IF('Навигатор накоплений'!A31="","",EDATE('Навигатор накоплений'!C31,A17-1)) | C17: =IF(B17="","",EDATE('Навигатор накоплений'!C31,A17)) | D17: =IF(B17="","",I16) | E17: =IF(B17="","",N('Навигатор накоплений'!G31)) | F17: =IF(B17="","",IF('Навигатор накоплений'!F31="Ежедневный остаток",D17+E17,D17)) | G17: =IF(B17="","",C17-B17) | H17: =IF(B17="","",ROUND(F17*'Навигатор накоплений'!E31*IF(YEAR(B17)=YEAR(C17-1),(C17-B17)/(DATE(YEAR(B17),12,31)-DATE(YEAR(B17),1,1)+1),(DATE(YEAR(B17)+1,1,1)-B17)/(DATE(YEAR(B17),12,31)-DATE(YEAR(B17),1,1)+1)+(C17-DATE(YEAR(C17),1,1))/(DATE(YEAR(C17),12,31)-DATE(YEAR(C17),1,1)+1)),2)) | I17: =IF(B17="","",ROUND(D17+E17+H17,2)) | K17: =IF('Навигатор накоплений'!A22="","",IF(11<=DATEDIF('Навигатор накоплений'!E22,'Навигатор накоплений'!F22,"m")+IF(EDATE('Навигатор накоплений'!E22,DATEDIF('Навигатор накоплений'!E22,'Навигатор накоплений'!F22,"m"))<'Навигатор накоплений'!F22,1,0),L16,"")) | L17: =IF(K17="","",MIN(EDATE('Навигатор накоплений'!E22,11),'Навигатор накоплений'!F22)) | M17: =IF(K17="","",ROUND(N16*'Навигатор накоплений'!D22*IF(YEAR(K17)=YEAR(L17-1),(L17-K17)/(DATE(YEAR(K17),12,31)-DATE(YEAR(K17),1,1)+1),(DATE(YEAR(K17)+1,1,1)-K17)/(DATE(YEAR(K17),12,31)-DATE(YEAR(K17),1,1)+1)+(L17-DATE(YEAR(L17),1,1))/(DATE(YEAR(L17),12,31)-DATE(YEAR(L17),1,1)+1)),2)) | N17: =IF(K17="","",ROUND(N16+M17+IF(L17<'Навигатор накоплений'!F22,N('Навигатор накоплений'!G22),0),2)) | P17: =IF('Навигатор накоплений'!A23="","",IF(11<=DATEDIF('Навигатор накоплений'!E23,'Навигатор накоплений'!F23,"m")+IF(EDATE('Навигатор накоплений'!E23,DATEDIF('Навигатор накоплений'!E23,'Навигатор накоплений'!F23,"m"))<'Навигатор накоплений'!F23,1,0),Q16,"")) | Q17: =IF(P17="","",MIN(EDATE('Навигатор накоплений'!E23,11),'Навигатор накоплений'!F23)) | R17: =IF(P17="","",ROUND(S16*'Навигатор накоплений'!D23*IF(YEAR(P17)=YEAR(Q17-1),(Q17-P17)/(DATE(YEAR(P17),12,31)-DATE(YEAR(P17),1,1)+1),(DATE(YEAR(P17)+1,1,1)-P17)/(DATE(YEAR(P17),12,31)-DATE(YEAR(P17),1,1)+1)+(Q17-DATE(YEAR(Q17),1,1))/(DATE(YEAR(Q17),12,31)-DATE(YEAR(Q17),1,1)+1)),2)) | S17: =IF(P17="","",ROUND(S16+R17+IF(Q17<'Навигатор накоплений'!F23,N('Навигатор накоплений'!G23),0),2)) | U17: =IF('Навигатор накоплений'!A24="","",IF(11<=DATEDIF('Навигатор накоплений'!E24,'Навигатор накоплений'!F24,"m")+IF(EDATE('Навигатор накоплений'!E24,DATEDIF('Навигатор накоплений'!E24,'Навигатор накоплений'!F24,"m"))<'Навигатор накоплений'!F24,1,0),V16,"")) | V17: =IF(U17="","",MIN(EDATE('Навигатор накоплений'!E24,11),'Навигатор накоплений'!F24)) | W17: =IF(U17="","",ROUND(X16*'Навигатор накоплений'!D24*IF(YEAR(U17)=YEAR(V17-1),(V17-U17)/(DATE(YEAR(U17),12,31)-DATE(YEAR(U17),1,1)+1),(DATE(YEAR(U17)+1,1,1)-U17)/(DATE(YEAR(U17),12,31)-DATE(YEAR(U17),1,1)+1)+(V17-DATE(YEAR(V17),1,1))/(DATE(YEAR(V17),12,31)-DATE(YEAR(V17),1,1)+1)),2)) | X17: =IF(U17="","",ROUND(X16+W17+IF(V17<'Навигатор накоплений'!F24,N('Навигатор накоплений'!G24),0),2)) | Z17: =IF('Навигатор накоплений'!A25="","",IF(11<=DATEDIF('Навигатор накоплений'!E25,'Навигатор накоплений'!F25,"m")+IF(EDATE('Навигатор накоплений'!E25,DATEDIF('Навигатор накоплений'!E25,'Навигатор накоплений'!F25,"m"))<'Навигатор накоплений'!F25,1,0),AA16,"")) | AA17: =IF(Z17="","",MIN(EDATE('Навигатор накоплений'!E25,11),'Навигатор накоплений'!F25)) | AB17: =IF(Z17="","",ROUND(AC16*'Навигатор накоплений'!D25*IF(YEAR(Z17)=YEAR(AA17-1),(AA17-Z17)/(DATE(YEAR(Z17),12,31)-DATE(YEAR(Z17),1,1)+1),(DATE(YEAR(Z17)+1,1,1)-Z17)/(DATE(YEAR(Z17),12,31)-DATE(YEAR(Z17),1,1)+1)+(AA17-DATE(YEAR(AA17),1,1))/(DATE(YEAR(AA17),12,31)-DATE(YEAR(AA17),1,1)+1)),2)) | AC17: =IF(Z17="","",ROUND(AC16+AB17+IF(AA17<'Навигатор накоплений'!F25,N('Навигатор накоплений'!G25),0),2)) | AE17: =IF('Навигатор накоплений'!A26="","",IF(11<=DATEDIF('Навигатор накоплений'!E26,'Навигатор накоплений'!F26,"m")+IF(EDATE('Навигатор накоплений'!E26,DATEDIF('Навигатор накоплений'!E26,'Навигатор накоплений'!F26,"m"))<'Навигатор накоплений'!F26,1,0),AF16,"")) | AF17: =IF(AE17="","",MIN(EDATE('Навигатор накоплений'!E26,11),'Навигатор накоплений'!F26)) | AG17: =IF(AE17="","",ROUND(AH16*'Навигатор накоплений'!D26*IF(YEAR(AE17)=YEAR(AF17-1),(AF17-AE17)/(DATE(YEAR(AE17),12,31)-DATE(YEAR(AE17),1,1)+1),(DATE(YEAR(AE17)+1,1,1)-AE17)/(DATE(YEAR(AE17),12,31)-DATE(YEAR(AE17),1,1)+1)+(AF17-DATE(YEAR(AF17),1,1))/(DATE(YEAR(AF17),12,31)-DATE(YEAR(AF17),1,1)+1)),2)) | AH17: =IF(AE17="","",ROUND(AH16+AG17+IF(AF17<'Навигатор накоплений'!F26,N('Навигатор накоплений'!G26),0),2)) | AJ17: =IF('Навигатор накоплений'!A27="","",IF(11<=DATEDIF('Навигатор накоплений'!E27,'Навигатор накоплений'!F27,"m")+IF(EDATE('Навигатор накоплений'!E27,DATEDIF('Навигатор накоплений'!E27,'Навигатор накоплений'!F27,"m"))<'Навигатор накоплений'!F27,1,0),AK16,"")) | AK17: =IF(AJ17="","",MIN(EDATE('Навигатор накоплений'!E27,11),'Навигатор накоплений'!F27)) | AL17: =IF(AJ17="","",ROUND(AM16*'Навигатор накоплений'!D27*IF(YEAR(AJ17)=YEAR(AK17-1),(AK17-AJ17)/(DATE(YEAR(AJ17),12,31)-DATE(YEAR(AJ17),1,1)+1),(DATE(YEAR(AJ17)+1,1,1)-AJ17)/(DATE(YEAR(AJ17),12,31)-DATE(YEAR(AJ17),1,1)+1)+(AK17-DATE(YEAR(AK17),1,1))/(DATE(YEAR(AK17),12,31)-DATE(YEAR(AK17),1,1)+1)),2)) | AM17: =IF(AJ17="","",ROUND(AM16+AL17+IF(AK17<'Навигатор накоплений'!F27,N('Навигатор накоплений'!G27),0),2)) | AO17: =IF('Навигатор накоплений'!A28="","",IF(11<=DATEDIF('Навигатор накоплений'!E28,'Навигатор накоплений'!F28,"m")+IF(EDATE('Навигатор накоплений'!E28,DATEDIF('Навигатор накоплений'!E28,'Навигатор накоплений'!F28,"m"))<'Навигатор накоплений'!F28,1,0),AP16,"")) | AP17: =IF(AO17="","",MIN(EDATE('Навигатор накоплений'!E28,11),'Навигатор накоплений'!F28)) | AQ17: =IF(AO17="","",ROUND(AR16*'Навигатор накоплений'!D28*IF(YEAR(AO17)=YEAR(AP17-1),(AP17-AO17)/(DATE(YEAR(AO17),12,31)-DATE(YEAR(AO17),1,1)+1),(DATE(YEAR(AO17)+1,1,1)-AO17)/(DATE(YEAR(AO17),12,31)-DATE(YEAR(AO17),1,1)+1)+(AP17-DATE(YEAR(AP17),1,1))/(DATE(YEAR(AP17),12,31)-DATE(YEAR(AP17),1,1)+1)),2)) | AR17: =IF(AO17="","",ROUND(AR16+AQ17+IF(AP17<'Навигатор накоплений'!F28,N('Навигатор накоплений'!G28),0),2)) | AT17: =IF(OR(K17="",L17="",M17="",L17<=K17),0,ROUND(M17*MAX(0,MIN(L17,DATE(2027,1,1))-MAX(K17,DATE(2026,1,1)))/(L17-K17),2)) -> 0 | AU17: =IF(OR(P17="",Q17="",R17="",Q17<=P17),0,ROUND(R17*MAX(0,MIN(Q17,DATE(2027,1,1))-MAX(P17,DATE(2026,1,1)))/(Q17-P17),2)) -> 0 | AV17: =IF(OR(U17="",V17="",W17="",V17<=U17),0,ROUND(W17*MAX(0,MIN(V17,DATE(2027,1,1))-MAX(U17,DATE(2026,1,1)))/(V17-U17),2)) -> 0 | AW17: =IF(OR(Z17="",AA17="",AB17="",AA17<=Z17),0,ROUND(AB17*MAX(0,MIN(AA17,DATE(2027,1,1))-MAX(Z17,DATE(2026,1,1)))/(AA17-Z17),2)) -> 0 | AX17: =IF(OR(AE17="",AF17="",AG17="",AF17<=AE17),0,ROUND(AG17*MAX(0,MIN(AF17,DATE(2027,1,1))-MAX(AE17,DATE(2026,1,1)))/(AF17-AE17),2)) -> 0 | AY17: =IF(OR(AJ17="",AK17="",AL17="",AK17<=AJ17),0,ROUND(AL17*MAX(0,MIN(AK17,DATE(2027,1,1))-MAX(AJ17,DATE(2026,1,1)))/(AK17-AJ17),2)) -> 0 | AZ17: =IF(OR(AO17="",AP17="",AQ17="",AP17<=AO17),0,ROUND(AQ17*MAX(0,MIN(AP17,DATE(2027,1,1))-MAX(AO17,DATE(2026,1,1)))/(AP17-AO17),2)) -> 0 | BA17: =IF(OR(B20="",C20="",H20="",C20<=B20),0,ROUND(H20*MAX(0,MIN(C20,DATE(2027,1,1))-MAX(B20,DATE(2026,1,1)))/(C20-B20),2)) -> 0 | BB17: =IF(OR(B37="",C37="",H37="",C37<=B37),0,ROUND(H37*MAX(0,MIN(C37,DATE(2027,1,1))-MAX(B37,DATE(2026,1,1)))/(C37-B37),2)) -> 0 | BC17: =IF(OR(B54="",C54="",H54="",C54<=B54),0,ROUND(H54*MAX(0,MIN(C54,DATE(2027,1,1))-MAX(B54,DATE(2026,1,1)))/(C54-B54),2)) -> 0 | BD17: =IF(OR(B71="",C71="",H71="",C71<=B71),0,ROUND(H71*MAX(0,MIN(C71,DATE(2027,1,1))-MAX(B71,DATE(2026,1,1)))/(C71-B71),2)) -> 0 | BE17: =IF(OR(B88="",C88="",H88="",C88<=B88),0,ROUND(H88*MAX(0,MIN(C88,DATE(2027,1,1))-MAX(B88,DATE(2026,1,1)))/(C88-B88),2)) -> 0 | BF17: =IF(OR(B105="",C105="",H105="",C105<=B105),0,ROUND(H105*MAX(0,MIN(C105,DATE(2027,1,1))-MAX(B105,DATE(2026,1,1)))/(C105-B105),2)) -> 0
A18: 9 | B18: =IF('Навигатор накоплений'!A31="","",EDATE('Навигатор накоплений'!C31,A18-1)) | C18: =IF(B18="","",EDATE('Навигатор накоплений'!C31,A18)) | D18: =IF(B18="","",I17) | E18: =IF(B18="","",N('Навигатор накоплений'!G31)) | F18: =IF(B18="","",IF('Навигатор накоплений'!F31="Ежедневный остаток",D18+E18,D18)) | G18: =IF(B18="","",C18-B18) | H18: =IF(B18="","",ROUND(F18*'Навигатор накоплений'!E31*IF(YEAR(B18)=YEAR(C18-1),(C18-B18)/(DATE(YEAR(B18),12,31)-DATE(YEAR(B18),1,1)+1),(DATE(YEAR(B18)+1,1,1)-B18)/(DATE(YEAR(B18),12,31)-DATE(YEAR(B18),1,1)+1)+(C18-DATE(YEAR(C18),1,1))/(DATE(YEAR(C18),12,31)-DATE(YEAR(C18),1,1)+1)),2)) | I18: =IF(B18="","",ROUND(D18+E18+H18,2)) | K18: =IF('Навигатор накоплений'!A22="","",IF(12<=DATEDIF('Навигатор накоплений'!E22,'Навигатор накоплений'!F22,"m")+IF(EDATE('Навигатор накоплений'!E22,DATEDIF('Навигатор накоплений'!E22,'Навигатор накоплений'!F22,"m"))<'Навигатор накоплений'!F22,1,0),L17,"")) | L18: =IF(K18="","",MIN(EDATE('Навигатор накоплений'!E22,12),'Навигатор накоплений'!F22)) | M18: =IF(K18="","",ROUND(N17*'Навигатор накоплений'!D22*IF(YEAR(K18)=YEAR(L18-1),(L18-K18)/(DATE(YEAR(K18),12,31)-DATE(YEAR(K18),1,1)+1),(DATE(YEAR(K18)+1,1,1)-K18)/(DATE(YEAR(K18),12,31)-DATE(YEAR(K18),1,1)+1)+(L18-DATE(YEAR(L18),1,1))/(DATE(YEAR(L18),12,31)-DATE(YEAR(L18),1,1)+1)),2)) | N18: =IF(K18="","",ROUND(N17+M18+IF(L18<'Навигатор накоплений'!F22,N('Навигатор накоплений'!G22),0),2)) | P18: =IF('Навигатор накоплений'!A23="","",IF(12<=DATEDIF('Навигатор накоплений'!E23,'Навигатор накоплений'!F23,"m")+IF(EDATE('Навигатор накоплений'!E23,DATEDIF('Навигатор накоплений'!E23,'Навигатор накоплений'!F23,"m"))<'Навигатор накоплений'!F23,1,0),Q17,"")) | Q18: =IF(P18="","",MIN(EDATE('Навигатор накоплений'!E23,12),'Навигатор накоплений'!F23)) | R18: =IF(P18="","",ROUND(S17*'Навигатор накоплений'!D23*IF(YEAR(P18)=YEAR(Q18-1),(Q18-P18)/(DATE(YEAR(P18),12,31)-DATE(YEAR(P18),1,1)+1),(DATE(YEAR(P18)+1,1,1)-P18)/(DATE(YEAR(P18),12,31)-DATE(YEAR(P18),1,1)+1)+(Q18-DATE(YEAR(Q18),1,1))/(DATE(YEAR(Q18),12,31)-DATE(YEAR(Q18),1,1)+1)),2)) | S18: =IF(P18="","",ROUND(S17+R18+IF(Q18<'Навигатор накоплений'!F23,N('Навигатор накоплений'!G23),0),2)) | U18: =IF('Навигатор накоплений'!A24="","",IF(12<=DATEDIF('Навигатор накоплений'!E24,'Навигатор накоплений'!F24,"m")+IF(EDATE('Навигатор накоплений'!E24,DATEDIF('Навигатор накоплений'!E24,'Навигатор накоплений'!F24,"m"))<'Навигатор накоплений'!F24,1,0),V17,"")) | V18: =IF(U18="","",MIN(EDATE('Навигатор накоплений'!E24,12),'Навигатор накоплений'!F24)) | W18: =IF(U18="","",ROUND(X17*'Навигатор накоплений'!D24*IF(YEAR(U18)=YEAR(V18-1),(V18-U18)/(DATE(YEAR(U18),12,31)-DATE(YEAR(U18),1,1)+1),(DATE(YEAR(U18)+1,1,1)-U18)/(DATE(YEAR(U18),12,31)-DATE(YEAR(U18),1,1)+1)+(V18-DATE(YEAR(V18),1,1))/(DATE(YEAR(V18),12,31)-DATE(YEAR(V18),1,1)+1)),2)) | X18: =IF(U18="","",ROUND(X17+W18+IF(V18<'Навигатор накоплений'!F24,N('Навигатор накоплений'!G24),0),2)) | Z18: =IF('Навигатор накоплений'!A25="","",IF(12<=DATEDIF('Навигатор накоплений'!E25,'Навигатор накоплений'!F25,"m")+IF(EDATE('Навигатор накоплений'!E25,DATEDIF('Навигатор накоплений'!E25,'Навигатор накоплений'!F25,"m"))<'Навигатор накоплений'!F25,1,0),AA17,"")) | AA18: =IF(Z18="","",MIN(EDATE('Навигатор накоплений'!E25,12),'Навигатор накоплений'!F25)) | AB18: =IF(Z18="","",ROUND(AC17*'Навигатор накоплений'!D25*IF(YEAR(Z18)=YEAR(AA18-1),(AA18-Z18)/(DATE(YEAR(Z18),12,31)-DATE(YEAR(Z18),1,1)+1),(DATE(YEAR(Z18)+1,1,1)-Z18)/(DATE(YEAR(Z18),12,31)-DATE(YEAR(Z18),1,1)+1)+(AA18-DATE(YEAR(AA18),1,1))/(DATE(YEAR(AA18),12,31)-DATE(YEAR(AA18),1,1)+1)),2)) | AC18: =IF(Z18="","",ROUND(AC17+AB18+IF(AA18<'Навигатор накоплений'!F25,N('Навигатор накоплений'!G25),0),2)) | AE18: =IF('Навигатор накоплений'!A26="","",IF(12<=DATEDIF('Навигатор накоплений'!E26,'Навигатор накоплений'!F26,"m")+IF(EDATE('Навигатор накоплений'!E26,DATEDIF('Навигатор накоплений'!E26,'Навигатор накоплений'!F26,"m"))<'Навигатор накоплений'!F26,1,0),AF17,"")) | AF18: =IF(AE18="","",MIN(EDATE('Навигатор накоплений'!E26,12),'Навигатор накоплений'!F26)) | AG18: =IF(AE18="","",ROUND(AH17*'Навигатор накоплений'!D26*IF(YEAR(AE18)=YEAR(AF18-1),(AF18-AE18)/(DATE(YEAR(AE18),12,31)-DATE(YEAR(AE18),1,1)+1),(DATE(YEAR(AE18)+1,1,1)-AE18)/(DATE(YEAR(AE18),12,31)-DATE(YEAR(AE18),1,1)+1)+(AF18-DATE(YEAR(AF18),1,1))/(DATE(YEAR(AF18),12,31)-DATE(YEAR(AF18),1,1)+1)),2)) | AH18: =IF(AE18="","",ROUND(AH17+AG18+IF(AF18<'Навигатор накоплений'!F26,N('Навигатор накоплений'!G26),0),2)) | AJ18: =IF('Навигатор накоплений'!A27="","",IF(12<=DATEDIF('Навигатор накоплений'!E27,'Навигатор накоплений'!F27,"m")+IF(EDATE('Навигатор накоплений'!E27,DATEDIF('Навигатор накоплений'!E27,'Навигатор накоплений'!F27,"m"))<'Навигатор накоплений'!F27,1,0),AK17,"")) | AK18: =IF(AJ18="","",MIN(EDATE('Навигатор накоплений'!E27,12),'Навигатор накоплений'!F27)) | AL18: =IF(AJ18="","",ROUND(AM17*'Навигатор накоплений'!D27*IF(YEAR(AJ18)=YEAR(AK18-1),(AK18-AJ18)/(DATE(YEAR(AJ18),12,31)-DATE(YEAR(AJ18),1,1)+1),(DATE(YEAR(AJ18)+1,1,1)-AJ18)/(DATE(YEAR(AJ18),12,31)-DATE(YEAR(AJ18),1,1)+1)+(AK18-DATE(YEAR(AK18),1,1))/(DATE(YEAR(AK18),12,31)-DATE(YEAR(AK18),1,1)+1)),2)) | AM18: =IF(AJ18="","",ROUND(AM17+AL18+IF(AK18<'Навигатор накоплений'!F27,N('Навигатор накоплений'!G27),0),2)) | AO18: =IF('Навигатор накоплений'!A28="","",IF(12<=DATEDIF('Навигатор накоплений'!E28,'Навигатор накоплений'!F28,"m")+IF(EDATE('Навигатор накоплений'!E28,DATEDIF('Навигатор накоплений'!E28,'Навигатор накоплений'!F28,"m"))<'Навигатор накоплений'!F28,1,0),AP17,"")) | AP18: =IF(AO18="","",MIN(EDATE('Навигатор накоплений'!E28,12),'Навигатор накоплений'!F28)) | AQ18: =IF(AO18="","",ROUND(AR17*'Навигатор накоплений'!D28*IF(YEAR(AO18)=YEAR(AP18-1),(AP18-AO18)/(DATE(YEAR(AO18),12,31)-DATE(YEAR(AO18),1,1)+1),(DATE(YEAR(AO18)+1,1,1)-AO18)/(DATE(YEAR(AO18),12,31)-DATE(YEAR(AO18),1,1)+1)+(AP18-DATE(YEAR(AP18),1,1))/(DATE(YEAR(AP18),12,31)-DATE(YEAR(AP18),1,1)+1)),2)) | AR18: =IF(AO18="","",ROUND(AR17+AQ18+IF(AP18<'Навигатор накоплений'!F28,N('Навигатор накоплений'!G28),0),2)) | AT18: =IF(OR(K18="",L18="",M18="",L18<=K18),0,ROUND(M18*MAX(0,MIN(L18,DATE(2027,1,1))-MAX(K18,DATE(2026,1,1)))/(L18-K18),2)) -> 0 | AU18: =IF(OR(P18="",Q18="",R18="",Q18<=P18),0,ROUND(R18*MAX(0,MIN(Q18,DATE(2027,1,1))-MAX(P18,DATE(2026,1,1)))/(Q18-P18),2)) -> 0 | AV18: =IF(OR(U18="",V18="",W18="",V18<=U18),0,ROUND(W18*MAX(0,MIN(V18,DATE(2027,1,1))-MAX(U18,DATE(2026,1,1)))/(V18-U18),2)) -> 0 | AW18: =IF(OR(Z18="",AA18="",AB18="",AA18<=Z18),0,ROUND(AB18*MAX(0,MIN(AA18,DATE(2027,1,1))-MAX(Z18,DATE(2026,1,1)))/(AA18-Z18),2)) -> 0 | AX18: =IF(OR(AE18="",AF18="",AG18="",AF18<=AE18),0,ROUND(AG18*MAX(0,MIN(AF18,DATE(2027,1,1))-MAX(AE18,DATE(2026,1,1)))/(AF18-AE18),2)) -> 0 | AY18: =IF(OR(AJ18="",AK18="",AL18="",AK18<=AJ18),0,ROUND(AL18*MAX(0,MIN(AK18,DATE(2027,1,1))-MAX(AJ18,DATE(2026,1,1)))/(AK18-AJ18),2)) -> 0 | AZ18: =IF(OR(AO18="",AP18="",AQ18="",AP18<=AO18),0,ROUND(AQ18*MAX(0,MIN(AP18,DATE(2027,1,1))-MAX(AO18,DATE(2026,1,1)))/(AP18-AO18),2)) -> 0 | BA18: =IF(OR(B21="",C21="",H21="",C21<=B21),0,ROUND(H21*MAX(0,MIN(C21,DATE(2027,1,1))-MAX(B21,DATE(2026,1,1)))/(C21-B21),2)) -> 0 | BB18: =IF(OR(B38="",C38="",H38="",C38<=B38),0,ROUND(H38*MAX(0,MIN(C38,DATE(2027,1,1))-MAX(B38,DATE(2026,1,1)))/(C38-B38),2)) -> 0 | BC18: =IF(OR(B55="",C55="",H55="",C55<=B55),0,ROUND(H55*MAX(0,MIN(C55,DATE(2027,1,1))-MAX(B55,DATE(2026,1,1)))/(C55-B55),2)) -> 0 | BD18: =IF(OR(B72="",C72="",H72="",C72<=B72),0,ROUND(H72*MAX(0,MIN(C72,DATE(2027,1,1))-MAX(B72,DATE(2026,1,1)))/(C72-B72),2)) -> 0 | BE18: =IF(OR(B89="",C89="",H89="",C89<=B89),0,ROUND(H89*MAX(0,MIN(C89,DATE(2027,1,1))-MAX(B89,DATE(2026,1,1)))/(C89-B89),2)) -> 0 | BF18: =IF(OR(B106="",C106="",H106="",C106<=B106),0,ROUND(H106*MAX(0,MIN(C106,DATE(2027,1,1))-MAX(B106,DATE(2026,1,1)))/(C106-B106),2)) -> 0
A19: 10 | B19: =IF('Навигатор накоплений'!A31="","",EDATE('Навигатор накоплений'!C31,A19-1)) | C19: =IF(B19="","",EDATE('Навигатор накоплений'!C31,A19)) | D19: =IF(B19="","",I18) | E19: =IF(B19="","",N('Навигатор накоплений'!G31)) | F19: =IF(B19="","",IF('Навигатор накоплений'!F31="Ежедневный остаток",D19+E19,D19)) | G19: =IF(B19="","",C19-B19) | H19: =IF(B19="","",ROUND(F19*'Навигатор накоплений'!E31*IF(YEAR(B19)=YEAR(C19-1),(C19-B19)/(DATE(YEAR(B19),12,31)-DATE(YEAR(B19),1,1)+1),(DATE(YEAR(B19)+1,1,1)-B19)/(DATE(YEAR(B19),12,31)-DATE(YEAR(B19),1,1)+1)+(C19-DATE(YEAR(C19),1,1))/(DATE(YEAR(C19),12,31)-DATE(YEAR(C19),1,1)+1)),2)) | I19: =IF(B19="","",ROUND(D19+E19+H19,2)) | K19: =IF('Навигатор накоплений'!A22="","",IF(13<=DATEDIF('Навигатор накоплений'!E22,'Навигатор накоплений'!F22,"m")+IF(EDATE('Навигатор накоплений'!E22,DATEDIF('Навигатор накоплений'!E22,'Навигатор накоплений'!F22,"m"))<'Навигатор накоплений'!F22,1,0),L18,"")) | L19: =IF(K19="","",MIN(EDATE('Навигатор накоплений'!E22,13),'Навигатор накоплений'!F22)) | M19: =IF(K19="","",ROUND(N18*'Навигатор накоплений'!D22*IF(YEAR(K19)=YEAR(L19-1),(L19-K19)/(DATE(YEAR(K19),12,31)-DATE(YEAR(K19),1,1)+1),(DATE(YEAR(K19)+1,1,1)-K19)/(DATE(YEAR(K19),12,31)-DATE(YEAR(K19),1,1)+1)+(L19-DATE(YEAR(L19),1,1))/(DATE(YEAR(L19),12,31)-DATE(YEAR(L19),1,1)+1)),2)) | N19: =IF(K19="","",ROUND(N18+M19+IF(L19<'Навигатор накоплений'!F22,N('Навигатор накоплений'!G22),0),2)) | P19: =IF('Навигатор накоплений'!A23="","",IF(13<=DATEDIF('Навигатор накоплений'!E23,'Навигатор накоплений'!F23,"m")+IF(EDATE('Навигатор накоплений'!E23,DATEDIF('Навигатор накоплений'!E23,'Навигатор накоплений'!F23,"m"))<'Навигатор накоплений'!F23,1,0),Q18,"")) | Q19: =IF(P19="","",MIN(EDATE('Навигатор накоплений'!E23,13),'Навигатор накоплений'!F23)) | R19: =IF(P19="","",ROUND(S18*'Навигатор накоплений'!D23*IF(YEAR(P19)=YEAR(Q19-1),(Q19-P19)/(DATE(YEAR(P19),12,31)-DATE(YEAR(P19),1,1)+1),(DATE(YEAR(P19)+1,1,1)-P19)/(DATE(YEAR(P19),12,31)-DATE(YEAR(P19),1,1)+1)+(Q19-DATE(YEAR(Q19),1,1))/(DATE(YEAR(Q19),12,31)-DATE(YEAR(Q19),1,1)+1)),2)) | S19: =IF(P19="","",ROUND(S18+R19+IF(Q19<'Навигатор накоплений'!F23,N('Навигатор накоплений'!G23),0),2)) | U19: =IF('Навигатор накоплений'!A24="","",IF(13<=DATEDIF('Навигатор накоплений'!E24,'Навигатор накоплений'!F24,"m")+IF(EDATE('Навигатор накоплений'!E24,DATEDIF('Навигатор накоплений'!E24,'Навигатор накоплений'!F24,"m"))<'Навигатор накоплений'!F24,1,0),V18,"")) | V19: =IF(U19="","",MIN(EDATE('Навигатор накоплений'!E24,13),'Навигатор накоплений'!F24)) | W19: =IF(U19="","",ROUND(X18*'Навигатор накоплений'!D24*IF(YEAR(U19)=YEAR(V19-1),(V19-U19)/(DATE(YEAR(U19),12,31)-DATE(YEAR(U19),1,1)+1),(DATE(YEAR(U19)+1,1,1)-U19)/(DATE(YEAR(U19),12,31)-DATE(YEAR(U19),1,1)+1)+(V19-DATE(YEAR(V19),1,1))/(DATE(YEAR(V19),12,31)-DATE(YEAR(V19),1,1)+1)),2)) | X19: =IF(U19="","",ROUND(X18+W19+IF(V19<'Навигатор накоплений'!F24,N('Навигатор накоплений'!G24),0),2)) | Z19: =IF('Навигатор накоплений'!A25="","",IF(13<=DATEDIF('Навигатор накоплений'!E25,'Навигатор накоплений'!F25,"m")+IF(EDATE('Навигатор накоплений'!E25,DATEDIF('Навигатор накоплений'!E25,'Навигатор накоплений'!F25,"m"))<'Навигатор накоплений'!F25,1,0),AA18,"")) | AA19: =IF(Z19="","",MIN(EDATE('Навигатор накоплений'!E25,13),'Навигатор накоплений'!F25)) | AB19: =IF(Z19="","",ROUND(AC18*'Навигатор накоплений'!D25*IF(YEAR(Z19)=YEAR(AA19-1),(AA19-Z19)/(DATE(YEAR(Z19),12,31)-DATE(YEAR(Z19),1,1)+1),(DATE(YEAR(Z19)+1,1,1)-Z19)/(DATE(YEAR(Z19),12,31)-DATE(YEAR(Z19),1,1)+1)+(AA19-DATE(YEAR(AA19),1,1))/(DATE(YEAR(AA19),12,31)-DATE(YEAR(AA19),1,1)+1)),2)) | AC19: =IF(Z19="","",ROUND(AC18+AB19+IF(AA19<'Навигатор накоплений'!F25,N('Навигатор накоплений'!G25),0),2)) | AE19: =IF('Навигатор накоплений'!A26="","",IF(13<=DATEDIF('Навигатор накоплений'!E26,'Навигатор накоплений'!F26,"m")+IF(EDATE('Навигатор накоплений'!E26,DATEDIF('Навигатор накоплений'!E26,'Навигатор накоплений'!F26,"m"))<'Навигатор накоплений'!F26,1,0),AF18,"")) | AF19: =IF(AE19="","",MIN(EDATE('Навигатор накоплений'!E26,13),'Навигатор накоплений'!F26)) | AG19: =IF(AE19="","",ROUND(AH18*'Навигатор накоплений'!D26*IF(YEAR(AE19)=YEAR(AF19-1),(AF19-AE19)/(DATE(YEAR(AE19),12,31)-DATE(YEAR(AE19),1,1)+1),(DATE(YEAR(AE19)+1,1,1)-AE19)/(DATE(YEAR(AE19),12,31)-DATE(YEAR(AE19),1,1)+1)+(AF19-DATE(YEAR(AF19),1,1))/(DATE(YEAR(AF19),12,31)-DATE(YEAR(AF19),1,1)+1)),2)) | AH19: =IF(AE19="","",ROUND(AH18+AG19+IF(AF19<'Навигатор накоплений'!F26,N('Навигатор накоплений'!G26),0),2)) | AJ19: =IF('Навигатор накоплений'!A27="","",IF(13<=DATEDIF('Навигатор накоплений'!E27,'Навигатор накоплений'!F27,"m")+IF(EDATE('Навигатор накоплений'!E27,DATEDIF('Навигатор накоплений'!E27,'Навигатор накоплений'!F27,"m"))<'Навигатор накоплений'!F27,1,0),AK18,"")) | AK19: =IF(AJ19="","",MIN(EDATE('Навигатор накоплений'!E27,13),'Навигатор накоплений'!F27)) | AL19: =IF(AJ19="","",ROUND(AM18*'Навигатор накоплений'!D27*IF(YEAR(AJ19)=YEAR(AK19-1),(AK19-AJ19)/(DATE(YEAR(AJ19),12,31)-DATE(YEAR(AJ19),1,1)+1),(DATE(YEAR(AJ19)+1,1,1)-AJ19)/(DATE(YEAR(AJ19),12,31)-DATE(YEAR(AJ19),1,1)+1)+(AK19-DATE(YEAR(AK19),1,1))/(DATE(YEAR(AK19),12,31)-DATE(YEAR(AK19),1,1)+1)),2)) | AM19: =IF(AJ19="","",ROUND(AM18+AL19+IF(AK19<'Навигатор накоплений'!F27,N('Навигатор накоплений'!G27),0),2)) | AO19: =IF('Навигатор накоплений'!A28="","",IF(13<=DATEDIF('Навигатор накоплений'!E28,'Навигатор накоплений'!F28,"m")+IF(EDATE('Навигатор накоплений'!E28,DATEDIF('Навигатор накоплений'!E28,'Навигатор накоплений'!F28,"m"))<'Навигатор накоплений'!F28,1,0),AP18,"")) | AP19: =IF(AO19="","",MIN(EDATE('Навигатор накоплений'!E28,13),'Навигатор накоплений'!F28)) | AQ19: =IF(AO19="","",ROUND(AR18*'Навигатор накоплений'!D28*IF(YEAR(AO19)=YEAR(AP19-1),(AP19-AO19)/(DATE(YEAR(AO19),12,31)-DATE(YEAR(AO19),1,1)+1),(DATE(YEAR(AO19)+1,1,1)-AO19)/(DATE(YEAR(AO19),12,31)-DATE(YEAR(AO19),1,1)+1)+(AP19-DATE(YEAR(AP19),1,1))/(DATE(YEAR(AP19),12,31)-DATE(YEAR(AP19),1,1)+1)),2)) | AR19: =IF(AO19="","",ROUND(AR18+AQ19+IF(AP19<'Навигатор накоплений'!F28,N('Навигатор накоплений'!G28),0),2)) | AT19: =IF(OR(K19="",L19="",M19="",L19<=K19),0,ROUND(M19*MAX(0,MIN(L19,DATE(2027,1,1))-MAX(K19,DATE(2026,1,1)))/(L19-K19),2)) -> 0 | AU19: =IF(OR(P19="",Q19="",R19="",Q19<=P19),0,ROUND(R19*MAX(0,MIN(Q19,DATE(2027,1,1))-MAX(P19,DATE(2026,1,1)))/(Q19-P19),2)) -> 0 | AV19: =IF(OR(U19="",V19="",W19="",V19<=U19),0,ROUND(W19*MAX(0,MIN(V19,DATE(2027,1,1))-MAX(U19,DATE(2026,1,1)))/(V19-U19),2)) -> 0 | AW19: =IF(OR(Z19="",AA19="",AB19="",AA19<=Z19),0,ROUND(AB19*MAX(0,MIN(AA19,DATE(2027,1,1))-MAX(Z19,DATE(2026,1,1)))/(AA19-Z19),2)) -> 0 | AX19: =IF(OR(AE19="",AF19="",AG19="",AF19<=AE19),0,ROUND(AG19*MAX(0,MIN(AF19,DATE(2027,1,1))-MAX(AE19,DATE(2026,1,1)))/(AF19-AE19),2)) -> 0 | AY19: =IF(OR(AJ19="",AK19="",AL19="",AK19<=AJ19),0,ROUND(AL19*MAX(0,MIN(AK19,DATE(2027,1,1))-MAX(AJ19,DATE(2026,1,1)))/(AK19-AJ19),2)) -> 0 | AZ19: =IF(OR(AO19="",AP19="",AQ19="",AP19<=AO19),0,ROUND(AQ19*MAX(0,MIN(AP19,DATE(2027,1,1))-MAX(AO19,DATE(2026,1,1)))/(AP19-AO19),2)) -> 0 | BA19: =SUM(BA7:BA18) -> 0 | BB19: =SUM(BB7:BB18) -> 0 | BC19: =SUM(BC7:BC18) -> 0 | BD19: =SUM(BD7:BD18) -> 0 | BE19: =SUM(BE7:BE18) -> 0 | BF19: =SUM(BF7:BF18) -> 0
A20: 11 | B20: =IF('Навигатор накоплений'!A31="","",EDATE('Навигатор накоплений'!C31,A20-1)) | C20: =IF(B20="","",EDATE('Навигатор накоплений'!C31,A20)) | D20: =IF(B20="","",I19) | E20: =IF(B20="","",N('Навигатор накоплений'!G31)) | F20: =IF(B20="","",IF('Навигатор накоплений'!F31="Ежедневный остаток",D20+E20,D20)) | G20: =IF(B20="","",C20-B20) | H20: =IF(B20="","",ROUND(F20*'Навигатор накоплений'!E31*IF(YEAR(B20)=YEAR(C20-1),(C20-B20)/(DATE(YEAR(B20),12,31)-DATE(YEAR(B20),1,1)+1),(DATE(YEAR(B20)+1,1,1)-B20)/(DATE(YEAR(B20),12,31)-DATE(YEAR(B20),1,1)+1)+(C20-DATE(YEAR(C20),1,1))/(DATE(YEAR(C20),12,31)-DATE(YEAR(C20),1,1)+1)),2)) | I20: =IF(B20="","",ROUND(D20+E20+H20,2)) | K20: =IF('Навигатор накоплений'!A22="","",IF(14<=DATEDIF('Навигатор накоплений'!E22,'Навигатор накоплений'!F22,"m")+IF(EDATE('Навигатор накоплений'!E22,DATEDIF('Навигатор накоплений'!E22,'Навигатор накоплений'!F22,"m"))<'Навигатор накоплений'!F22,1,0),L19,"")) | L20: =IF(K20="","",MIN(EDATE('Навигатор накоплений'!E22,14),'Навигатор накоплений'!F22)) | M20: =IF(K20="","",ROUND(N19*'Навигатор накоплений'!D22*IF(YEAR(K20)=YEAR(L20-1),(L20-K20)/(DATE(YEAR(K20),12,31)-DATE(YEAR(K20),1,1)+1),(DATE(YEAR(K20)+1,1,1)-K20)/(DATE(YEAR(K20),12,31)-DATE(YEAR(K20),1,1)+1)+(L20-DATE(YEAR(L20),1,1))/(DATE(YEAR(L20),12,31)-DATE(YEAR(L20),1,1)+1)),2)) | N20: =IF(K20="","",ROUND(N19+M20+IF(L20<'Навигатор накоплений'!F22,N('Навигатор накоплений'!G22),0),2)) | P20: =IF('Навигатор накоплений'!A23="","",IF(14<=DATEDIF('Навигатор накоплений'!E23,'Навигатор накоплений'!F23,"m")+IF(EDATE('Навигатор накоплений'!E23,DATEDIF('Навигатор накоплений'!E23,'Навигатор накоплений'!F23,"m"))<'Навигатор накоплений'!F23,1,0),Q19,"")) | Q20: =IF(P20="","",MIN(EDATE('Навигатор накоплений'!E23,14),'Навигатор накоплений'!F23)) | R20: =IF(P20="","",ROUND(S19*'Навигатор накоплений'!D23*IF(YEAR(P20)=YEAR(Q20-1),(Q20-P20)/(DATE(YEAR(P20),12,31)-DATE(YEAR(P20),1,1)+1),(DATE(YEAR(P20)+1,1,1)-P20)/(DATE(YEAR(P20),12,31)-DATE(YEAR(P20),1,1)+1)+(Q20-DATE(YEAR(Q20),1,1))/(DATE(YEAR(Q20),12,31)-DATE(YEAR(Q20),1,1)+1)),2)) | S20: =IF(P20="","",ROUND(S19+R20+IF(Q20<'Навигатор накоплений'!F23,N('Навигатор накоплений'!G23),0),2)) | U20: =IF('Навигатор накоплений'!A24="","",IF(14<=DATEDIF('Навигатор накоплений'!E24,'Навигатор накоплений'!F24,"m")+IF(EDATE('Навигатор накоплений'!E24,DATEDIF('Навигатор накоплений'!E24,'Навигатор накоплений'!F24,"m"))<'Навигатор накоплений'!F24,1,0),V19,"")) | V20: =IF(U20="","",MIN(EDATE('Навигатор накоплений'!E24,14),'Навигатор накоплений'!F24)) | W20: =IF(U20="","",ROUND(X19*'Навигатор накоплений'!D24*IF(YEAR(U20)=YEAR(V20-1),(V20-U20)/(DATE(YEAR(U20),12,31)-DATE(YEAR(U20),1,1)+1),(DATE(YEAR(U20)+1,1,1)-U20)/(DATE(YEAR(U20),12,31)-DATE(YEAR(U20),1,1)+1)+(V20-DATE(YEAR(V20),1,1))/(DATE(YEAR(V20),12,31)-DATE(YEAR(V20),1,1)+1)),2)) | X20: =IF(U20="","",ROUND(X19+W20+IF(V20<'Навигатор накоплений'!F24,N('Навигатор накоплений'!G24),0),2)) | Z20: =IF('Навигатор накоплений'!A25="","",IF(14<=DATEDIF('Навигатор накоплений'!E25,'Навигатор накоплений'!F25,"m")+IF(EDATE('Навигатор накоплений'!E25,DATEDIF('Навигатор накоплений'!E25,'Навигатор накоплений'!F25,"m"))<'Навигатор накоплений'!F25,1,0),AA19,"")) | AA20: =IF(Z20="","",MIN(EDATE('Навигатор накоплений'!E25,14),'Навигатор накоплений'!F25)) | AB20: =IF(Z20="","",ROUND(AC19*'Навигатор накоплений'!D25*IF(YEAR(Z20)=YEAR(AA20-1),(AA20-Z20)/(DATE(YEAR(Z20),12,31)-DATE(YEAR(Z20),1,1)+1),(DATE(YEAR(Z20)+1,1,1)-Z20)/(DATE(YEAR(Z20),12,31)-DATE(YEAR(Z20),1,1)+1)+(AA20-DATE(YEAR(AA20),1,1))/(DATE(YEAR(AA20),12,31)-DATE(YEAR(AA20),1,1)+1)),2)) | AC20: =IF(Z20="","",ROUND(AC19+AB20+IF(AA20<'Навигатор накоплений'!F25,N('Навигатор накоплений'!G25),0),2)) | AE20: =IF('Навигатор накоплений'!A26="","",IF(14<=DATEDIF('Навигатор накоплений'!E26,'Навигатор накоплений'!F26,"m")+IF(EDATE('Навигатор накоплений'!E26,DATEDIF('Навигатор накоплений'!E26,'Навигатор накоплений'!F26,"m"))<'Навигатор накоплений'!F26,1,0),AF19,"")) | AF20: =IF(AE20="","",MIN(EDATE('Навигатор накоплений'!E26,14),'Навигатор накоплений'!F26)) | AG20: =IF(AE20="","",ROUND(AH19*'Навигатор накоплений'!D26*IF(YEAR(AE20)=YEAR(AF20-1),(AF20-AE20)/(DATE(YEAR(AE20),12,31)-DATE(YEAR(AE20),1,1)+1),(DATE(YEAR(AE20)+1,1,1)-AE20)/(DATE(YEAR(AE20),12,31)-DATE(YEAR(AE20),1,1)+1)+(AF20-DATE(YEAR(AF20),1,1))/(DATE(YEAR(AF20),12,31)-DATE(YEAR(AF20),1,1)+1)),2)) | AH20: =IF(AE20="","",ROUND(AH19+AG20+IF(AF20<'Навигатор накоплений'!F26,N('Навигатор накоплений'!G26),0),2)) | AJ20: =IF('Навигатор накоплений'!A27="","",IF(14<=DATEDIF('Навигатор накоплений'!E27,'Навигатор накоплений'!F27,"m")+IF(EDATE('Навигатор накоплений'!E27,DATEDIF('Навигатор накоплений'!E27,'Навигатор накоплений'!F27,"m"))<'Навигатор накоплений'!F27,1,0),AK19,"")) | AK20: =IF(AJ20="","",MIN(EDATE('Навигатор накоплений'!E27,14),'Навигатор накоплений'!F27)) | AL20: =IF(AJ20="","",ROUND(AM19*'Навигатор накоплений'!D27*IF(YEAR(AJ20)=YEAR(AK20-1),(AK20-AJ20)/(DATE(YEAR(AJ20),12,31)-DATE(YEAR(AJ20),1,1)+1),(DATE(YEAR(AJ20)+1,1,1)-AJ20)/(DATE(YEAR(AJ20),12,31)-DATE(YEAR(AJ20),1,1)+1)+(AK20-DATE(YEAR(AK20),1,1))/(DATE(YEAR(AK20),12,31)-DATE(YEAR(AK20),1,1)+1)),2)) | AM20: =IF(AJ20="","",ROUND(AM19+AL20+IF(AK20<'Навигатор накоплений'!F27,N('Навигатор накоплений'!G27),0),2)) | AO20: =IF('Навигатор накоплений'!A28="","",IF(14<=DATEDIF('Навигатор накоплений'!E28,'Навигатор накоплений'!F28,"m")+IF(EDATE('Навигатор накоплений'!E28,DATEDIF('Навигатор накоплений'!E28,'Навигатор накоплений'!F28,"m"))<'Навигатор накоплений'!F28,1,0),AP19,"")) | AP20: =IF(AO20="","",MIN(EDATE('Навигатор накоплений'!E28,14),'Навигатор накоплений'!F28)) | AQ20: =IF(AO20="","",ROUND(AR19*'Навигатор накоплений'!D28*IF(YEAR(AO20)=YEAR(AP20-1),(AP20-AO20)/(DATE(YEAR(AO20),12,31)-DATE(YEAR(AO20),1,1)+1),(DATE(YEAR(AO20)+1,1,1)-AO20)/(DATE(YEAR(AO20),12,31)-DATE(YEAR(AO20),1,1)+1)+(AP20-DATE(YEAR(AP20),1,1))/(DATE(YEAR(AP20),12,31)-DATE(YEAR(AP20),1,1)+1)),2)) | AR20: =IF(AO20="","",ROUND(AR19+AQ20+IF(AP20<'Навигатор накоплений'!F28,N('Навигатор накоплений'!G28),0),2)) | AT20: =IF(OR(K20="",L20="",M20="",L20<=K20),0,ROUND(M20*MAX(0,MIN(L20,DATE(2027,1,1))-MAX(K20,DATE(2026,1,1)))/(L20-K20),2)) -> 0 | AU20: =IF(OR(P20="",Q20="",R20="",Q20<=P20),0,ROUND(R20*MAX(0,MIN(Q20,DATE(2027,1,1))-MAX(P20,DATE(2026,1,1)))/(Q20-P20),2)) -> 0 | AV20: =IF(OR(U20="",V20="",W20="",V20<=U20),0,ROUND(W20*MAX(0,MIN(V20,DATE(2027,1,1))-MAX(U20,DATE(2026,1,1)))/(V20-U20),2)) -> 0 | AW20: =IF(OR(Z20="",AA20="",AB20="",AA20<=Z20),0,ROUND(AB20*MAX(0,MIN(AA20,DATE(2027,1,1))-MAX(Z20,DATE(2026,1,1)))/(AA20-Z20),2)) -> 0 | AX20: =IF(OR(AE20="",AF20="",AG20="",AF20<=AE20),0,ROUND(AG20*MAX(0,MIN(AF20,DATE(2027,1,1))-MAX(AE20,DATE(2026,1,1)))/(AF20-AE20),2)) -> 0 | AY20: =IF(OR(AJ20="",AK20="",AL20="",AK20<=AJ20),0,ROUND(AL20*MAX(0,MIN(AK20,DATE(2027,1,1))-MAX(AJ20,DATE(2026,1,1)))/(AK20-AJ20),2)) -> 0 | AZ20: =IF(OR(AO20="",AP20="",AQ20="",AP20<=AO20),0,ROUND(AQ20*MAX(0,MIN(AP20,DATE(2027,1,1))-MAX(AO20,DATE(2026,1,1)))/(AP20-AO20),2)) -> 0
A21: 12 | B21: =IF('Навигатор накоплений'!A31="","",EDATE('Навигатор накоплений'!C31,A21-1)) | C21: =IF(B21="","",EDATE('Навигатор накоплений'!C31,A21)) | D21: =IF(B21="","",I20) | E21: =IF(B21="","",N('Навигатор накоплений'!G31)) | F21: =IF(B21="","",IF('Навигатор накоплений'!F31="Ежедневный остаток",D21+E21,D21)) | G21: =IF(B21="","",C21-B21) | H21: =IF(B21="","",ROUND(F21*'Навигатор накоплений'!E31*IF(YEAR(B21)=YEAR(C21-1),(C21-B21)/(DATE(YEAR(B21),12,31)-DATE(YEAR(B21),1,1)+1),(DATE(YEAR(B21)+1,1,1)-B21)/(DATE(YEAR(B21),12,31)-DATE(YEAR(B21),1,1)+1)+(C21-DATE(YEAR(C21),1,1))/(DATE(YEAR(C21),12,31)-DATE(YEAR(C21),1,1)+1)),2)) | I21: =IF(B21="","",ROUND(D21+E21+H21,2)) | K21: =IF('Навигатор накоплений'!A22="","",IF(15<=DATEDIF('Навигатор накоплений'!E22,'Навигатор накоплений'!F22,"m")+IF(EDATE('Навигатор накоплений'!E22,DATEDIF('Навигатор накоплений'!E22,'Навигатор накоплений'!F22,"m"))<'Навигатор накоплений'!F22,1,0),L20,"")) | L21: =IF(K21="","",MIN(EDATE('Навигатор накоплений'!E22,15),'Навигатор накоплений'!F22)) | M21: =IF(K21="","",ROUND(N20*'Навигатор накоплений'!D22*IF(YEAR(K21)=YEAR(L21-1),(L21-K21)/(DATE(YEAR(K21),12,31)-DATE(YEAR(K21),1,1)+1),(DATE(YEAR(K21)+1,1,1)-K21)/(DATE(YEAR(K21),12,31)-DATE(YEAR(K21),1,1)+1)+(L21-DATE(YEAR(L21),1,1))/(DATE(YEAR(L21),12,31)-DATE(YEAR(L21),1,1)+1)),2)) | N21: =IF(K21="","",ROUND(N20+M21+IF(L21<'Навигатор накоплений'!F22,N('Навигатор накоплений'!G22),0),2)) | P21: =IF('Навигатор накоплений'!A23="","",IF(15<=DATEDIF('Навигатор накоплений'!E23,'Навигатор накоплений'!F23,"m")+IF(EDATE('Навигатор накоплений'!E23,DATEDIF('Навигатор накоплений'!E23,'Навигатор накоплений'!F23,"m"))<'Навигатор накоплений'!F23,1,0),Q20,"")) | Q21: =IF(P21="","",MIN(EDATE('Навигатор накоплений'!E23,15),'Навигатор накоплений'!F23)) | R21: =IF(P21="","",ROUND(S20*'Навигатор накоплений'!D23*IF(YEAR(P21)=YEAR(Q21-1),(Q21-P21)/(DATE(YEAR(P21),12,31)-DATE(YEAR(P21),1,1)+1),(DATE(YEAR(P21)+1,1,1)-P21)/(DATE(YEAR(P21),12,31)-DATE(YEAR(P21),1,1)+1)+(Q21-DATE(YEAR(Q21),1,1))/(DATE(YEAR(Q21),12,31)-DATE(YEAR(Q21),1,1)+1)),2)) | S21: =IF(P21="","",ROUND(S20+R21+IF(Q21<'Навигатор накоплений'!F23,N('Навигатор накоплений'!G23),0),2)) | U21: =IF('Навигатор накоплений'!A24="","",IF(15<=DATEDIF('Навигатор накоплений'!E24,'Навигатор накоплений'!F24,"m")+IF(EDATE('Навигатор накоплений'!E24,DATEDIF('Навигатор накоплений'!E24,'Навигатор накоплений'!F24,"m"))<'Навигатор накоплений'!F24,1,0),V20,"")) | V21: =IF(U21="","",MIN(EDATE('Навигатор накоплений'!E24,15),'Навигатор накоплений'!F24)) | W21: =IF(U21="","",ROUND(X20*'Навигатор накоплений'!D24*IF(YEAR(U21)=YEAR(V21-1),(V21-U21)/(DATE(YEAR(U21),12,31)-DATE(YEAR(U21),1,1)+1),(DATE(YEAR(U21)+1,1,1)-U21)/(DATE(YEAR(U21),12,31)-DATE(YEAR(U21),1,1)+1)+(V21-DATE(YEAR(V21),1,1))/(DATE(YEAR(V21),12,31)-DATE(YEAR(V21),1,1)+1)),2)) | X21: =IF(U21="","",ROUND(X20+W21+IF(V21<'Навигатор накоплений'!F24,N('Навигатор накоплений'!G24),0),2)) | Z21: =IF('Навигатор накоплений'!A25="","",IF(15<=DATEDIF('Навигатор накоплений'!E25,'Навигатор накоплений'!F25,"m")+IF(EDATE('Навигатор накоплений'!E25,DATEDIF('Навигатор накоплений'!E25,'Навигатор накоплений'!F25,"m"))<'Навигатор накоплений'!F25,1,0),AA20,"")) | AA21: =IF(Z21="","",MIN(EDATE('Навигатор накоплений'!E25,15),'Навигатор накоплений'!F25)) | AB21: =IF(Z21="","",ROUND(AC20*'Навигатор накоплений'!D25*IF(YEAR(Z21)=YEAR(AA21-1),(AA21-Z21)/(DATE(YEAR(Z21),12,31)-DATE(YEAR(Z21),1,1)+1),(DATE(YEAR(Z21)+1,1,1)-Z21)/(DATE(YEAR(Z21),12,31)-DATE(YEAR(Z21),1,1)+1)+(AA21-DATE(YEAR(AA21),1,1))/(DATE(YEAR(AA21),12,31)-DATE(YEAR(AA21),1,1)+1)),2)) | AC21: =IF(Z21="","",ROUND(AC20+AB21+IF(AA21<'Навигатор накоплений'!F25,N('Навигатор накоплений'!G25),0),2)) | AE21: =IF('Навигатор накоплений'!A26="","",IF(15<=DATEDIF('Навигатор накоплений'!E26,'Навигатор накоплений'!F26,"m")+IF(EDATE('Навигатор накоплений'!E26,DATEDIF('Навигатор накоплений'!E26,'Навигатор накоплений'!F26,"m"))<'Навигатор накоплений'!F26,1,0),AF20,"")) | AF21: =IF(AE21="","",MIN(EDATE('Навигатор накоплений'!E26,15),'Навигатор накоплений'!F26)) | AG21: =IF(AE21="","",ROUND(AH20*'Навигатор накоплений'!D26*IF(YEAR(AE21)=YEAR(AF21-1),(AF21-AE21)/(DATE(YEAR(AE21),12,31)-DATE(YEAR(AE21),1,1)+1),(DATE(YEAR(AE21)+1,1,1)-AE21)/(DATE(YEAR(AE21),12,31)-DATE(YEAR(AE21),1,1)+1)+(AF21-DATE(YEAR(AF21),1,1))/(DATE(YEAR(AF21),12,31)-DATE(YEAR(AF21),1,1)+1)),2)) | AH21: =IF(AE21="","",ROUND(AH20+AG21+IF(AF21<'Навигатор накоплений'!F26,N('Навигатор накоплений'!G26),0),2)) | AJ21: =IF('Навигатор накоплений'!A27="","",IF(15<=DATEDIF('Навигатор накоплений'!E27,'Навигатор накоплений'!F27,"m")+IF(EDATE('Навигатор накоплений'!E27,DATEDIF('Навигатор накоплений'!E27,'Навигатор накоплений'!F27,"m"))<'Навигатор накоплений'!F27,1,0),AK20,"")) | AK21: =IF(AJ21="","",MIN(EDATE('Навигатор накоплений'!E27,15),'Навигатор накоплений'!F27)) | AL21: =IF(AJ21="","",ROUND(AM20*'Навигатор накоплений'!D27*IF(YEAR(AJ21)=YEAR(AK21-1),(AK21-AJ21)/(DATE(YEAR(AJ21),12,31)-DATE(YEAR(AJ21),1,1)+1),(DATE(YEAR(AJ21)+1,1,1)-AJ21)/(DATE(YEAR(AJ21),12,31)-DATE(YEAR(AJ21),1,1)+1)+(AK21-DATE(YEAR(AK21),1,1))/(DATE(YEAR(AK21),12,31)-DATE(YEAR(AK21),1,1)+1)),2)) | AM21: =IF(AJ21="","",ROUND(AM20+AL21+IF(AK21<'Навигатор накоплений'!F27,N('Навигатор накоплений'!G27),0),2)) | AO21: =IF('Навигатор накоплений'!A28="","",IF(15<=DATEDIF('Навигатор накоплений'!E28,'Навигатор накоплений'!F28,"m")+IF(EDATE('Навигатор накоплений'!E28,DATEDIF('Навигатор накоплений'!E28,'Навигатор накоплений'!F28,"m"))<'Навигатор накоплений'!F28,1,0),AP20,"")) | AP21: =IF(AO21="","",MIN(EDATE('Навигатор накоплений'!E28,15),'Навигатор накоплений'!F28)) | AQ21: =IF(AO21="","",ROUND(AR20*'Навигатор накоплений'!D28*IF(YEAR(AO21)=YEAR(AP21-1),(AP21-AO21)/(DATE(YEAR(AO21),12,31)-DATE(YEAR(AO21),1,1)+1),(DATE(YEAR(AO21)+1,1,1)-AO21)/(DATE(YEAR(AO21),12,31)-DATE(YEAR(AO21),1,1)+1)+(AP21-DATE(YEAR(AP21),1,1))/(DATE(YEAR(AP21),12,31)-DATE(YEAR(AP21),1,1)+1)),2)) | AR21: =IF(AO21="","",ROUND(AR20+AQ21+IF(AP21<'Навигатор накоплений'!F28,N('Навигатор накоплений'!G28),0),2)) | AT21: =IF(OR(K21="",L21="",M21="",L21<=K21),0,ROUND(M21*MAX(0,MIN(L21,DATE(2027,1,1))-MAX(K21,DATE(2026,1,1)))/(L21-K21),2)) -> 0 | AU21: =IF(OR(P21="",Q21="",R21="",Q21<=P21),0,ROUND(R21*MAX(0,MIN(Q21,DATE(2027,1,1))-MAX(P21,DATE(2026,1,1)))/(Q21-P21),2)) -> 0 | AV21: =IF(OR(U21="",V21="",W21="",V21<=U21),0,ROUND(W21*MAX(0,MIN(V21,DATE(2027,1,1))-MAX(U21,DATE(2026,1,1)))/(V21-U21),2)) -> 0 | AW21: =IF(OR(Z21="",AA21="",AB21="",AA21<=Z21),0,ROUND(AB21*MAX(0,MIN(AA21,DATE(2027,1,1))-MAX(Z21,DATE(2026,1,1)))/(AA21-Z21),2)) -> 0 | AX21: =IF(OR(AE21="",AF21="",AG21="",AF21<=AE21),0,ROUND(AG21*MAX(0,MIN(AF21,DATE(2027,1,1))-MAX(AE21,DATE(2026,1,1)))/(AF21-AE21),2)) -> 0 | AY21: =IF(OR(AJ21="",AK21="",AL21="",AK21<=AJ21),0,ROUND(AL21*MAX(0,MIN(AK21,DATE(2027,1,1))-MAX(AJ21,DATE(2026,1,1)))/(AK21-AJ21),2)) -> 0 | AZ21: =IF(OR(AO21="",AP21="",AQ21="",AP21<=AO21),0,ROUND(AQ21*MAX(0,MIN(AP21,DATE(2027,1,1))-MAX(AO21,DATE(2026,1,1)))/(AP21-AO21),2)) -> 0
A22: Итого за 12 месяцев | E22: =SUM(E10:E21) -> 0 | F22: — | G22: =SUM(G10:G21) -> 0 | H22: =IF('Навигатор накоплений'!A31="","",SUM(H10:H21)) | I22: =IF('Навигатор накоплений'!A31="","",I21) | K22: =IF('Навигатор накоплений'!A22="","",IF(16<=DATEDIF('Навигатор накоплений'!E22,'Навигатор накоплений'!F22,"m")+IF(EDATE('Навигатор накоплений'!E22,DATEDIF('Навигатор накоплений'!E22,'Навигатор накоплений'!F22,"m"))<'Навигатор накоплений'!F22,1,0),L21,"")) | L22: =IF(K22="","",MIN(EDATE('Навигатор накоплений'!E22,16),'Навигатор накоплений'!F22)) | M22: =IF(K22="","",ROUND(N21*'Навигатор накоплений'!D22*IF(YEAR(K22)=YEAR(L22-1),(L22-K22)/(DATE(YEAR(K22),12,31)-DATE(YEAR(K22),1,1)+1),(DATE(YEAR(K22)+1,1,1)-K22)/(DATE(YEAR(K22),12,31)-DATE(YEAR(K22),1,1)+1)+(L22-DATE(YEAR(L22),1,1))/(DATE(YEAR(L22),12,31)-DATE(YEAR(L22),1,1)+1)),2)) | N22: =IF(K22="","",ROUND(N21+M22+IF(L22<'Навигатор накоплений'!F22,N('Навигатор накоплений'!G22),0),2)) | P22: =IF('Навигатор накоплений'!A23="","",IF(16<=DATEDIF('Навигатор накоплений'!E23,'Навигатор накоплений'!F23,"m")+IF(EDATE('Навигатор накоплений'!E23,DATEDIF('Навигатор накоплений'!E23,'Навигатор накоплений'!F23,"m"))<'Навигатор накоплений'!F23,1,0),Q21,"")) | Q22: =IF(P22="","",MIN(EDATE('Навигатор накоплений'!E23,16),'Навигатор накоплений'!F23)) | R22: =IF(P22="","",ROUND(S21*'Навигатор накоплений'!D23*IF(YEAR(P22)=YEAR(Q22-1),(Q22-P22)/(DATE(YEAR(P22),12,31)-DATE(YEAR(P22),1,1)+1),(DATE(YEAR(P22)+1,1,1)-P22)/(DATE(YEAR(P22),12,31)-DATE(YEAR(P22),1,1)+1)+(Q22-DATE(YEAR(Q22),1,1))/(DATE(YEAR(Q22),12,31)-DATE(YEAR(Q22),1,1)+1)),2)) | S22: =IF(P22="","",ROUND(S21+R22+IF(Q22<'Навигатор накоплений'!F23,N('Навигатор накоплений'!G23),0),2)) | U22: =IF('Навигатор накоплений'!A24="","",IF(16<=DATEDIF('Навигатор накоплений'!E24,'Навигатор накоплений'!F24,"m")+IF(EDATE('Навигатор накоплений'!E24,DATEDIF('Навигатор накоплений'!E24,'Навигатор накоплений'!F24,"m"))<'Навигатор накоплений'!F24,1,0),V21,"")) | V22: =IF(U22="","",MIN(EDATE('Навигатор накоплений'!E24,16),'Навигатор накоплений'!F24)) | W22: =IF(U22="","",ROUND(X21*'Навигатор накоплений'!D24*IF(YEAR(U22)=YEAR(V22-1),(V22-U22)/(DATE(YEAR(U22),12,31)-DATE(YEAR(U22),1,1)+1),(DATE(YEAR(U22)+1,1,1)-U22)/(DATE(YEAR(U22),12,31)-DATE(YEAR(U22),1,1)+1)+(V22-DATE(YEAR(V22),1,1))/(DATE(YEAR(V22),12,31)-DATE(YEAR(V22),1,1)+1)),2)) | X22: =IF(U22="","",ROUND(X21+W22+IF(V22<'Навигатор накоплений'!F24,N('Навигатор накоплений'!G24),0),2)) | Z22: =IF('Навигатор накоплений'!A25="","",IF(16<=DATEDIF('Навигатор накоплений'!E25,'Навигатор накоплений'!F25,"m")+IF(EDATE('Навигатор накоплений'!E25,DATEDIF('Навигатор накоплений'!E25,'Навигатор накоплений'!F25,"m"))<'Навигатор накоплений'!F25,1,0),AA21,"")) | AA22: =IF(Z22="","",MIN(EDATE('Навигатор накоплений'!E25,16),'Навигатор накоплений'!F25)) | AB22: =IF(Z22="","",ROUND(AC21*'Навигатор накоплений'!D25*IF(YEAR(Z22)=YEAR(AA22-1),(AA22-Z22)/(DATE(YEAR(Z22),12,31)-DATE(YEAR(Z22),1,1)+1),(DATE(YEAR(Z22)+1,1,1)-Z22)/(DATE(YEAR(Z22),12,31)-DATE(YEAR(Z22),1,1)+1)+(AA22-DATE(YEAR(AA22),1,1))/(DATE(YEAR(AA22),12,31)-DATE(YEAR(AA22),1,1)+1)),2)) | AC22: =IF(Z22="","",ROUND(AC21+AB22+IF(AA22<'Навигатор накоплений'!F25,N('Навигатор накоплений'!G25),0),2)) | AE22: =IF('Навигатор накоплений'!A26="","",IF(16<=DATEDIF('Навигатор накоплений'!E26,'Навигатор накоплений'!F26,"m")+IF(EDATE('Навигатор накоплений'!E26,DATEDIF('Навигатор накоплений'!E26,'Навигатор накоплений'!F26,"m"))<'Навигатор накоплений'!F26,1,0),AF21,"")) | AF22: =IF(AE22="","",MIN(EDATE('Навигатор накоплений'!E26,16),'Навигатор накоплений'!F26)) | AG22: =IF(AE22="","",ROUND(AH21*'Навигатор накоплений'!D26*IF(YEAR(AE22)=YEAR(AF22-1),(AF22-AE22)/(DATE(YEAR(AE22),12,31)-DATE(YEAR(AE22),1,1)+1),(DATE(YEAR(AE22)+1,1,1)-AE22)/(DATE(YEAR(AE22),12,31)-DATE(YEAR(AE22),1,1)+1)+(AF22-DATE(YEAR(AF22),1,1))/(DATE(YEAR(AF22),12,31)-DATE(YEAR(AF22),1,1)+1)),2)) | AH22: =IF(AE22="","",ROUND(AH21+AG22+IF(AF22<'Навигатор накоплений'!F26,N('Навигатор накоплений'!G26),0),2)) | AJ22: =IF('Навигатор накоплений'!A27="","",IF(16<=DATEDIF('Навигатор накоплений'!E27,'Навигатор накоплений'!F27,"m")+IF(EDATE('Навигатор накоплений'!E27,DATEDIF('Навигатор накоплений'!E27,'Навигатор накоплений'!F27,"m"))<'Навигатор накоплений'!F27,1,0),AK21,"")) | AK22: =IF(AJ22="","",MIN(EDATE('Навигатор накоплений'!E27,16),'Навигатор накоплений'!F27)) | AL22: =IF(AJ22="","",ROUND(AM21*'Навигатор накоплений'!D27*IF(YEAR(AJ22)=YEAR(AK22-1),(AK22-AJ22)/(DATE(YEAR(AJ22),12,31)-DATE(YEAR(AJ22),1,1)+1),(DATE(YEAR(AJ22)+1,1,1)-AJ22)/(DATE(YEAR(AJ22),12,31)-DATE(YEAR(AJ22),1,1)+1)+(AK22-DATE(YEAR(AK22),1,1))/(DATE(YEAR(AK22),12,31)-DATE(YEAR(AK22),1,1)+1)),2)) | AM22: =IF(AJ22="","",ROUND(AM21+AL22+IF(AK22<'Навигатор накоплений'!F27,N('Навигатор накоплений'!G27),0),2)) | AO22: =IF('Навигатор накоплений'!A28="","",IF(16<=DATEDIF('Навигатор накоплений'!E28,'Навигатор накоплений'!F28,"m")+IF(EDATE('Навигатор накоплений'!E28,DATEDIF('Навигатор накоплений'!E28,'Навигатор накоплений'!F28,"m"))<'Навигатор накоплений'!F28,1,0),AP21,"")) | AP22: =IF(AO22="","",MIN(EDATE('Навигатор накоплений'!E28,16),'Навигатор накоплений'!F28)) | AQ22: =IF(AO22="","",ROUND(AR21*'Навигатор накоплений'!D28*IF(YEAR(AO22)=YEAR(AP22-1),(AP22-AO22)/(DATE(YEAR(AO22),12,31)-DATE(YEAR(AO22),1,1)+1),(DATE(YEAR(AO22)+1,1,1)-AO22)/(DATE(YEAR(AO22),12,31)-DATE(YEAR(AO22),1,1)+1)+(AP22-DATE(YEAR(AP22),1,1))/(DATE(YEAR(AP22),12,31)-DATE(YEAR(AP22),1,1)+1)),2)) | AR22: =IF(AO22="","",ROUND(AR21+AQ22+IF(AP22<'Навигатор накоплений'!F28,N('Навигатор накоплений'!G28),0),2)) | AT22: =IF(OR(K22="",L22="",M22="",L22<=K22),0,ROUND(M22*MAX(0,MIN(L22,DATE(2027,1,1))-MAX(K22,DATE(2026,1,1)))/(L22-K22),2)) -> 0 | AU22: =IF(OR(P22="",Q22="",R22="",Q22<=P22),0,ROUND(R22*MAX(0,MIN(Q22,DATE(2027,1,1))-MAX(P22,DATE(2026,1,1)))/(Q22-P22),2)) -> 0 | AV22: =IF(OR(U22="",V22="",W22="",V22<=U22),0,ROUND(W22*MAX(0,MIN(V22,DATE(2027,1,1))-MAX(U22,DATE(2026,1,1)))/(V22-U22),2)) -> 0 | AW22: =IF(OR(Z22="",AA22="",AB22="",AA22<=Z22),0,ROUND(AB22*MAX(0,MIN(AA22,DATE(2027,1,1))-MAX(Z22,DATE(2026,1,1)))/(AA22-Z22),2)) -> 0 | AX22: =IF(OR(AE22="",AF22="",AG22="",AF22<=AE22),0,ROUND(AG22*MAX(0,MIN(AF22,DATE(2027,1,1))-MAX(AE22,DATE(2026,1,1)))/(AF22-AE22),2)) -> 0 | AY22: =IF(OR(AJ22="",AK22="",AL22="",AK22<=AJ22),0,ROUND(AL22*MAX(0,MIN(AK22,DATE(2027,1,1))-MAX(AJ22,DATE(2026,1,1)))/(AK22-AJ22),2)) -> 0 | AZ22: =IF(OR(AO22="",AP22="",AQ22="",AP22<=AO22),0,ROUND(AQ22*MAX(0,MIN(AP22,DATE(2027,1,1))-MAX(AO22,DATE(2026,1,1)))/(AP22-AO22),2)) -> 0
K23: =IF('Навигатор накоплений'!A22="","",IF(17<=DATEDIF('Навигатор накоплений'!E22,'Навигатор накоплений'!F22,"m")+IF(EDATE('Навигатор накоплений'!E22,DATEDIF('Навигатор накоплений'!E22,'Навигатор накоплений'!F22,"m"))<'Навигатор накоплений'!F22,1,0),L22,"")) | L23: =IF(K23="","",MIN(EDATE('Навигатор накоплений'!E22,17),'Навигатор накоплений'!F22)) | M23: =IF(K23="","",ROUND(N22*'Навигатор накоплений'!D22*IF(YEAR(K23)=YEAR(L23-1),(L23-K23)/(DATE(YEAR(K23),12,31)-DATE(YEAR(K23),1,1)+1),(DATE(YEAR(K23)+1,1,1)-K23)/(DATE(YEAR(K23),12,31)-DATE(YEAR(K23),1,1)+1)+(L23-DATE(YEAR(L23),1,1))/(DATE(YEAR(L23),12,31)-DATE(YEAR(L23),1,1)+1)),2)) | N23: =IF(K23="","",ROUND(N22+M23+IF(L23<'Навигатор накоплений'!F22,N('Навигатор накоплений'!G22),0),2)) | P23: =IF('Навигатор накоплений'!A23="","",IF(17<=DATEDIF('Навигатор накоплений'!E23,'Навигатор накоплений'!F23,"m")+IF(EDATE('Навигатор накоплений'!E23,DATEDIF('Навигатор накоплений'!E23,'Навигатор накоплений'!F23,"m"))<'Навигатор накоплений'!F23,1,0),Q22,"")) | Q23: =IF(P23="","",MIN(EDATE('Навигатор накоплений'!E23,17),'Навигатор накоплений'!F23)) | R23: =IF(P23="","",ROUND(S22*'Навигатор накоплений'!D23*IF(YEAR(P23)=YEAR(Q23-1),(Q23-P23)/(DATE(YEAR(P23),12,31)-DATE(YEAR(P23),1,1)+1),(DATE(YEAR(P23)+1,1,1)-P23)/(DATE(YEAR(P23),12,31)-DATE(YEAR(P23),1,1)+1)+(Q23-DATE(YEAR(Q23),1,1))/(DATE(YEAR(Q23),12,31)-DATE(YEAR(Q23),1,1)+1)),2)) | S23: =IF(P23="","",ROUND(S22+R23+IF(Q23<'Навигатор накоплений'!F23,N('Навигатор накоплений'!G23),0),2)) | U23: =IF('Навигатор накоплений'!A24="","",IF(17<=DATEDIF('Навигатор накоплений'!E24,'Навигатор накоплений'!F24,"m")+IF(EDATE('Навигатор накоплений'!E24,DATEDIF('Навигатор накоплений'!E24,'Навигатор накоплений'!F24,"m"))<'Навигатор накоплений'!F24,1,0),V22,"")) | V23: =IF(U23="","",MIN(EDATE('Навигатор накоплений'!E24,17),'Навигатор накоплений'!F24)) | W23: =IF(U23="","",ROUND(X22*'Навигатор накоплений'!D24*IF(YEAR(U23)=YEAR(V23-1),(V23-U23)/(DATE(YEAR(U23),12,31)-DATE(YEAR(U23),1,1)+1),(DATE(YEAR(U23)+1,1,1)-U23)/(DATE(YEAR(U23),12,31)-DATE(YEAR(U23),1,1)+1)+(V23-DATE(YEAR(V23),1,1))/(DATE(YEAR(V23),12,31)-DATE(YEAR(V23),1,1)+1)),2)) | X23: =IF(U23="","",ROUND(X22+W23+IF(V23<'Навигатор накоплений'!F24,N('Навигатор накоплений'!G24),0),2)) | Z23: =IF('Навигатор накоплений'!A25="","",IF(17<=DATEDIF('Навигатор накоплений'!E25,'Навигатор накоплений'!F25,"m")+IF(EDATE('Навигатор накоплений'!E25,DATEDIF('Навигатор накоплений'!E25,'Навигатор накоплений'!F25,"m"))<'Навигатор накоплений'!F25,1,0),AA22,"")) | AA23: =IF(Z23="","",MIN(EDATE('Навигатор накоплений'!E25,17),'Навигатор накоплений'!F25)) | AB23: =IF(Z23="","",ROUND(AC22*'Навигатор накоплений'!D25*IF(YEAR(Z23)=YEAR(AA23-1),(AA23-Z23)/(DATE(YEAR(Z23),12,31)-DATE(YEAR(Z23),1,1)+1),(DATE(YEAR(Z23)+1,1,1)-Z23)/(DATE(YEAR(Z23),12,31)-DATE(YEAR(Z23),1,1)+1)+(AA23-DATE(YEAR(AA23),1,1))/(DATE(YEAR(AA23),12,31)-DATE(YEAR(AA23),1,1)+1)),2)) | AC23: =IF(Z23="","",ROUND(AC22+AB23+IF(AA23<'Навигатор накоплений'!F25,N('Навигатор накоплений'!G25),0),2)) | AE23: =IF('Навигатор накоплений'!A26="","",IF(17<=DATEDIF('Навигатор накоплений'!E26,'Навигатор накоплений'!F26,"m")+IF(EDATE('Навигатор накоплений'!E26,DATEDIF('Навигатор накоплений'!E26,'Навигатор накоплений'!F26,"m"))<'Навигатор накоплений'!F26,1,0),AF22,"")) | AF23: =IF(AE23="","",MIN(EDATE('Навигатор накоплений'!E26,17),'Навигатор накоплений'!F26)) | AG23: =IF(AE23="","",ROUND(AH22*'Навигатор накоплений'!D26*IF(YEAR(AE23)=YEAR(AF23-1),(AF23-AE23)/(DATE(YEAR(AE23),12,31)-DATE(YEAR(AE23),1,1)+1),(DATE(YEAR(AE23)+1,1,1)-AE23)/(DATE(YEAR(AE23),12,31)-DATE(YEAR(AE23),1,1)+1)+(AF23-DATE(YEAR(AF23),1,1))/(DATE(YEAR(AF23),12,31)-DATE(YEAR(AF23),1,1)+1)),2)) | AH23: =IF(AE23="","",ROUND(AH22+AG23+IF(AF23<'Навигатор накоплений'!F26,N('Навигатор накоплений'!G26),0),2)) | AJ23: =IF('Навигатор накоплений'!A27="","",IF(17<=DATEDIF('Навигатор накоплений'!E27,'Навигатор накоплений'!F27,"m")+IF(EDATE('Навигатор накоплений'!E27,DATEDIF('Навигатор накоплений'!E27,'Навигатор накоплений'!F27,"m"))<'Навигатор накоплений'!F27,1,0),AK22,"")) | AK23: =IF(AJ23="","",MIN(EDATE('Навигатор накоплений'!E27,17),'Навигатор накоплений'!F27)) | AL23: =IF(AJ23="","",ROUND(AM22*'Навигатор накоплений'!D27*IF(YEAR(AJ23)=YEAR(AK23-1),(AK23-AJ23)/(DATE(YEAR(AJ23),12,31)-DATE(YEAR(AJ23),1,1)+1),(DATE(YEAR(AJ23)+1,1,1)-AJ23)/(DATE(YEAR(AJ23),12,31)-DATE(YEAR(AJ23),1,1)+1)+(AK23-DATE(YEAR(AK23),1,1))/(DATE(YEAR(AK23),12,31)-DATE(YEAR(AK23),1,1)+1)),2)) | AM23: =IF(AJ23="","",ROUND(AM22+AL23+IF(AK23<'Навигатор накоплений'!F27,N('Навигатор накоплений'!G27),0),2)) | AO23: =IF('Навигатор накоплений'!A28="","",IF(17<=DATEDIF('Навигатор накоплений'!E28,'Навигатор накоплений'!F28,"m")+IF(EDATE('Навигатор накоплений'!E28,DATEDIF('Навигатор накоплений'!E28,'Навигатор накоплений'!F28,"m"))<'Навигатор накоплений'!F28,1,0),AP22,"")) | AP23: =IF(AO23="","",MIN(EDATE('Навигатор накоплений'!E28,17),'Навигатор накоплений'!F28)) | AQ23: =IF(AO23="","",ROUND(AR22*'Навигатор накоплений'!D28*IF(YEAR(AO23)=YEAR(AP23-1),(AP23-AO23)/(DATE(YEAR(AO23),12,31)-DATE(YEAR(AO23),1,1)+1),(DATE(YEAR(AO23)+1,1,1)-AO23)/(DATE(YEAR(AO23),12,31)-DATE(YEAR(AO23),1,1)+1)+(AP23-DATE(YEAR(AP23),1,1))/(DATE(YEAR(AP23),12,31)-DATE(YEAR(AP23),1,1)+1)),2)) | AR23: =IF(AO23="","",ROUND(AR22+AQ23+IF(AP23<'Навигатор накоплений'!F28,N('Навигатор накоплений'!G28),0),2)) | AT23: =IF(OR(K23="",L23="",M23="",L23<=K23),0,ROUND(M23*MAX(0,MIN(L23,DATE(2027,1,1))-MAX(K23,DATE(2026,1,1)))/(L23-K23),2)) -> 0 | AU23: =IF(OR(P23="",Q23="",R23="",Q23<=P23),0,ROUND(R23*MAX(0,MIN(Q23,DATE(2027,1,1))-MAX(P23,DATE(2026,1,1)))/(Q23-P23),2)) -> 0 | AV23: =IF(OR(U23="",V23="",W23="",V23<=U23),0,ROUND(W23*MAX(0,MIN(V23,DATE(2027,1,1))-MAX(U23,DATE(2026,1,1)))/(V23-U23),2)) -> 0 | AW23: =IF(OR(Z23="",AA23="",AB23="",AA23<=Z23),0,ROUND(AB23*MAX(0,MIN(AA23,DATE(2027,1,1))-MAX(Z23,DATE(2026,1,1)))/(AA23-Z23),2)) -> 0 | AX23: =IF(OR(AE23="",AF23="",AG23="",AF23<=AE23),0,ROUND(AG23*MAX(0,MIN(AF23,DATE(2027,1,1))-MAX(AE23,DATE(2026,1,1)))/(AF23-AE23),2)) -> 0 | AY23: =IF(OR(AJ23="",AK23="",AL23="",AK23<=AJ23),0,ROUND(AL23*MAX(0,MIN(AK23,DATE(2027,1,1))-MAX(AJ23,DATE(2026,1,1)))/(AK23-AJ23),2)) -> 0 | AZ23: =IF(OR(AO23="",AP23="",AQ23="",AP23<=AO23),0,ROUND(AQ23*MAX(0,MIN(AP23,DATE(2027,1,1))-MAX(AO23,DATE(2026,1,1)))/(AP23-AO23),2)) -> 0
K24: =IF('Навигатор накоплений'!A22="","",IF(18<=DATEDIF('Навигатор накоплений'!E22,'Навигатор накоплений'!F22,"m")+IF(EDATE('Навигатор накоплений'!E22,DATEDIF('Навигатор накоплений'!E22,'Навигатор накоплений'!F22,"m"))<'Навигатор накоплений'!F22,1,0),L23,"")) | L24: =IF(K24="","",MIN(EDATE('Навигатор накоплений'!E22,18),'Навигатор накоплений'!F22)) | M24: =IF(K24="","",ROUND(N23*'Навигатор накоплений'!D22*IF(YEAR(K24)=YEAR(L24-1),(L24-K24)/(DATE(YEAR(K24),12,31)-DATE(YEAR(K24),1,1)+1),(DATE(YEAR(K24)+1,1,1)-K24)/(DATE(YEAR(K24),12,31)-DATE(YEAR(K24),1,1)+1)+(L24-DATE(YEAR(L24),1,1))/(DATE(YEAR(L24),12,31)-DATE(YEAR(L24),1,1)+1)),2)) | N24: =IF(K24="","",ROUND(N23+M24+IF(L24<'Навигатор накоплений'!F22,N('Навигатор накоплений'!G22),0),2)) | P24: =IF('Навигатор накоплений'!A23="","",IF(18<=DATEDIF('Навигатор накоплений'!E23,'Навигатор накоплений'!F23,"m")+IF(EDATE('Навигатор накоплений'!E23,DATEDIF('Навигатор накоплений'!E23,'Навигатор накоплений'!F23,"m"))<'Навигатор накоплений'!F23,1,0),Q23,"")) | Q24: =IF(P24="","",MIN(EDATE('Навигатор накоплений'!E23,18),'Навигатор накоплений'!F23)) | R24: =IF(P24="","",ROUND(S23*'Навигатор накоплений'!D23*IF(YEAR(P24)=YEAR(Q24-1),(Q24-P24)/(DATE(YEAR(P24),12,31)-DATE(YEAR(P24),1,1)+1),(DATE(YEAR(P24)+1,1,1)-P24)/(DATE(YEAR(P24),12,31)-DATE(YEAR(P24),1,1)+1)+(Q24-DATE(YEAR(Q24),1,1))/(DATE(YEAR(Q24),12,31)-DATE(YEAR(Q24),1,1)+1)),2)) | S24: =IF(P24="","",ROUND(S23+R24+IF(Q24<'Навигатор накоплений'!F23,N('Навигатор накоплений'!G23),0),2)) | U24: =IF('Навигатор накоплений'!A24="","",IF(18<=DATEDIF('Навигатор накоплений'!E24,'Навигатор накоплений'!F24,"m")+IF(EDATE('Навигатор накоплений'!E24,DATEDIF('Навигатор накоплений'!E24,'Навигатор накоплений'!F24,"m"))<'Навигатор накоплений'!F24,1,0),V23,"")) | V24: =IF(U24="","",MIN(EDATE('Навигатор накоплений'!E24,18),'Навигатор накоплений'!F24)) | W24: =IF(U24="","",ROUND(X23*'Навигатор накоплений'!D24*IF(YEAR(U24)=YEAR(V24-1),(V24-U24)/(DATE(YEAR(U24),12,31)-DATE(YEAR(U24),1,1)+1),(DATE(YEAR(U24)+1,1,1)-U24)/(DATE(YEAR(U24),12,31)-DATE(YEAR(U24),1,1)+1)+(V24-DATE(YEAR(V24),1,1))/(DATE(YEAR(V24),12,31)-DATE(YEAR(V24),1,1)+1)),2)) | X24: =IF(U24="","",ROUND(X23+W24+IF(V24<'Навигатор накоплений'!F24,N('Навигатор накоплений'!G24),0),2)) | Z24: =IF('Навигатор накоплений'!A25="","",IF(18<=DATEDIF('Навигатор накоплений'!E25,'Навигатор накоплений'!F25,"m")+IF(EDATE('Навигатор накоплений'!E25,DATEDIF('Навигатор накоплений'!E25,'Навигатор накоплений'!F25,"m"))<'Навигатор накоплений'!F25,1,0),AA23,"")) | AA24: =IF(Z24="","",MIN(EDATE('Навигатор накоплений'!E25,18),'Навигатор накоплений'!F25)) | AB24: =IF(Z24="","",ROUND(AC23*'Навигатор накоплений'!D25*IF(YEAR(Z24)=YEAR(AA24-1),(AA24-Z24)/(DATE(YEAR(Z24),12,31)-DATE(YEAR(Z24),1,1)+1),(DATE(YEAR(Z24)+1,1,1)-Z24)/(DATE(YEAR(Z24),12,31)-DATE(YEAR(Z24),1,1)+1)+(AA24-DATE(YEAR(AA24),1,1))/(DATE(YEAR(AA24),12,31)-DATE(YEAR(AA24),1,1)+1)),2)) | AC24: =IF(Z24="","",ROUND(AC23+AB24+IF(AA24<'Навигатор накоплений'!F25,N('Навигатор накоплений'!G25),0),2)) | AE24: =IF('Навигатор накоплений'!A26="","",IF(18<=DATEDIF('Навигатор накоплений'!E26,'Навигатор накоплений'!F26,"m")+IF(EDATE('Навигатор накоплений'!E26,DATEDIF('Навигатор накоплений'!E26,'Навигатор накоплений'!F26,"m"))<'Навигатор накоплений'!F26,1,0),AF23,"")) | AF24: =IF(AE24="","",MIN(EDATE('Навигатор накоплений'!E26,18),'Навигатор накоплений'!F26)) | AG24: =IF(AE24="","",ROUND(AH23*'Навигатор накоплений'!D26*IF(YEAR(AE24)=YEAR(AF24-1),(AF24-AE24)/(DATE(YEAR(AE24),12,31)-DATE(YEAR(AE24),1,1)+1),(DATE(YEAR(AE24)+1,1,1)-AE24)/(DATE(YEAR(AE24),12,31)-DATE(YEAR(AE24),1,1)+1)+(AF24-DATE(YEAR(AF24),1,1))/(DATE(YEAR(AF24),12,31)-DATE(YEAR(AF24),1,1)+1)),2)) | AH24: =IF(AE24="","",ROUND(AH23+AG24+IF(AF24<'Навигатор накоплений'!F26,N('Навигатор накоплений'!G26),0),2)) | AJ24: =IF('Навигатор накоплений'!A27="","",IF(18<=DATEDIF('Навигатор накоплений'!E27,'Навигатор накоплений'!F27,"m")+IF(EDATE('Навигатор накоплений'!E27,DATEDIF('Навигатор накоплений'!E27,'Навигатор накоплений'!F27,"m"))<'Навигатор накоплений'!F27,1,0),AK23,"")) | AK24: =IF(AJ24="","",MIN(EDATE('Навигатор накоплений'!E27,18),'Навигатор накоплений'!F27)) | AL24: =IF(AJ24="","",ROUND(AM23*'Навигатор накоплений'!D27*IF(YEAR(AJ24)=YEAR(AK24-1),(AK24-AJ24)/(DATE(YEAR(AJ24),12,31)-DATE(YEAR(AJ24),1,1)+1),(DATE(YEAR(AJ24)+1,1,1)-AJ24)/(DATE(YEAR(AJ24),12,31)-DATE(YEAR(AJ24),1,1)+1)+(AK24-DATE(YEAR(AK24),1,1))/(DATE(YEAR(AK24),12,31)-DATE(YEAR(AK24),1,1)+1)),2)) | AM24: =IF(AJ24="","",ROUND(AM23+AL24+IF(AK24<'Навигатор накоплений'!F27,N('Навигатор накоплений'!G27),0),2)) | AO24: =IF('Навигатор накоплений'!A28="","",IF(18<=DATEDIF('Навигатор накоплений'!E28,'Навигатор накоплений'!F28,"m")+IF(EDATE('Навигатор накоплений'!E28,DATEDIF('Навигатор накоплений'!E28,'Навигатор накоплений'!F28,"m"))<'Навигатор накоплений'!F28,1,0),AP23,"")) | AP24: =IF(AO24="","",MIN(EDATE('Навигатор накоплений'!E28,18),'Навигатор накоплений'!F28)) | AQ24: =IF(AO24="","",ROUND(AR23*'Навигатор накоплений'!D28*IF(YEAR(AO24)=YEAR(AP24-1),(AP24-AO24)/(DATE(YEAR(AO24),12,31)-DATE(YEAR(AO24),1,1)+1),(DATE(YEAR(AO24)+1,1,1)-AO24)/(DATE(YEAR(AO24),12,31)-DATE(YEAR(AO24),1,1)+1)+(AP24-DATE(YEAR(AP24),1,1))/(DATE(YEAR(AP24),12,31)-DATE(YEAR(AP24),1,1)+1)),2)) | AR24: =IF(AO24="","",ROUND(AR23+AQ24+IF(AP24<'Навигатор накоплений'!F28,N('Навигатор накоплений'!G28),0),2)) | AT24: =IF(OR(K24="",L24="",M24="",L24<=K24),0,ROUND(M24*MAX(0,MIN(L24,DATE(2027,1,1))-MAX(K24,DATE(2026,1,1)))/(L24-K24),2)) -> 0 | AU24: =IF(OR(P24="",Q24="",R24="",Q24<=P24),0,ROUND(R24*MAX(0,MIN(Q24,DATE(2027,1,1))-MAX(P24,DATE(2026,1,1)))/(Q24-P24),2)) -> 0 | AV24: =IF(OR(U24="",V24="",W24="",V24<=U24),0,ROUND(W24*MAX(0,MIN(V24,DATE(2027,1,1))-MAX(U24,DATE(2026,1,1)))/(V24-U24),2)) -> 0 | AW24: =IF(OR(Z24="",AA24="",AB24="",AA24<=Z24),0,ROUND(AB24*MAX(0,MIN(AA24,DATE(2027,1,1))-MAX(Z24,DATE(2026,1,1)))/(AA24-Z24),2)) -> 0 | AX24: =IF(OR(AE24="",AF24="",AG24="",AF24<=AE24),0,ROUND(AG24*MAX(0,MIN(AF24,DATE(2027,1,1))-MAX(AE24,DATE(2026,1,1)))/(AF24-AE24),2)) -> 0 | AY24: =IF(OR(AJ24="",AK24="",AL24="",AK24<=AJ24),0,ROUND(AL24*MAX(0,MIN(AK24,DATE(2027,1,1))-MAX(AJ24,DATE(2026,1,1)))/(AK24-AJ24),2)) -> 0 | AZ24: =IF(OR(AO24="",AP24="",AQ24="",AP24<=AO24),0,ROUND(AQ24*MAX(0,MIN(AP24,DATE(2027,1,1))-MAX(AO24,DATE(2026,1,1)))/(AP24-AO24),2)) -> 0
A25: =IF('Навигатор накоплений'!A32="","Счет не заполнен","Счет: "&'Навигатор накоплений'!A32&" — "&'Навигатор накоплений'!B32) -> Счет не заполнен | K25: =IF('Навигатор накоплений'!A22="","",IF(19<=DATEDIF('Навигатор накоплений'!E22,'Навигатор накоплений'!F22,"m")+IF(EDATE('Навигатор накоплений'!E22,DATEDIF('Навигатор накоплений'!E22,'Навигатор накоплений'!F22,"m"))<'Навигатор накоплений'!F22,1,0),L24,"")) | L25: =IF(K25="","",MIN(EDATE('Навигатор накоплений'!E22,19),'Навигатор накоплений'!F22)) | M25: =IF(K25="","",ROUND(N24*'Навигатор накоплений'!D22*IF(YEAR(K25)=YEAR(L25-1),(L25-K25)/(DATE(YEAR(K25),12,31)-DATE(YEAR(K25),1,1)+1),(DATE(YEAR(K25)+1,1,1)-K25)/(DATE(YEAR(K25),12,31)-DATE(YEAR(K25),1,1)+1)+(L25-DATE(YEAR(L25),1,1))/(DATE(YEAR(L25),12,31)-DATE(YEAR(L25),1,1)+1)),2)) | N25: =IF(K25="","",ROUND(N24+M25+IF(L25<'Навигатор накоплений'!F22,N('Навигатор накоплений'!G22),0),2)) | P25: =IF('Навигатор накоплений'!A23="","",IF(19<=DATEDIF('Навигатор накоплений'!E23,'Навигатор накоплений'!F23,"m")+IF(EDATE('Навигатор накоплений'!E23,DATEDIF('Навигатор накоплений'!E23,'Навигатор накоплений'!F23,"m"))<'Навигатор накоплений'!F23,1,0),Q24,"")) | Q25: =IF(P25="","",MIN(EDATE('Навигатор накоплений'!E23,19),'Навигатор накоплений'!F23)) | R25: =IF(P25="","",ROUND(S24*'Навигатор накоплений'!D23*IF(YEAR(P25)=YEAR(Q25-1),(Q25-P25)/(DATE(YEAR(P25),12,31)-DATE(YEAR(P25),1,1)+1),(DATE(YEAR(P25)+1,1,1)-P25)/(DATE(YEAR(P25),12,31)-DATE(YEAR(P25),1,1)+1)+(Q25-DATE(YEAR(Q25),1,1))/(DATE(YEAR(Q25),12,31)-DATE(YEAR(Q25),1,1)+1)),2)) | S25: =IF(P25="","",ROUND(S24+R25+IF(Q25<'Навигатор накоплений'!F23,N('Навигатор накоплений'!G23),0),2)) | U25: =IF('Навигатор накоплений'!A24="","",IF(19<=DATEDIF('Навигатор накоплений'!E24,'Навигатор накоплений'!F24,"m")+IF(EDATE('Навигатор накоплений'!E24,DATEDIF('Навигатор накоплений'!E24,'Навигатор накоплений'!F24,"m"))<'Навигатор накоплений'!F24,1,0),V24,"")) | V25: =IF(U25="","",MIN(EDATE('Навигатор накоплений'!E24,19),'Навигатор накоплений'!F24)) | W25: =IF(U25="","",ROUND(X24*'Навигатор накоплений'!D24*IF(YEAR(U25)=YEAR(V25-1),(V25-U25)/(DATE(YEAR(U25),12,31)-DATE(YEAR(U25),1,1)+1),(DATE(YEAR(U25)+1,1,1)-U25)/(DATE(YEAR(U25),12,31)-DATE(YEAR(U25),1,1)+1)+(V25-DATE(YEAR(V25),1,1))/(DATE(YEAR(V25),12,31)-DATE(YEAR(V25),1,1)+1)),2)) | X25: =IF(U25="","",ROUND(X24+W25+IF(V25<'Навигатор накоплений'!F24,N('Навигатор накоплений'!G24),0),2)) | Z25: =IF('Навигатор накоплений'!A25="","",IF(19<=DATEDIF('Навигатор накоплений'!E25,'Навигатор накоплений'!F25,"m")+IF(EDATE('Навигатор накоплений'!E25,DATEDIF('Навигатор накоплений'!E25,'Навигатор накоплений'!F25,"m"))<'Навигатор накоплений'!F25,1,0),AA24,"")) | AA25: =IF(Z25="","",MIN(EDATE('Навигатор накоплений'!E25,19),'Навигатор накоплений'!F25)) | AB25: =IF(Z25="","",ROUND(AC24*'Навигатор накоплений'!D25*IF(YEAR(Z25)=YEAR(AA25-1),(AA25-Z25)/(DATE(YEAR(Z25),12,31)-DATE(YEAR(Z25),1,1)+1),(DATE(YEAR(Z25)+1,1,1)-Z25)/(DATE(YEAR(Z25),12,31)-DATE(YEAR(Z25),1,1)+1)+(AA25-DATE(YEAR(AA25),1,1))/(DATE(YEAR(AA25),12,31)-DATE(YEAR(AA25),1,1)+1)),2)) | AC25: =IF(Z25="","",ROUND(AC24+AB25+IF(AA25<'Навигатор накоплений'!F25,N('Навигатор накоплений'!G25),0),2)) | AE25: =IF('Навигатор накоплений'!A26="","",IF(19<=DATEDIF('Навигатор накоплений'!E26,'Навигатор накоплений'!F26,"m")+IF(EDATE('Навигатор накоплений'!E26,DATEDIF('Навигатор накоплений'!E26,'Навигатор накоплений'!F26,"m"))<'Навигатор накоплений'!F26,1,0),AF24,"")) | AF25: =IF(AE25="","",MIN(EDATE('Навигатор накоплений'!E26,19),'Навигатор накоплений'!F26)) | AG25: =IF(AE25="","",ROUND(AH24*'Навигатор накоплений'!D26*IF(YEAR(AE25)=YEAR(AF25-1),(AF25-AE25)/(DATE(YEAR(AE25),12,31)-DATE(YEAR(AE25),1,1)+1),(DATE(YEAR(AE25)+1,1,1)-AE25)/(DATE(YEAR(AE25),12,31)-DATE(YEAR(AE25),1,1)+1)+(AF25-DATE(YEAR(AF25),1,1))/(DATE(YEAR(AF25),12,31)-DATE(YEAR(AF25),1,1)+1)),2)) | AH25: =IF(AE25="","",ROUND(AH24+AG25+IF(AF25<'Навигатор накоплений'!F26,N('Навигатор накоплений'!G26),0),2)) | AJ25: =IF('Навигатор накоплений'!A27="","",IF(19<=DATEDIF('Навигатор накоплений'!E27,'Навигатор накоплений'!F27,"m")+IF(EDATE('Навигатор накоплений'!E27,DATEDIF('Навигатор накоплений'!E27,'Навигатор накоплений'!F27,"m"))<'Навигатор накоплений'!F27,1,0),AK24,"")) | AK25: =IF(AJ25="","",MIN(EDATE('Навигатор накоплений'!E27,19),'Навигатор накоплений'!F27)) | AL25: =IF(AJ25="","",ROUND(AM24*'Навигатор накоплений'!D27*IF(YEAR(AJ25)=YEAR(AK25-1),(AK25-AJ25)/(DATE(YEAR(AJ25),12,31)-DATE(YEAR(AJ25),1,1)+1),(DATE(YEAR(AJ25)+1,1,1)-AJ25)/(DATE(YEAR(AJ25),12,31)-DATE(YEAR(AJ25),1,1)+1)+(AK25-DATE(YEAR(AK25),1,1))/(DATE(YEAR(AK25),12,31)-DATE(YEAR(AK25),1,1)+1)),2)) | AM25: =IF(AJ25="","",ROUND(AM24+AL25+IF(AK25<'Навигатор накоплений'!F27,N('Навигатор накоплений'!G27),0),2)) | AO25: =IF('Навигатор накоплений'!A28="","",IF(19<=DATEDIF('Навигатор накоплений'!E28,'Навигатор накоплений'!F28,"m")+IF(EDATE('Навигатор накоплений'!E28,DATEDIF('Навигатор накоплений'!E28,'Навигатор накоплений'!F28,"m"))<'Навигатор накоплений'!F28,1,0),AP24,"")) | AP25: =IF(AO25="","",MIN(EDATE('Навигатор накоплений'!E28,19),'Навигатор накоплений'!F28)) | AQ25: =IF(AO25="","",ROUND(AR24*'Навигатор накоплений'!D28*IF(YEAR(AO25)=YEAR(AP25-1),(AP25-AO25)/(DATE(YEAR(AO25),12,31)-DATE(YEAR(AO25),1,1)+1),(DATE(YEAR(AO25)+1,1,1)-AO25)/(DATE(YEAR(AO25),12,31)-DATE(YEAR(AO25),1,1)+1)+(AP25-DATE(YEAR(AP25),1,1))/(DATE(YEAR(AP25),12,31)-DATE(YEAR(AP25),1,1)+1)),2)) | AR25: =IF(AO25="","",ROUND(AR24+AQ25+IF(AP25<'Навигатор накоплений'!F28,N('Навигатор накоплений'!G28),0),2)) | AT25: =IF(OR(K25="",L25="",M25="",L25<=K25),0,ROUND(M25*MAX(0,MIN(L25,DATE(2027,1,1))-MAX(K25,DATE(2026,1,1)))/(L25-K25),2)) -> 0 | AU25: =IF(OR(P25="",Q25="",R25="",Q25<=P25),0,ROUND(R25*MAX(0,MIN(Q25,DATE(2027,1,1))-MAX(P25,DATE(2026,1,1)))/(Q25-P25),2)) -> 0 | AV25: =IF(OR(U25="",V25="",W25="",V25<=U25),0,ROUND(W25*MAX(0,MIN(V25,DATE(2027,1,1))-MAX(U25,DATE(2026,1,1)))/(V25-U25),2)) -> 0 | AW25: =IF(OR(Z25="",AA25="",AB25="",AA25<=Z25),0,ROUND(AB25*MAX(0,MIN(AA25,DATE(2027,1,1))-MAX(Z25,DATE(2026,1,1)))/(AA25-Z25),2)) -> 0 | AX25: =IF(OR(AE25="",AF25="",AG25="",AF25<=AE25),0,ROUND(AG25*MAX(0,MIN(AF25,DATE(2027,1,1))-MAX(AE25,DATE(2026,1,1)))/(AF25-AE25),2)) -> 0 | AY25: =IF(OR(AJ25="",AK25="",AL25="",AK25<=AJ25),0,ROUND(AL25*MAX(0,MIN(AK25,DATE(2027,1,1))-MAX(AJ25,DATE(2026,1,1)))/(AK25-AJ25),2)) -> 0 | AZ25: =IF(OR(AO25="",AP25="",AQ25="",AP25<=AO25),0,ROUND(AQ25*MAX(0,MIN(AP25,DATE(2027,1,1))-MAX(AO25,DATE(2026,1,1)))/(AP25-AO25),2)) -> 0
A26: Месяц | B26: Начало периода | C26: Конец периода | D26: Остаток на начало, ₽ | E26: Пополнение, ₽ | F26: База для процентов, ₽ | G26: Дней | H26: Начислено процентов, ₽ | I26: Остаток на конец, ₽ | K26: =IF('Навигатор накоплений'!A22="","",IF(20<=DATEDIF('Навигатор накоплений'!E22,'Навигатор накоплений'!F22,"m")+IF(EDATE('Навигатор накоплений'!E22,DATEDIF('Навигатор накоплений'!E22,'Навигатор накоплений'!F22,"m"))<'Навигатор накоплений'!F22,1,0),L25,"")) | L26: =IF(K26="","",MIN(EDATE('Навигатор накоплений'!E22,20),'Навигатор накоплений'!F22)) | M26: =IF(K26="","",ROUND(N25*'Навигатор накоплений'!D22*IF(YEAR(K26)=YEAR(L26-1),(L26-K26)/(DATE(YEAR(K26),12,31)-DATE(YEAR(K26),1,1)+1),(DATE(YEAR(K26)+1,1,1)-K26)/(DATE(YEAR(K26),12,31)-DATE(YEAR(K26),1,1)+1)+(L26-DATE(YEAR(L26),1,1))/(DATE(YEAR(L26),12,31)-DATE(YEAR(L26),1,1)+1)),2)) | N26: =IF(K26="","",ROUND(N25+M26+IF(L26<'Навигатор накоплений'!F22,N('Навигатор накоплений'!G22),0),2)) | P26: =IF('Навигатор накоплений'!A23="","",IF(20<=DATEDIF('Навигатор накоплений'!E23,'Навигатор накоплений'!F23,"m")+IF(EDATE('Навигатор накоплений'!E23,DATEDIF('Навигатор накоплений'!E23,'Навигатор накоплений'!F23,"m"))<'Навигатор накоплений'!F23,1,0),Q25,"")) | Q26: =IF(P26="","",MIN(EDATE('Навигатор накоплений'!E23,20),'Навигатор накоплений'!F23)) | R26: =IF(P26="","",ROUND(S25*'Навигатор накоплений'!D23*IF(YEAR(P26)=YEAR(Q26-1),(Q26-P26)/(DATE(YEAR(P26),12,31)-DATE(YEAR(P26),1,1)+1),(DATE(YEAR(P26)+1,1,1)-P26)/(DATE(YEAR(P26),12,31)-DATE(YEAR(P26),1,1)+1)+(Q26-DATE(YEAR(Q26),1,1))/(DATE(YEAR(Q26),12,31)-DATE(YEAR(Q26),1,1)+1)),2)) | S26: =IF(P26="","",ROUND(S25+R26+IF(Q26<'Навигатор накоплений'!F23,N('Навигатор накоплений'!G23),0),2)) | U26: =IF('Навигатор накоплений'!A24="","",IF(20<=DATEDIF('Навигатор накоплений'!E24,'Навигатор накоплений'!F24,"m")+IF(EDATE('Навигатор накоплений'!E24,DATEDIF('Навигатор накоплений'!E24,'Навигатор накоплений'!F24,"m"))<'Навигатор накоплений'!F24,1,0),V25,"")) | V26: =IF(U26="","",MIN(EDATE('Навигатор накоплений'!E24,20),'Навигатор накоплений'!F24)) | W26: =IF(U26="","",ROUND(X25*'Навигатор накоплений'!D24*IF(YEAR(U26)=YEAR(V26-1),(V26-U26)/(DATE(YEAR(U26),12,31)-DATE(YEAR(U26),1,1)+1),(DATE(YEAR(U26)+1,1,1)-U26)/(DATE(YEAR(U26),12,31)-DATE(YEAR(U26),1,1)+1)+(V26-DATE(YEAR(V26),1,1))/(DATE(YEAR(V26),12,31)-DATE(YEAR(V26),1,1)+1)),2)) | X26: =IF(U26="","",ROUND(X25+W26+IF(V26<'Навигатор накоплений'!F24,N('Навигатор накоплений'!G24),0),2)) | Z26: =IF('Навигатор накоплений'!A25="","",IF(20<=DATEDIF('Навигатор накоплений'!E25,'Навигатор накоплений'!F25,"m")+IF(EDATE('Навигатор накоплений'!E25,DATEDIF('Навигатор накоплений'!E25,'Навигатор накоплений'!F25,"m"))<'Навигатор накоплений'!F25,1,0),AA25,"")) | AA26: =IF(Z26="","",MIN(EDATE('Навигатор накоплений'!E25,20),'Навигатор накоплений'!F25)) | AB26: =IF(Z26="","",ROUND(AC25*'Навигатор накоплений'!D25*IF(YEAR(Z26)=YEAR(AA26-1),(AA26-Z26)/(DATE(YEAR(Z26),12,31)-DATE(YEAR(Z26),1,1)+1),(DATE(YEAR(Z26)+1,1,1)-Z26)/(DATE(YEAR(Z26),12,31)-DATE(YEAR(Z26),1,1)+1)+(AA26-DATE(YEAR(AA26),1,1))/(DATE(YEAR(AA26),12,31)-DATE(YEAR(AA26),1,1)+1)),2)) | AC26: =IF(Z26="","",ROUND(AC25+AB26+IF(AA26<'Навигатор накоплений'!F25,N('Навигатор накоплений'!G25),0),2)) | AE26: =IF('Навигатор накоплений'!A26="","",IF(20<=DATEDIF('Навигатор накоплений'!E26,'Навигатор накоплений'!F26,"m")+IF(EDATE('Навигатор накоплений'!E26,DATEDIF('Навигатор накоплений'!E26,'Навигатор накоплений'!F26,"m"))<'Навигатор накоплений'!F26,1,0),AF25,"")) | AF26: =IF(AE26="","",MIN(EDATE('Навигатор накоплений'!E26,20),'Навигатор накоплений'!F26)) | AG26: =IF(AE26="","",ROUND(AH25*'Навигатор накоплений'!D26*IF(YEAR(AE26)=YEAR(AF26-1),(AF26-AE26)/(DATE(YEAR(AE26),12,31)-DATE(YEAR(AE26),1,1)+1),(DATE(YEAR(AE26)+1,1,1)-AE26)/(DATE(YEAR(AE26),12,31)-DATE(YEAR(AE26),1,1)+1)+(AF26-DATE(YEAR(AF26),1,1))/(DATE(YEAR(AF26),12,31)-DATE(YEAR(AF26),1,1)+1)),2)) | AH26: =IF(AE26="","",ROUND(AH25+AG26+IF(AF26<'Навигатор накоплений'!F26,N('Навигатор накоплений'!G26),0),2)) | AJ26: =IF('Навигатор накоплений'!A27="","",IF(20<=DATEDIF('Навигатор накоплений'!E27,'Навигатор накоплений'!F27,"m")+IF(EDATE('Навигатор накоплений'!E27,DATEDIF('Навигатор накоплений'!E27,'Навигатор накоплений'!F27,"m"))<'Навигатор накоплений'!F27,1,0),AK25,"")) | AK26: =IF(AJ26="","",MIN(EDATE('Навигатор накоплений'!E27,20),'Навигатор накоплений'!F27)) | AL26: =IF(AJ26="","",ROUND(AM25*'Навигатор накоплений'!D27*IF(YEAR(AJ26)=YEAR(AK26-1),(AK26-AJ26)/(DATE(YEAR(AJ26),12,31)-DATE(YEAR(AJ26),1,1)+1),(DATE(YEAR(AJ26)+1,1,1)-AJ26)/(DATE(YEAR(AJ26),12,31)-DATE(YEAR(AJ26),1,1)+1)+(AK26-DATE(YEAR(AK26),1,1))/(DATE(YEAR(AK26),12,31)-DATE(YEAR(AK26),1,1)+1)),2)) | AM26: =IF(AJ26="","",ROUND(AM25+AL26+IF(AK26<'Навигатор накоплений'!F27,N('Навигатор накоплений'!G27),0),2)) | AO26: =IF('Навигатор накоплений'!A28="","",IF(20<=DATEDIF('Навигатор накоплений'!E28,'Навигатор накоплений'!F28,"m")+IF(EDATE('Навигатор накоплений'!E28,DATEDIF('Навигатор накоплений'!E28,'Навигатор накоплений'!F28,"m"))<'Навигатор накоплений'!F28,1,0),AP25,"")) | AP26: =IF(AO26="","",MIN(EDATE('Навигатор накоплений'!E28,20),'Навигатор накоплений'!F28)) | AQ26: =IF(AO26="","",ROUND(AR25*'Навигатор накоплений'!D28*IF(YEAR(AO26)=YEAR(AP26-1),(AP26-AO26)/(DATE(YEAR(AO26),12,31)-DATE(YEAR(AO26),1,1)+1),(DATE(YEAR(AO26)+1,1,1)-AO26)/(DATE(YEAR(AO26),12,31)-DATE(YEAR(AO26),1,1)+1)+(AP26-DATE(YEAR(AP26),1,1))/(DATE(YEAR(AP26),12,31)-DATE(YEAR(AP26),1,1)+1)),2)) | AR26: =IF(AO26="","",ROUND(AR25+AQ26+IF(AP26<'Навигатор накоплений'!F28,N('Навигатор накоплений'!G28),0),2)) | AT26: =IF(OR(K26="",L26="",M26="",L26<=K26),0,ROUND(M26*MAX(0,MIN(L26,DATE(2027,1,1))-MAX(K26,DATE(2026,1,1)))/(L26-K26),2)) -> 0 | AU26: =IF(OR(P26="",Q26="",R26="",Q26<=P26),0,ROUND(R26*MAX(0,MIN(Q26,DATE(2027,1,1))-MAX(P26,DATE(2026,1,1)))/(Q26-P26),2)) -> 0 | AV26: =IF(OR(U26="",V26="",W26="",V26<=U26),0,ROUND(W26*MAX(0,MIN(V26,DATE(2027,1,1))-MAX(U26,DATE(2026,1,1)))/(V26-U26),2)) -> 0 | AW26: =IF(OR(Z26="",AA26="",AB26="",AA26<=Z26),0,ROUND(AB26*MAX(0,MIN(AA26,DATE(2027,1,1))-MAX(Z26,DATE(2026,1,1)))/(AA26-Z26),2)) -> 0 | AX26: =IF(OR(AE26="",AF26="",AG26="",AF26<=AE26),0,ROUND(AG26*MAX(0,MIN(AF26,DATE(2027,1,1))-MAX(AE26,DATE(2026,1,1)))/(AF26-AE26),2)) -> 0 | AY26: =IF(OR(AJ26="",AK26="",AL26="",AK26<=AJ26),0,ROUND(AL26*MAX(0,MIN(AK26,DATE(2027,1,1))-MAX(AJ26,DATE(2026,1,1)))/(AK26-AJ26),2)) -> 0 | AZ26: =IF(OR(AO26="",AP26="",AQ26="",AP26<=AO26),0,ROUND(AQ26*MAX(0,MIN(AP26,DATE(2027,1,1))-MAX(AO26,DATE(2026,1,1)))/(AP26-AO26),2)) -> 0
A27: 1 | B27: =IF('Навигатор накоплений'!A32="","",EDATE('Навигатор накоплений'!C32,A27-1)) | C27: =IF(B27="","",EDATE('Навигатор накоплений'!C32,A27)) | D27: =IF(B27="","",'Навигатор накоплений'!D32) | E27: =IF(B27="","",N('Навигатор накоплений'!G32)) | F27: =IF(B27="","",IF('Навигатор накоплений'!F32="Ежедневный остаток",D27+E27,D27)) | G27: =IF(B27="","",C27-B27) | H27: =IF(B27="","",ROUND(F27*'Навигатор накоплений'!E32*IF(YEAR(B27)=YEAR(C27-1),(C27-B27)/(DATE(YEAR(B27),12,31)-DATE(YEAR(B27),1,1)+1),(DATE(YEAR(B27)+1,1,1)-B27)/(DATE(YEAR(B27),12,31)-DATE(YEAR(B27),1,1)+1)+(C27-DATE(YEAR(C27),1,1))/(DATE(YEAR(C27),12,31)-DATE(YEAR(C27),1,1)+1)),2)) | I27: =IF(B27="","",ROUND(D27+E27+H27,2)) | K27: =IF('Навигатор накоплений'!A22="","",IF(21<=DATEDIF('Навигатор накоплений'!E22,'Навигатор накоплений'!F22,"m")+IF(EDATE('Навигатор накоплений'!E22,DATEDIF('Навигатор накоплений'!E22,'Навигатор накоплений'!F22,"m"))<'Навигатор накоплений'!F22,1,0),L26,"")) | L27: =IF(K27="","",MIN(EDATE('Навигатор накоплений'!E22,21),'Навигатор накоплений'!F22)) | M27: =IF(K27="","",ROUND(N26*'Навигатор накоплений'!D22*IF(YEAR(K27)=YEAR(L27-1),(L27-K27)/(DATE(YEAR(K27),12,31)-DATE(YEAR(K27),1,1)+1),(DATE(YEAR(K27)+1,1,1)-K27)/(DATE(YEAR(K27),12,31)-DATE(YEAR(K27),1,1)+1)+(L27-DATE(YEAR(L27),1,1))/(DATE(YEAR(L27),12,31)-DATE(YEAR(L27),1,1)+1)),2)) | N27: =IF(K27="","",ROUND(N26+M27+IF(L27<'Навигатор накоплений'!F22,N('Навигатор накоплений'!G22),0),2)) | P27: =IF('Навигатор накоплений'!A23="","",IF(21<=DATEDIF('Навигатор накоплений'!E23,'Навигатор накоплений'!F23,"m")+IF(EDATE('Навигатор накоплений'!E23,DATEDIF('Навигатор накоплений'!E23,'Навигатор накоплений'!F23,"m"))<'Навигатор накоплений'!F23,1,0),Q26,"")) | Q27: =IF(P27="","",MIN(EDATE('Навигатор накоплений'!E23,21),'Навигатор накоплений'!F23)) | R27: =IF(P27="","",ROUND(S26*'Навигатор накоплений'!D23*IF(YEAR(P27)=YEAR(Q27-1),(Q27-P27)/(DATE(YEAR(P27),12,31)-DATE(YEAR(P27),1,1)+1),(DATE(YEAR(P27)+1,1,1)-P27)/(DATE(YEAR(P27),12,31)-DATE(YEAR(P27),1,1)+1)+(Q27-DATE(YEAR(Q27),1,1))/(DATE(YEAR(Q27),12,31)-DATE(YEAR(Q27),1,1)+1)),2)) | S27: =IF(P27="","",ROUND(S26+R27+IF(Q27<'Навигатор накоплений'!F23,N('Навигатор накоплений'!G23),0),2)) | U27: =IF('Навигатор накоплений'!A24="","",IF(21<=DATEDIF('Навигатор накоплений'!E24,'Навигатор накоплений'!F24,"m")+IF(EDATE('Навигатор накоплений'!E24,DATEDIF('Навигатор накоплений'!E24,'Навигатор накоплений'!F24,"m"))<'Навигатор накоплений'!F24,1,0),V26,"")) | V27: =IF(U27="","",MIN(EDATE('Навигатор накоплений'!E24,21),'Навигатор накоплений'!F24)) | W27: =IF(U27="","",ROUND(X26*'Навигатор накоплений'!D24*IF(YEAR(U27)=YEAR(V27-1),(V27-U27)/(DATE(YEAR(U27),12,31)-DATE(YEAR(U27),1,1)+1),(DATE(YEAR(U27)+1,1,1)-U27)/(DATE(YEAR(U27),12,31)-DATE(YEAR(U27),1,1)+1)+(V27-DATE(YEAR(V27),1,1))/(DATE(YEAR(V27),12,31)-DATE(YEAR(V27),1,1)+1)),2)) | X27: =IF(U27="","",ROUND(X26+W27+IF(V27<'Навигатор накоплений'!F24,N('Навигатор накоплений'!G24),0),2)) | Z27: =IF('Навигатор накоплений'!A25="","",IF(21<=DATEDIF('Навигатор накоплений'!E25,'Навигатор накоплений'!F25,"m")+IF(EDATE('Навигатор накоплений'!E25,DATEDIF('Навигатор накоплений'!E25,'Навигатор накоплений'!F25,"m"))<'Навигатор накоплений'!F25,1,0),AA26,"")) | AA27: =IF(Z27="","",MIN(EDATE('Навигатор накоплений'!E25,21),'Навигатор накоплений'!F25)) | AB27: =IF(Z27="","",ROUND(AC26*'Навигатор накоплений'!D25*IF(YEAR(Z27)=YEAR(AA27-1),(AA27-Z27)/(DATE(YEAR(Z27),12,31)-DATE(YEAR(Z27),1,1)+1),(DATE(YEAR(Z27)+1,1,1)-Z27)/(DATE(YEAR(Z27),12,31)-DATE(YEAR(Z27),1,1)+1)+(AA27-DATE(YEAR(AA27),1,1))/(DATE(YEAR(AA27),12,31)-DATE(YEAR(AA27),1,1)+1)),2)) | AC27: =IF(Z27="","",ROUND(AC26+AB27+IF(AA27<'Навигатор накоплений'!F25,N('Навигатор накоплений'!G25),0),2)) | AE27: =IF('Навигатор накоплений'!A26="","",IF(21<=DATEDIF('Навигатор накоплений'!E26,'Навигатор накоплений'!F26,"m")+IF(EDATE('Навигатор накоплений'!E26,DATEDIF('Навигатор накоплений'!E26,'Навигатор накоплений'!F26,"m"))<'Навигатор накоплений'!F26,1,0),AF26,"")) | AF27: =IF(AE27="","",MIN(EDATE('Навигатор накоплений'!E26,21),'Навигатор накоплений'!F26)) | AG27: =IF(AE27="","",ROUND(AH26*'Навигатор накоплений'!D26*IF(YEAR(AE27)=YEAR(AF27-1),(AF27-AE27)/(DATE(YEAR(AE27),12,31)-DATE(YEAR(AE27),1,1)+1),(DATE(YEAR(AE27)+1,1,1)-AE27)/(DATE(YEAR(AE27),12,31)-DATE(YEAR(AE27),1,1)+1)+(AF27-DATE(YEAR(AF27),1,1))/(DATE(YEAR(AF27),12,31)-DATE(YEAR(AF27),1,1)+1)),2)) | AH27: =IF(AE27="","",ROUND(AH26+AG27+IF(AF27<'Навигатор накоплений'!F26,N('Навигатор накоплений'!G26),0),2)) | AJ27: =IF('Навигатор накоплений'!A27="","",IF(21<=DATEDIF('Навигатор накоплений'!E27,'Навигатор накоплений'!F27,"m")+IF(EDATE('Навигатор накоплений'!E27,DATEDIF('Навигатор накоплений'!E27,'Навигатор накоплений'!F27,"m"))<'Навигатор накоплений'!F27,1,0),AK26,"")) | AK27: =IF(AJ27="","",MIN(EDATE('Навигатор накоплений'!E27,21),'Навигатор накоплений'!F27)) | AL27: =IF(AJ27="","",ROUND(AM26*'Навигатор накоплений'!D27*IF(YEAR(AJ27)=YEAR(AK27-1),(AK27-AJ27)/(DATE(YEAR(AJ27),12,31)-DATE(YEAR(AJ27),1,1)+1),(DATE(YEAR(AJ27)+1,1,1)-AJ27)/(DATE(YEAR(AJ27),12,31)-DATE(YEAR(AJ27),1,1)+1)+(AK27-DATE(YEAR(AK27),1,1))/(DATE(YEAR(AK27),12,31)-DATE(YEAR(AK27),1,1)+1)),2)) | AM27: =IF(AJ27="","",ROUND(AM26+AL27+IF(AK27<'Навигатор накоплений'!F27,N('Навигатор накоплений'!G27),0),2)) | AO27: =IF('Навигатор накоплений'!A28="","",IF(21<=DATEDIF('Навигатор накоплений'!E28,'Навигатор накоплений'!F28,"m")+IF(EDATE('Навигатор накоплений'!E28,DATEDIF('Навигатор накоплений'!E28,'Навигатор накоплений'!F28,"m"))<'Навигатор накоплений'!F28,1,0),AP26,"")) | AP27: =IF(AO27="","",MIN(EDATE('Навигатор накоплений'!E28,21),'Навигатор накоплений'!F28)) | AQ27: =IF(AO27="","",ROUND(AR26*'Навигатор накоплений'!D28*IF(YEAR(AO27)=YEAR(AP27-1),(AP27-AO27)/(DATE(YEAR(AO27),12,31)-DATE(YEAR(AO27),1,1)+1),(DATE(YEAR(AO27)+1,1,1)-AO27)/(DATE(YEAR(AO27),12,31)-DATE(YEAR(AO27),1,1)+1)+(AP27-DATE(YEAR(AP27),1,1))/(DATE(YEAR(AP27),12,31)-DATE(YEAR(AP27),1,1)+1)),2)) | AR27: =IF(AO27="","",ROUND(AR26+AQ27+IF(AP27<'Навигатор накоплений'!F28,N('Навигатор накоплений'!G28),0),2)) | AT27: =IF(OR(K27="",L27="",M27="",L27<=K27),0,ROUND(M27*MAX(0,MIN(L27,DATE(2027,1,1))-MAX(K27,DATE(2026,1,1)))/(L27-K27),2)) -> 0 | AU27: =IF(OR(P27="",Q27="",R27="",Q27<=P27),0,ROUND(R27*MAX(0,MIN(Q27,DATE(2027,1,1))-MAX(P27,DATE(2026,1,1)))/(Q27-P27),2)) -> 0 | AV27: =IF(OR(U27="",V27="",W27="",V27<=U27),0,ROUND(W27*MAX(0,MIN(V27,DATE(2027,1,1))-MAX(U27,DATE(2026,1,1)))/(V27-U27),2)) -> 0 | AW27: =IF(OR(Z27="",AA27="",AB27="",AA27<=Z27),0,ROUND(AB27*MAX(0,MIN(AA27,DATE(2027,1,1))-MAX(Z27,DATE(2026,1,1)))/(AA27-Z27),2)) -> 0 | AX27: =IF(OR(AE27="",AF27="",AG27="",AF27<=AE27),0,ROUND(AG27*MAX(0,MIN(AF27,DATE(2027,1,1))-MAX(AE27,DATE(2026,1,1)))/(AF27-AE27),2)) -> 0 | AY27: =IF(OR(AJ27="",AK27="",AL27="",AK27<=AJ27),0,ROUND(AL27*MAX(0,MIN(AK27,DATE(2027,1,1))-MAX(AJ27,DATE(2026,1,1)))/(AK27-AJ27),2)) -> 0 | AZ27: =IF(OR(AO27="",AP27="",AQ27="",AP27<=AO27),0,ROUND(AQ27*MAX(0,MIN(AP27,DATE(2027,1,1))-MAX(AO27,DATE(2026,1,1)))/(AP27-AO27),2)) -> 0
A28: 2 | B28: =IF('Навигатор накоплений'!A32="","",EDATE('Навигатор накоплений'!C32,A28-1)) | C28: =IF(B28="","",EDATE('Навигатор накоплений'!C32,A28)) | D28: =IF(B28="","",I27) | E28: =IF(B28="","",N('Навигатор накоплений'!G32)) | F28: =IF(B28="","",IF('Навигатор накоплений'!F32="Ежедневный остаток",D28+E28,D28)) | G28: =IF(B28="","",C28-B28) | H28: =IF(B28="","",ROUND(F28*'Навигатор накоплений'!E32*IF(YEAR(B28)=YEAR(C28-1),(C28-B28)/(DATE(YEAR(B28),12,31)-DATE(YEAR(B28),1,1)+1),(DATE(YEAR(B28)+1,1,1)-B28)/(DATE(YEAR(B28),12,31)-DATE(YEAR(B28),1,1)+1)+(C28-DATE(YEAR(C28),1,1))/(DATE(YEAR(C28),12,31)-DATE(YEAR(C28),1,1)+1)),2)) | I28: =IF(B28="","",ROUND(D28+E28+H28,2)) | K28: =IF('Навигатор накоплений'!A22="","",IF(22<=DATEDIF('Навигатор накоплений'!E22,'Навигатор накоплений'!F22,"m")+IF(EDATE('Навигатор накоплений'!E22,DATEDIF('Навигатор накоплений'!E22,'Навигатор накоплений'!F22,"m"))<'Навигатор накоплений'!F22,1,0),L27,"")) | L28: =IF(K28="","",MIN(EDATE('Навигатор накоплений'!E22,22),'Навигатор накоплений'!F22)) | M28: =IF(K28="","",ROUND(N27*'Навигатор накоплений'!D22*IF(YEAR(K28)=YEAR(L28-1),(L28-K28)/(DATE(YEAR(K28),12,31)-DATE(YEAR(K28),1,1)+1),(DATE(YEAR(K28)+1,1,1)-K28)/(DATE(YEAR(K28),12,31)-DATE(YEAR(K28),1,1)+1)+(L28-DATE(YEAR(L28),1,1))/(DATE(YEAR(L28),12,31)-DATE(YEAR(L28),1,1)+1)),2)) | N28: =IF(K28="","",ROUND(N27+M28+IF(L28<'Навигатор накоплений'!F22,N('Навигатор накоплений'!G22),0),2)) | P28: =IF('Навигатор накоплений'!A23="","",IF(22<=DATEDIF('Навигатор накоплений'!E23,'Навигатор накоплений'!F23,"m")+IF(EDATE('Навигатор накоплений'!E23,DATEDIF('Навигатор накоплений'!E23,'Навигатор накоплений'!F23,"m"))<'Навигатор накоплений'!F23,1,0),Q27,"")) | Q28: =IF(P28="","",MIN(EDATE('Навигатор накоплений'!E23,22),'Навигатор накоплений'!F23)) | R28: =IF(P28="","",ROUND(S27*'Навигатор накоплений'!D23*IF(YEAR(P28)=YEAR(Q28-1),(Q28-P28)/(DATE(YEAR(P28),12,31)-DATE(YEAR(P28),1,1)+1),(DATE(YEAR(P28)+1,1,1)-P28)/(DATE(YEAR(P28),12,31)-DATE(YEAR(P28),1,1)+1)+(Q28-DATE(YEAR(Q28),1,1))/(DATE(YEAR(Q28),12,31)-DATE(YEAR(Q28),1,1)+1)),2)) | S28: =IF(P28="","",ROUND(S27+R28+IF(Q28<'Навигатор накоплений'!F23,N('Навигатор накоплений'!G23),0),2)) | U28: =IF('Навигатор накоплений'!A24="","",IF(22<=DATEDIF('Навигатор накоплений'!E24,'Навигатор накоплений'!F24,"m")+IF(EDATE('Навигатор накоплений'!E24,DATEDIF('Навигатор накоплений'!E24,'Навигатор накоплений'!F24,"m"))<'Навигатор накоплений'!F24,1,0),V27,"")) | V28: =IF(U28="","",MIN(EDATE('Навигатор накоплений'!E24,22),'Навигатор накоплений'!F24)) | W28: =IF(U28="","",ROUND(X27*'Навигатор накоплений'!D24*IF(YEAR(U28)=YEAR(V28-1),(V28-U28)/(DATE(YEAR(U28),12,31)-DATE(YEAR(U28),1,1)+1),(DATE(YEAR(U28)+1,1,1)-U28)/(DATE(YEAR(U28),12,31)-DATE(YEAR(U28),1,1)+1)+(V28-DATE(YEAR(V28),1,1))/(DATE(YEAR(V28),12,31)-DATE(YEAR(V28),1,1)+1)),2)) | X28: =IF(U28="","",ROUND(X27+W28+IF(V28<'Навигатор накоплений'!F24,N('Навигатор накоплений'!G24),0),2)) | Z28: =IF('Навигатор накоплений'!A25="","",IF(22<=DATEDIF('Навигатор накоплений'!E25,'Навигатор накоплений'!F25,"m")+IF(EDATE('Навигатор накоплений'!E25,DATEDIF('Навигатор накоплений'!E25,'Навигатор накоплений'!F25,"m"))<'Навигатор накоплений'!F25,1,0),AA27,"")) | AA28: =IF(Z28="","",MIN(EDATE('Навигатор накоплений'!E25,22),'Навигатор накоплений'!F25)) | AB28: =IF(Z28="","",ROUND(AC27*'Навигатор накоплений'!D25*IF(YEAR(Z28)=YEAR(AA28-1),(AA28-Z28)/(DATE(YEAR(Z28),12,31)-DATE(YEAR(Z28),1,1)+1),(DATE(YEAR(Z28)+1,1,1)-Z28)/(DATE(YEAR(Z28),12,31)-DATE(YEAR(Z28),1,1)+1)+(AA28-DATE(YEAR(AA28),1,1))/(DATE(YEAR(AA28),12,31)-DATE(YEAR(AA28),1,1)+1)),2)) | AC28: =IF(Z28="","",ROUND(AC27+AB28+IF(AA28<'Навигатор накоплений'!F25,N('Навигатор накоплений'!G25),0),2)) | AE28: =IF('Навигатор накоплений'!A26="","",IF(22<=DATEDIF('Навигатор накоплений'!E26,'Навигатор накоплений'!F26,"m")+IF(EDATE('Навигатор накоплений'!E26,DATEDIF('Навигатор накоплений'!E26,'Навигатор накоплений'!F26,"m"))<'Навигатор накоплений'!F26,1,0),AF27,"")) | AF28: =IF(AE28="","",MIN(EDATE('Навигатор накоплений'!E26,22),'Навигатор накоплений'!F26)) | AG28: =IF(AE28="","",ROUND(AH27*'Навигатор накоплений'!D26*IF(YEAR(AE28)=YEAR(AF28-1),(AF28-AE28)/(DATE(YEAR(AE28),12,31)-DATE(YEAR(AE28),1,1)+1),(DATE(YEAR(AE28)+1,1,1)-AE28)/(DATE(YEAR(AE28),12,31)-DATE(YEAR(AE28),1,1)+1)+(AF28-DATE(YEAR(AF28),1,1))/(DATE(YEAR(AF28),12,31)-DATE(YEAR(AF28),1,1)+1)),2)) | AH28: =IF(AE28="","",ROUND(AH27+AG28+IF(AF28<'Навигатор накоплений'!F26,N('Навигатор накоплений'!G26),0),2)) | AJ28: =IF('Навигатор накоплений'!A27="","",IF(22<=DATEDIF('Навигатор накоплений'!E27,'Навигатор накоплений'!F27,"m")+IF(EDATE('Навигатор накоплений'!E27,DATEDIF('Навигатор накоплений'!E27,'Навигатор накоплений'!F27,"m"))<'Навигатор накоплений'!F27,1,0),AK27,"")) | AK28: =IF(AJ28="","",MIN(EDATE('Навигатор накоплений'!E27,22),'Навигатор накоплений'!F27)) | AL28: =IF(AJ28="","",ROUND(AM27*'Навигатор накоплений'!D27*IF(YEAR(AJ28)=YEAR(AK28-1),(AK28-AJ28)/(DATE(YEAR(AJ28),12,31)-DATE(YEAR(AJ28),1,1)+1),(DATE(YEAR(AJ28)+1,1,1)-AJ28)/(DATE(YEAR(AJ28),12,31)-DATE(YEAR(AJ28),1,1)+1)+(AK28-DATE(YEAR(AK28),1,1))/(DATE(YEAR(AK28),12,31)-DATE(YEAR(AK28),1,1)+1)),2)) | AM28: =IF(AJ28="","",ROUND(AM27+AL28+IF(AK28<'Навигатор накоплений'!F27,N('Навигатор накоплений'!G27),0),2)) | AO28: =IF('Навигатор накоплений'!A28="","",IF(22<=DATEDIF('Навигатор накоплений'!E28,'Навигатор накоплений'!F28,"m")+IF(EDATE('Навигатор накоплений'!E28,DATEDIF('Навигатор накоплений'!E28,'Навигатор накоплений'!F28,"m"))<'Навигатор накоплений'!F28,1,0),AP27,"")) | AP28: =IF(AO28="","",MIN(EDATE('Навигатор накоплений'!E28,22),'Навигатор накоплений'!F28)) | AQ28: =IF(AO28="","",ROUND(AR27*'Навигатор накоплений'!D28*IF(YEAR(AO28)=YEAR(AP28-1),(AP28-AO28)/(DATE(YEAR(AO28),12,31)-DATE(YEAR(AO28),1,1)+1),(DATE(YEAR(AO28)+1,1,1)-AO28)/(DATE(YEAR(AO28),12,31)-DATE(YEAR(AO28),1,1)+1)+(AP28-DATE(YEAR(AP28),1,1))/(DATE(YEAR(AP28),12,31)-DATE(YEAR(AP28),1,1)+1)),2)) | AR28: =IF(AO28="","",ROUND(AR27+AQ28+IF(AP28<'Навигатор накоплений'!F28,N('Навигатор накоплений'!G28),0),2)) | AT28: =IF(OR(K28="",L28="",M28="",L28<=K28),0,ROUND(M28*MAX(0,MIN(L28,DATE(2027,1,1))-MAX(K28,DATE(2026,1,1)))/(L28-K28),2)) -> 0 | AU28: =IF(OR(P28="",Q28="",R28="",Q28<=P28),0,ROUND(R28*MAX(0,MIN(Q28,DATE(2027,1,1))-MAX(P28,DATE(2026,1,1)))/(Q28-P28),2)) -> 0 | AV28: =IF(OR(U28="",V28="",W28="",V28<=U28),0,ROUND(W28*MAX(0,MIN(V28,DATE(2027,1,1))-MAX(U28,DATE(2026,1,1)))/(V28-U28),2)) -> 0 | AW28: =IF(OR(Z28="",AA28="",AB28="",AA28<=Z28),0,ROUND(AB28*MAX(0,MIN(AA28,DATE(2027,1,1))-MAX(Z28,DATE(2026,1,1)))/(AA28-Z28),2)) -> 0 | AX28: =IF(OR(AE28="",AF28="",AG28="",AF28<=AE28),0,ROUND(AG28*MAX(0,MIN(AF28,DATE(2027,1,1))-MAX(AE28,DATE(2026,1,1)))/(AF28-AE28),2)) -> 0 | AY28: =IF(OR(AJ28="",AK28="",AL28="",AK28<=AJ28),0,ROUND(AL28*MAX(0,MIN(AK28,DATE(2027,1,1))-MAX(AJ28,DATE(2026,1,1)))/(AK28-AJ28),2)) -> 0 | AZ28: =IF(OR(AO28="",AP28="",AQ28="",AP28<=AO28),0,ROUND(AQ28*MAX(0,MIN(AP28,DATE(2027,1,1))-MAX(AO28,DATE(2026,1,1)))/(AP28-AO28),2)) -> 0
A29: 3 | B29: =IF('Навигатор накоплений'!A32="","",EDATE('Навигатор накоплений'!C32,A29-1)) | C29: =IF(B29="","",EDATE('Навигатор накоплений'!C32,A29)) | D29: =IF(B29="","",I28) | E29: =IF(B29="","",N('Навигатор накоплений'!G32)) | F29: =IF(B29="","",IF('Навигатор накоплений'!F32="Ежедневный остаток",D29+E29,D29)) | G29: =IF(B29="","",C29-B29) | H29: =IF(B29="","",ROUND(F29*'Навигатор накоплений'!E32*IF(YEAR(B29)=YEAR(C29-1),(C29-B29)/(DATE(YEAR(B29),12,31)-DATE(YEAR(B29),1,1)+1),(DATE(YEAR(B29)+1,1,1)-B29)/(DATE(YEAR(B29),12,31)-DATE(YEAR(B29),1,1)+1)+(C29-DATE(YEAR(C29),1,1))/(DATE(YEAR(C29),12,31)-DATE(YEAR(C29),1,1)+1)),2)) | I29: =IF(B29="","",ROUND(D29+E29+H29,2)) | K29: =IF('Навигатор накоплений'!A22="","",IF(23<=DATEDIF('Навигатор накоплений'!E22,'Навигатор накоплений'!F22,"m")+IF(EDATE('Навигатор накоплений'!E22,DATEDIF('Навигатор накоплений'!E22,'Навигатор накоплений'!F22,"m"))<'Навигатор накоплений'!F22,1,0),L28,"")) | L29: =IF(K29="","",MIN(EDATE('Навигатор накоплений'!E22,23),'Навигатор накоплений'!F22)) | M29: =IF(K29="","",ROUND(N28*'Навигатор накоплений'!D22*IF(YEAR(K29)=YEAR(L29-1),(L29-K29)/(DATE(YEAR(K29),12,31)-DATE(YEAR(K29),1,1)+1),(DATE(YEAR(K29)+1,1,1)-K29)/(DATE(YEAR(K29),12,31)-DATE(YEAR(K29),1,1)+1)+(L29-DATE(YEAR(L29),1,1))/(DATE(YEAR(L29),12,31)-DATE(YEAR(L29),1,1)+1)),2)) | N29: =IF(K29="","",ROUND(N28+M29+IF(L29<'Навигатор накоплений'!F22,N('Навигатор накоплений'!G22),0),2)) | P29: =IF('Навигатор накоплений'!A23="","",IF(23<=DATEDIF('Навигатор накоплений'!E23,'Навигатор накоплений'!F23,"m")+IF(EDATE('Навигатор накоплений'!E23,DATEDIF('Навигатор накоплений'!E23,'Навигатор накоплений'!F23,"m"))<'Навигатор накоплений'!F23,1,0),Q28,"")) | Q29: =IF(P29="","",MIN(EDATE('Навигатор накоплений'!E23,23),'Навигатор накоплений'!F23)) | R29: =IF(P29="","",ROUND(S28*'Навигатор накоплений'!D23*IF(YEAR(P29)=YEAR(Q29-1),(Q29-P29)/(DATE(YEAR(P29),12,31)-DATE(YEAR(P29),1,1)+1),(DATE(YEAR(P29)+1,1,1)-P29)/(DATE(YEAR(P29),12,31)-DATE(YEAR(P29),1,1)+1)+(Q29-DATE(YEAR(Q29),1,1))/(DATE(YEAR(Q29),12,31)-DATE(YEAR(Q29),1,1)+1)),2)) | S29: =IF(P29="","",ROUND(S28+R29+IF(Q29<'Навигатор накоплений'!F23,N('Навигатор накоплений'!G23),0),2)) | U29: =IF('Навигатор накоплений'!A24="","",IF(23<=DATEDIF('Навигатор накоплений'!E24,'Навигатор накоплений'!F24,"m")+IF(EDATE('Навигатор накоплений'!E24,DATEDIF('Навигатор накоплений'!E24,'Навигатор накоплений'!F24,"m"))<'Навигатор накоплений'!F24,1,0),V28,"")) | V29: =IF(U29="","",MIN(EDATE('Навигатор накоплений'!E24,23),'Навигатор накоплений'!F24)) | W29: =IF(U29="","",ROUND(X28*'Навигатор накоплений'!D24*IF(YEAR(U29)=YEAR(V29-1),(V29-U29)/(DATE(YEAR(U29),12,31)-DATE(YEAR(U29),1,1)+1),(DATE(YEAR(U29)+1,1,1)-U29)/(DATE(YEAR(U29),12,31)-DATE(YEAR(U29),1,1)+1)+(V29-DATE(YEAR(V29),1,1))/(DATE(YEAR(V29),12,31)-DATE(YEAR(V29),1,1)+1)),2)) | X29: =IF(U29="","",ROUND(X28+W29+IF(V29<'Навигатор накоплений'!F24,N('Навигатор накоплений'!G24),0),2)) | Z29: =IF('Навигатор накоплений'!A25="","",IF(23<=DATEDIF('Навигатор накоплений'!E25,'Навигатор накоплений'!F25,"m")+IF(EDATE('Навигатор накоплений'!E25,DATEDIF('Навигатор накоплений'!E25,'Навигатор накоплений'!F25,"m"))<'Навигатор накоплений'!F25,1,0),AA28,"")) | AA29: =IF(Z29="","",MIN(EDATE('Навигатор накоплений'!E25,23),'Навигатор накоплений'!F25)) | AB29: =IF(Z29="","",ROUND(AC28*'Навигатор накоплений'!D25*IF(YEAR(Z29)=YEAR(AA29-1),(AA29-Z29)/(DATE(YEAR(Z29),12,31)-DATE(YEAR(Z29),1,1)+1),(DATE(YEAR(Z29)+1,1,1)-Z29)/(DATE(YEAR(Z29),12,31)-DATE(YEAR(Z29),1,1)+1)+(AA29-DATE(YEAR(AA29),1,1))/(DATE(YEAR(AA29),12,31)-DATE(YEAR(AA29),1,1)+1)),2)) | AC29: =IF(Z29="","",ROUND(AC28+AB29+IF(AA29<'Навигатор накоплений'!F25,N('Навигатор накоплений'!G25),0),2)) | AE29: =IF('Навигатор накоплений'!A26="","",IF(23<=DATEDIF('Навигатор накоплений'!E26,'Навигатор накоплений'!F26,"m")+IF(EDATE('Навигатор накоплений'!E26,DATEDIF('Навигатор накоплений'!E26,'Навигатор накоплений'!F26,"m"))<'Навигатор накоплений'!F26,1,0),AF28,"")) | AF29: =IF(AE29="","",MIN(EDATE('Навигатор накоплений'!E26,23),'Навигатор накоплений'!F26)) | AG29: =IF(AE29="","",ROUND(AH28*'Навигатор накоплений'!D26*IF(YEAR(AE29)=YEAR(AF29-1),(AF29-AE29)/(DATE(YEAR(AE29),12,31)-DATE(YEAR(AE29),1,1)+1),(DATE(YEAR(AE29)+1,1,1)-AE29)/(DATE(YEAR(AE29),12,31)-DATE(YEAR(AE29),1,1)+1)+(AF29-DATE(YEAR(AF29),1,1))/(DATE(YEAR(AF29),12,31)-DATE(YEAR(AF29),1,1)+1)),2)) | AH29: =IF(AE29="","",ROUND(AH28+AG29+IF(AF29<'Навигатор накоплений'!F26,N('Навигатор накоплений'!G26),0),2)) | AJ29: =IF('Навигатор накоплений'!A27="","",IF(23<=DATEDIF('Навигатор накоплений'!E27,'Навигатор накоплений'!F27,"m")+IF(EDATE('Навигатор накоплений'!E27,DATEDIF('Навигатор накоплений'!E27,'Навигатор накоплений'!F27,"m"))<'Навигатор накоплений'!F27,1,0),AK28,"")) | AK29: =IF(AJ29="","",MIN(EDATE('Навигатор накоплений'!E27,23),'Навигатор накоплений'!F27)) | AL29: =IF(AJ29="","",ROUND(AM28*'Навигатор накоплений'!D27*IF(YEAR(AJ29)=YEAR(AK29-1),(AK29-AJ29)/(DATE(YEAR(AJ29),12,31)-DATE(YEAR(AJ29),1,1)+1),(DATE(YEAR(AJ29)+1,1,1)-AJ29)/(DATE(YEAR(AJ29),12,31)-DATE(YEAR(AJ29),1,1)+1)+(AK29-DATE(YEAR(AK29),1,1))/(DATE(YEAR(AK29),12,31)-DATE(YEAR(AK29),1,1)+1)),2)) | AM29: =IF(AJ29="","",ROUND(AM28+AL29+IF(AK29<'Навигатор накоплений'!F27,N('Навигатор накоплений'!G27),0),2)) | AO29: =IF('Навигатор накоплений'!A28="","",IF(23<=DATEDIF('Навигатор накоплений'!E28,'Навигатор накоплений'!F28,"m")+IF(EDATE('Навигатор накоплений'!E28,DATEDIF('Навигатор накоплений'!E28,'Навигатор накоплений'!F28,"m"))<'Навигатор накоплений'!F28,1,0),AP28,"")) | AP29: =IF(AO29="","",MIN(EDATE('Навигатор накоплений'!E28,23),'Навигатор накоплений'!F28)) | AQ29: =IF(AO29="","",ROUND(AR28*'Навигатор накоплений'!D28*IF(YEAR(AO29)=YEAR(AP29-1),(AP29-AO29)/(DATE(YEAR(AO29),12,31)-DATE(YEAR(AO29),1,1)+1),(DATE(YEAR(AO29)+1,1,1)-AO29)/(DATE(YEAR(AO29),12,31)-DATE(YEAR(AO29),1,1)+1)+(AP29-DATE(YEAR(AP29),1,1))/(DATE(YEAR(AP29),12,31)-DATE(YEAR(AP29),1,1)+1)),2)) | AR29: =IF(AO29="","",ROUND(AR28+AQ29+IF(AP29<'Навигатор накоплений'!F28,N('Навигатор накоплений'!G28),0),2)) | AT29: =IF(OR(K29="",L29="",M29="",L29<=K29),0,ROUND(M29*MAX(0,MIN(L29,DATE(2027,1,1))-MAX(K29,DATE(2026,1,1)))/(L29-K29),2)) -> 0 | AU29: =IF(OR(P29="",Q29="",R29="",Q29<=P29),0,ROUND(R29*MAX(0,MIN(Q29,DATE(2027,1,1))-MAX(P29,DATE(2026,1,1)))/(Q29-P29),2)) -> 0 | AV29: =IF(OR(U29="",V29="",W29="",V29<=U29),0,ROUND(W29*MAX(0,MIN(V29,DATE(2027,1,1))-MAX(U29,DATE(2026,1,1)))/(V29-U29),2)) -> 0 | AW29: =IF(OR(Z29="",AA29="",AB29="",AA29<=Z29),0,ROUND(AB29*MAX(0,MIN(AA29,DATE(2027,1,1))-MAX(Z29,DATE(2026,1,1)))/(AA29-Z29),2)) -> 0 | AX29: =IF(OR(AE29="",AF29="",AG29="",AF29<=AE29),0,ROUND(AG29*MAX(0,MIN(AF29,DATE(2027,1,1))-MAX(AE29,DATE(2026,1,1)))/(AF29-AE29),2)) -> 0 | AY29: =IF(OR(AJ29="",AK29="",AL29="",AK29<=AJ29),0,ROUND(AL29*MAX(0,MIN(AK29,DATE(2027,1,1))-MAX(AJ29,DATE(2026,1,1)))/(AK29-AJ29),2)) -> 0 | AZ29: =IF(OR(AO29="",AP29="",AQ29="",AP29<=AO29),0,ROUND(AQ29*MAX(0,MIN(AP29,DATE(2027,1,1))-MAX(AO29,DATE(2026,1,1)))/(AP29-AO29),2)) -> 0
A30: 4 | B30: =IF('Навигатор накоплений'!A32="","",EDATE('Навигатор накоплений'!C32,A30-1)) | C30: =IF(B30="","",EDATE('Навигатор накоплений'!C32,A30)) | D30: =IF(B30="","",I29) | E30: =IF(B30="","",N('Навигатор накоплений'!G32)) | F30: =IF(B30="","",IF('Навигатор накоплений'!F32="Ежедневный остаток",D30+E30,D30)) | G30: =IF(B30="","",C30-B30) | H30: =IF(B30="","",ROUND(F30*'Навигатор накоплений'!E32*IF(YEAR(B30)=YEAR(C30-1),(C30-B30)/(DATE(YEAR(B30),12,31)-DATE(YEAR(B30),1,1)+1),(DATE(YEAR(B30)+1,1,1)-B30)/(DATE(YEAR(B30),12,31)-DATE(YEAR(B30),1,1)+1)+(C30-DATE(YEAR(C30),1,1))/(DATE(YEAR(C30),12,31)-DATE(YEAR(C30),1,1)+1)),2)) | I30: =IF(B30="","",ROUND(D30+E30+H30,2)) | K30: =IF('Навигатор накоплений'!A22="","",IF(24<=DATEDIF('Навигатор накоплений'!E22,'Навигатор накоплений'!F22,"m")+IF(EDATE('Навигатор накоплений'!E22,DATEDIF('Навигатор накоплений'!E22,'Навигатор накоплений'!F22,"m"))<'Навигатор накоплений'!F22,1,0),L29,"")) | L30: =IF(K30="","",MIN(EDATE('Навигатор накоплений'!E22,24),'Навигатор накоплений'!F22)) | M30: =IF(K30="","",ROUND(N29*'Навигатор накоплений'!D22*IF(YEAR(K30)=YEAR(L30-1),(L30-K30)/(DATE(YEAR(K30),12,31)-DATE(YEAR(K30),1,1)+1),(DATE(YEAR(K30)+1,1,1)-K30)/(DATE(YEAR(K30),12,31)-DATE(YEAR(K30),1,1)+1)+(L30-DATE(YEAR(L30),1,1))/(DATE(YEAR(L30),12,31)-DATE(YEAR(L30),1,1)+1)),2)) | N30: =IF(K30="","",ROUND(N29+M30+IF(L30<'Навигатор накоплений'!F22,N('Навигатор накоплений'!G22),0),2)) | P30: =IF('Навигатор накоплений'!A23="","",IF(24<=DATEDIF('Навигатор накоплений'!E23,'Навигатор накоплений'!F23,"m")+IF(EDATE('Навигатор накоплений'!E23,DATEDIF('Навигатор накоплений'!E23,'Навигатор накоплений'!F23,"m"))<'Навигатор накоплений'!F23,1,0),Q29,"")) | Q30: =IF(P30="","",MIN(EDATE('Навигатор накоплений'!E23,24),'Навигатор накоплений'!F23)) | R30: =IF(P30="","",ROUND(S29*'Навигатор накоплений'!D23*IF(YEAR(P30)=YEAR(Q30-1),(Q30-P30)/(DATE(YEAR(P30),12,31)-DATE(YEAR(P30),1,1)+1),(DATE(YEAR(P30)+1,1,1)-P30)/(DATE(YEAR(P30),12,31)-DATE(YEAR(P30),1,1)+1)+(Q30-DATE(YEAR(Q30),1,1))/(DATE(YEAR(Q30),12,31)-DATE(YEAR(Q30),1,1)+1)),2)) | S30: =IF(P30="","",ROUND(S29+R30+IF(Q30<'Навигатор накоплений'!F23,N('Навигатор накоплений'!G23),0),2)) | U30: =IF('Навигатор накоплений'!A24="","",IF(24<=DATEDIF('Навигатор накоплений'!E24,'Навигатор накоплений'!F24,"m")+IF(EDATE('Навигатор накоплений'!E24,DATEDIF('Навигатор накоплений'!E24,'Навигатор накоплений'!F24,"m"))<'Навигатор накоплений'!F24,1,0),V29,"")) | V30: =IF(U30="","",MIN(EDATE('Навигатор накоплений'!E24,24),'Навигатор накоплений'!F24)) | W30: =IF(U30="","",ROUND(X29*'Навигатор накоплений'!D24*IF(YEAR(U30)=YEAR(V30-1),(V30-U30)/(DATE(YEAR(U30),12,31)-DATE(YEAR(U30),1,1)+1),(DATE(YEAR(U30)+1,1,1)-U30)/(DATE(YEAR(U30),12,31)-DATE(YEAR(U30),1,1)+1)+(V30-DATE(YEAR(V30),1,1))/(DATE(YEAR(V30),12,31)-DATE(YEAR(V30),1,1)+1)),2)) | X30: =IF(U30="","",ROUND(X29+W30+IF(V30<'Навигатор накоплений'!F24,N('Навигатор накоплений'!G24),0),2)) | Z30: =IF('Навигатор накоплений'!A25="","",IF(24<=DATEDIF('Навигатор накоплений'!E25,'Навигатор накоплений'!F25,"m")+IF(EDATE('Навигатор накоплений'!E25,DATEDIF('Навигатор накоплений'!E25,'Навигатор накоплений'!F25,"m"))<'Навигатор накоплений'!F25,1,0),AA29,"")) | AA30: =IF(Z30="","",MIN(EDATE('Навигатор накоплений'!E25,24),'Навигатор накоплений'!F25)) | AB30: =IF(Z30="","",ROUND(AC29*'Навигатор накоплений'!D25*IF(YEAR(Z30)=YEAR(AA30-1),(AA30-Z30)/(DATE(YEAR(Z30),12,31)-DATE(YEAR(Z30),1,1)+1),(DATE(YEAR(Z30)+1,1,1)-Z30)/(DATE(YEAR(Z30),12,31)-DATE(YEAR(Z30),1,1)+1)+(AA30-DATE(YEAR(AA30),1,1))/(DATE(YEAR(AA30),12,31)-DATE(YEAR(AA30),1,1)+1)),2)) | AC30: =IF(Z30="","",ROUND(AC29+AB30+IF(AA30<'Навигатор накоплений'!F25,N('Навигатор накоплений'!G25),0),2)) | AE30: =IF('Навигатор накоплений'!A26="","",IF(24<=DATEDIF('Навигатор накоплений'!E26,'Навигатор накоплений'!F26,"m")+IF(EDATE('Навигатор накоплений'!E26,DATEDIF('Навигатор накоплений'!E26,'Навигатор накоплений'!F26,"m"))<'Навигатор накоплений'!F26,1,0),AF29,"")) | AF30: =IF(AE30="","",MIN(EDATE('Навигатор накоплений'!E26,24),'Навигатор накоплений'!F26)) | AG30: =IF(AE30="","",ROUND(AH29*'Навигатор накоплений'!D26*IF(YEAR(AE30)=YEAR(AF30-1),(AF30-AE30)/(DATE(YEAR(AE30),12,31)-DATE(YEAR(AE30),1,1)+1),(DATE(YEAR(AE30)+1,1,1)-AE30)/(DATE(YEAR(AE30),12,31)-DATE(YEAR(AE30),1,1)+1)+(AF30-DATE(YEAR(AF30),1,1))/(DATE(YEAR(AF30),12,31)-DATE(YEAR(AF30),1,1)+1)),2)) | AH30: =IF(AE30="","",ROUND(AH29+AG30+IF(AF30<'Навигатор накоплений'!F26,N('Навигатор накоплений'!G26),0),2)) | AJ30: =IF('Навигатор накоплений'!A27="","",IF(24<=DATEDIF('Навигатор накоплений'!E27,'Навигатор накоплений'!F27,"m")+IF(EDATE('Навигатор накоплений'!E27,DATEDIF('Навигатор накоплений'!E27,'Навигатор накоплений'!F27,"m"))<'Навигатор накоплений'!F27,1,0),AK29,"")) | AK30: =IF(AJ30="","",MIN(EDATE('Навигатор накоплений'!E27,24),'Навигатор накоплений'!F27)) | AL30: =IF(AJ30="","",ROUND(AM29*'Навигатор накоплений'!D27*IF(YEAR(AJ30)=YEAR(AK30-1),(AK30-AJ30)/(DATE(YEAR(AJ30),12,31)-DATE(YEAR(AJ30),1,1)+1),(DATE(YEAR(AJ30)+1,1,1)-AJ30)/(DATE(YEAR(AJ30),12,31)-DATE(YEAR(AJ30),1,1)+1)+(AK30-DATE(YEAR(AK30),1,1))/(DATE(YEAR(AK30),12,31)-DATE(YEAR(AK30),1,1)+1)),2)) | AM30: =IF(AJ30="","",ROUND(AM29+AL30+IF(AK30<'Навигатор накоплений'!F27,N('Навигатор накоплений'!G27),0),2)) | AO30: =IF('Навигатор накоплений'!A28="","",IF(24<=DATEDIF('Навигатор накоплений'!E28,'Навигатор накоплений'!F28,"m")+IF(EDATE('Навигатор накоплений'!E28,DATEDIF('Навигатор накоплений'!E28,'Навигатор накоплений'!F28,"m"))<'Навигатор накоплений'!F28,1,0),AP29,"")) | AP30: =IF(AO30="","",MIN(EDATE('Навигатор накоплений'!E28,24),'Навигатор накоплений'!F28)) | AQ30: =IF(AO30="","",ROUND(AR29*'Навигатор накоплений'!D28*IF(YEAR(AO30)=YEAR(AP30-1),(AP30-AO30)/(DATE(YEAR(AO30),12,31)-DATE(YEAR(AO30),1,1)+1),(DATE(YEAR(AO30)+1,1,1)-AO30)/(DATE(YEAR(AO30),12,31)-DATE(YEAR(AO30),1,1)+1)+(AP30-DATE(YEAR(AP30),1,1))/(DATE(YEAR(AP30),12,31)-DATE(YEAR(AP30),1,1)+1)),2)) | AR30: =IF(AO30="","",ROUND(AR29+AQ30+IF(AP30<'Навигатор накоплений'!F28,N('Навигатор накоплений'!G28),0),2)) | AT30: =IF(OR(K30="",L30="",M30="",L30<=K30),0,ROUND(M30*MAX(0,MIN(L30,DATE(2027,1,1))-MAX(K30,DATE(2026,1,1)))/(L30-K30),2)) -> 0 | AU30: =IF(OR(P30="",Q30="",R30="",Q30<=P30),0,ROUND(R30*MAX(0,MIN(Q30,DATE(2027,1,1))-MAX(P30,DATE(2026,1,1)))/(Q30-P30),2)) -> 0 | AV30: =IF(OR(U30="",V30="",W30="",V30<=U30),0,ROUND(W30*MAX(0,MIN(V30,DATE(2027,1,1))-MAX(U30,DATE(2026,1,1)))/(V30-U30),2)) -> 0 | AW30: =IF(OR(Z30="",AA30="",AB30="",AA30<=Z30),0,ROUND(AB30*MAX(0,MIN(AA30,DATE(2027,1,1))-MAX(Z30,DATE(2026,1,1)))/(AA30-Z30),2)) -> 0 | AX30: =IF(OR(AE30="",AF30="",AG30="",AF30<=AE30),0,ROUND(AG30*MAX(0,MIN(AF30,DATE(2027,1,1))-MAX(AE30,DATE(2026,1,1)))/(AF30-AE30),2)) -> 0 | AY30: =IF(OR(AJ30="",AK30="",AL30="",AK30<=AJ30),0,ROUND(AL30*MAX(0,MIN(AK30,DATE(2027,1,1))-MAX(AJ30,DATE(2026,1,1)))/(AK30-AJ30),2)) -> 0 | AZ30: =IF(OR(AO30="",AP30="",AQ30="",AP30<=AO30),0,ROUND(AQ30*MAX(0,MIN(AP30,DATE(2027,1,1))-MAX(AO30,DATE(2026,1,1)))/(AP30-AO30),2)) -> 0
A31: 5 | B31: =IF('Навигатор накоплений'!A32="","",EDATE('Навигатор накоплений'!C32,A31-1)) | C31: =IF(B31="","",EDATE('Навигатор накоплений'!C32,A31)) | D31: =IF(B31="","",I30) | E31: =IF(B31="","",N('Навигатор накоплений'!G32)) | F31: =IF(B31="","",IF('Навигатор накоплений'!F32="Ежедневный остаток",D31+E31,D31)) | G31: =IF(B31="","",C31-B31) | H31: =IF(B31="","",ROUND(F31*'Навигатор накоплений'!E32*IF(YEAR(B31)=YEAR(C31-1),(C31-B31)/(DATE(YEAR(B31),12,31)-DATE(YEAR(B31),1,1)+1),(DATE(YEAR(B31)+1,1,1)-B31)/(DATE(YEAR(B31),12,31)-DATE(YEAR(B31),1,1)+1)+(C31-DATE(YEAR(C31),1,1))/(DATE(YEAR(C31),12,31)-DATE(YEAR(C31),1,1)+1)),2)) | I31: =IF(B31="","",ROUND(D31+E31+H31,2)) | K31: =IF('Навигатор накоплений'!A22="","",IF(25<=DATEDIF('Навигатор накоплений'!E22,'Навигатор накоплений'!F22,"m")+IF(EDATE('Навигатор накоплений'!E22,DATEDIF('Навигатор накоплений'!E22,'Навигатор накоплений'!F22,"m"))<'Навигатор накоплений'!F22,1,0),L30,"")) | L31: =IF(K31="","",MIN(EDATE('Навигатор накоплений'!E22,25),'Навигатор накоплений'!F22)) | M31: =IF(K31="","",ROUND(N30*'Навигатор накоплений'!D22*IF(YEAR(K31)=YEAR(L31-1),(L31-K31)/(DATE(YEAR(K31),12,31)-DATE(YEAR(K31),1,1)+1),(DATE(YEAR(K31)+1,1,1)-K31)/(DATE(YEAR(K31),12,31)-DATE(YEAR(K31),1,1)+1)+(L31-DATE(YEAR(L31),1,1))/(DATE(YEAR(L31),12,31)-DATE(YEAR(L31),1,1)+1)),2)) | N31: =IF(K31="","",ROUND(N30+M31+IF(L31<'Навигатор накоплений'!F22,N('Навигатор накоплений'!G22),0),2)) | P31: =IF('Навигатор накоплений'!A23="","",IF(25<=DATEDIF('Навигатор накоплений'!E23,'Навигатор накоплений'!F23,"m")+IF(EDATE('Навигатор накоплений'!E23,DATEDIF('Навигатор накоплений'!E23,'Навигатор накоплений'!F23,"m"))<'Навигатор накоплений'!F23,1,0),Q30,"")) | Q31: =IF(P31="","",MIN(EDATE('Навигатор накоплений'!E23,25),'Навигатор накоплений'!F23)) | R31: =IF(P31="","",ROUND(S30*'Навигатор накоплений'!D23*IF(YEAR(P31)=YEAR(Q31-1),(Q31-P31)/(DATE(YEAR(P31),12,31)-DATE(YEAR(P31),1,1)+1),(DATE(YEAR(P31)+1,1,1)-P31)/(DATE(YEAR(P31),12,31)-DATE(YEAR(P31),1,1)+1)+(Q31-DATE(YEAR(Q31),1,1))/(DATE(YEAR(Q31),12,31)-DATE(YEAR(Q31),1,1)+1)),2)) | S31: =IF(P31="","",ROUND(S30+R31+IF(Q31<'Навигатор накоплений'!F23,N('Навигатор накоплений'!G23),0),2)) | U31: =IF('Навигатор накоплений'!A24="","",IF(25<=DATEDIF('Навигатор накоплений'!E24,'Навигатор накоплений'!F24,"m")+IF(EDATE('Навигатор накоплений'!E24,DATEDIF('Навигатор накоплений'!E24,'Навигатор накоплений'!F24,"m"))<'Навигатор накоплений'!F24,1,0),V30,"")) | V31: =IF(U31="","",MIN(EDATE('Навигатор накоплений'!E24,25),'Навигатор накоплений'!F24)) | W31: =IF(U31="","",ROUND(X30*'Навигатор накоплений'!D24*IF(YEAR(U31)=YEAR(V31-1),(V31-U31)/(DATE(YEAR(U31),12,31)-DATE(YEAR(U31),1,1)+1),(DATE(YEAR(U31)+1,1,1)-U31)/(DATE(YEAR(U31),12,31)-DATE(YEAR(U31),1,1)+1)+(V31-DATE(YEAR(V31),1,1))/(DATE(YEAR(V31),12,31)-DATE(YEAR(V31),1,1)+1)),2)) | X31: =IF(U31="","",ROUND(X30+W31+IF(V31<'Навигатор накоплений'!F24,N('Навигатор накоплений'!G24),0),2)) | Z31: =IF('Навигатор накоплений'!A25="","",IF(25<=DATEDIF('Навигатор накоплений'!E25,'Навигатор накоплений'!F25,"m")+IF(EDATE('Навигатор накоплений'!E25,DATEDIF('Навигатор накоплений'!E25,'Навигатор накоплений'!F25,"m"))<'Навигатор накоплений'!F25,1,0),AA30,"")) | AA31: =IF(Z31="","",MIN(EDATE('Навигатор накоплений'!E25,25),'Навигатор накоплений'!F25)) | AB31: =IF(Z31="","",ROUND(AC30*'Навигатор накоплений'!D25*IF(YEAR(Z31)=YEAR(AA31-1),(AA31-Z31)/(DATE(YEAR(Z31),12,31)-DATE(YEAR(Z31),1,1)+1),(DATE(YEAR(Z31)+1,1,1)-Z31)/(DATE(YEAR(Z31),12,31)-DATE(YEAR(Z31),1,1)+1)+(AA31-DATE(YEAR(AA31),1,1))/(DATE(YEAR(AA31),12,31)-DATE(YEAR(AA31),1,1)+1)),2)) | AC31: =IF(Z31="","",ROUND(AC30+AB31+IF(AA31<'Навигатор накоплений'!F25,N('Навигатор накоплений'!G25),0),2)) | AE31: =IF('Навигатор накоплений'!A26="","",IF(25<=DATEDIF('Навигатор накоплений'!E26,'Навигатор накоплений'!F26,"m")+IF(EDATE('Навигатор накоплений'!E26,DATEDIF('Навигатор накоплений'!E26,'Навигатор накоплений'!F26,"m"))<'Навигатор накоплений'!F26,1,0),AF30,"")) | AF31: =IF(AE31="","",MIN(EDATE('Навигатор накоплений'!E26,25),'Навигатор накоплений'!F26)) | AG31: =IF(AE31="","",ROUND(AH30*'Навигатор накоплений'!D26*IF(YEAR(AE31)=YEAR(AF31-1),(AF31-AE31)/(DATE(YEAR(AE31),12,31)-DATE(YEAR(AE31),1,1)+1),(DATE(YEAR(AE31)+1,1,1)-AE31)/(DATE(YEAR(AE31),12,31)-DATE(YEAR(AE31),1,1)+1)+(AF31-DATE(YEAR(AF31),1,1))/(DATE(YEAR(AF31),12,31)-DATE(YEAR(AF31),1,1)+1)),2)) | AH31: =IF(AE31="","",ROUND(AH30+AG31+IF(AF31<'Навигатор накоплений'!F26,N('Навигатор накоплений'!G26),0),2)) | AJ31: =IF('Навигатор накоплений'!A27="","",IF(25<=DATEDIF('Навигатор накоплений'!E27,'Навигатор накоплений'!F27,"m")+IF(EDATE('Навигатор накоплений'!E27,DATEDIF('Навигатор накоплений'!E27,'Навигатор накоплений'!F27,"m"))<'Навигатор накоплений'!F27,1,0),AK30,"")) | AK31: =IF(AJ31="","",MIN(EDATE('Навигатор накоплений'!E27,25),'Навигатор накоплений'!F27)) | AL31: =IF(AJ31="","",ROUND(AM30*'Навигатор накоплений'!D27*IF(YEAR(AJ31)=YEAR(AK31-1),(AK31-AJ31)/(DATE(YEAR(AJ31),12,31)-DATE(YEAR(AJ31),1,1)+1),(DATE(YEAR(AJ31)+1,1,1)-AJ31)/(DATE(YEAR(AJ31),12,31)-DATE(YEAR(AJ31),1,1)+1)+(AK31-DATE(YEAR(AK31),1,1))/(DATE(YEAR(AK31),12,31)-DATE(YEAR(AK31),1,1)+1)),2)) | AM31: =IF(AJ31="","",ROUND(AM30+AL31+IF(AK31<'Навигатор накоплений'!F27,N('Навигатор накоплений'!G27),0),2)) | AO31: =IF('Навигатор накоплений'!A28="","",IF(25<=DATEDIF('Навигатор накоплений'!E28,'Навигатор накоплений'!F28,"m")+IF(EDATE('Навигатор накоплений'!E28,DATEDIF('Навигатор накоплений'!E28,'Навигатор накоплений'!F28,"m"))<'Навигатор накоплений'!F28,1,0),AP30,"")) | AP31: =IF(AO31="","",MIN(EDATE('Навигатор накоплений'!E28,25),'Навигатор накоплений'!F28)) | AQ31: =IF(AO31="","",ROUND(AR30*'Навигатор накоплений'!D28*IF(YEAR(AO31)=YEAR(AP31-1),(AP31-AO31)/(DATE(YEAR(AO31),12,31)-DATE(YEAR(AO31),1,1)+1),(DATE(YEAR(AO31)+1,1,1)-AO31)/(DATE(YEAR(AO31),12,31)-DATE(YEAR(AO31),1,1)+1)+(AP31-DATE(YEAR(AP31),1,1))/(DATE(YEAR(AP31),12,31)-DATE(YEAR(AP31),1,1)+1)),2)) | AR31: =IF(AO31="","",ROUND(AR30+AQ31+IF(AP31<'Навигатор накоплений'!F28,N('Навигатор накоплений'!G28),0),2)) | AT31: =IF(OR(K31="",L31="",M31="",L31<=K31),0,ROUND(M31*MAX(0,MIN(L31,DATE(2027,1,1))-MAX(K31,DATE(2026,1,1)))/(L31-K31),2)) -> 0 | AU31: =IF(OR(P31="",Q31="",R31="",Q31<=P31),0,ROUND(R31*MAX(0,MIN(Q31,DATE(2027,1,1))-MAX(P31,DATE(2026,1,1)))/(Q31-P31),2)) -> 0 | AV31: =IF(OR(U31="",V31="",W31="",V31<=U31),0,ROUND(W31*MAX(0,MIN(V31,DATE(2027,1,1))-MAX(U31,DATE(2026,1,1)))/(V31-U31),2)) -> 0 | AW31: =IF(OR(Z31="",AA31="",AB31="",AA31<=Z31),0,ROUND(AB31*MAX(0,MIN(AA31,DATE(2027,1,1))-MAX(Z31,DATE(2026,1,1)))/(AA31-Z31),2)) -> 0 | AX31: =IF(OR(AE31="",AF31="",AG31="",AF31<=AE31),0,ROUND(AG31*MAX(0,MIN(AF31,DATE(2027,1,1))-MAX(AE31,DATE(2026,1,1)))/(AF31-AE31),2)) -> 0 | AY31: =IF(OR(AJ31="",AK31="",AL31="",AK31<=AJ31),0,ROUND(AL31*MAX(0,MIN(AK31,DATE(2027,1,1))-MAX(AJ31,DATE(2026,1,1)))/(AK31-AJ31),2)) -> 0 | AZ31: =IF(OR(AO31="",AP31="",AQ31="",AP31<=AO31),0,ROUND(AQ31*MAX(0,MIN(AP31,DATE(2027,1,1))-MAX(AO31,DATE(2026,1,1)))/(AP31-AO31),2)) -> 0
A32: 6 | B32: =IF('Навигатор накоплений'!A32="","",EDATE('Навигатор накоплений'!C32,A32-1)) | C32: =IF(B32="","",EDATE('Навигатор накоплений'!C32,A32)) | D32: =IF(B32="","",I31) | E32: =IF(B32="","",N('Навигатор накоплений'!G32)) | F32: =IF(B32="","",IF('Навигатор накоплений'!F32="Ежедневный остаток",D32+E32,D32)) | G32: =IF(B32="","",C32-B32) | H32: =IF(B32="","",ROUND(F32*'Навигатор накоплений'!E32*IF(YEAR(B32)=YEAR(C32-1),(C32-B32)/(DATE(YEAR(B32),12,31)-DATE(YEAR(B32),1,1)+1),(DATE(YEAR(B32)+1,1,1)-B32)/(DATE(YEAR(B32),12,31)-DATE(YEAR(B32),1,1)+1)+(C32-DATE(YEAR(C32),1,1))/(DATE(YEAR(C32),12,31)-DATE(YEAR(C32),1,1)+1)),2)) | I32: =IF(B32="","",ROUND(D32+E32+H32,2)) | K32: =IF('Навигатор накоплений'!A22="","",IF(26<=DATEDIF('Навигатор накоплений'!E22,'Навигатор накоплений'!F22,"m")+IF(EDATE('Навигатор накоплений'!E22,DATEDIF('Навигатор накоплений'!E22,'Навигатор накоплений'!F22,"m"))<'Навигатор накоплений'!F22,1,0),L31,"")) | L32: =IF(K32="","",MIN(EDATE('Навигатор накоплений'!E22,26),'Навигатор накоплений'!F22)) | M32: =IF(K32="","",ROUND(N31*'Навигатор накоплений'!D22*IF(YEAR(K32)=YEAR(L32-1),(L32-K32)/(DATE(YEAR(K32),12,31)-DATE(YEAR(K32),1,1)+1),(DATE(YEAR(K32)+1,1,1)-K32)/(DATE(YEAR(K32),12,31)-DATE(YEAR(K32),1,1)+1)+(L32-DATE(YEAR(L32),1,1))/(DATE(YEAR(L32),12,31)-DATE(YEAR(L32),1,1)+1)),2)) | N32: =IF(K32="","",ROUND(N31+M32+IF(L32<'Навигатор накоплений'!F22,N('Навигатор накоплений'!G22),0),2)) | P32: =IF('Навигатор накоплений'!A23="","",IF(26<=DATEDIF('Навигатор накоплений'!E23,'Навигатор накоплений'!F23,"m")+IF(EDATE('Навигатор накоплений'!E23,DATEDIF('Навигатор накоплений'!E23,'Навигатор накоплений'!F23,"m"))<'Навигатор накоплений'!F23,1,0),Q31,"")) | Q32: =IF(P32="","",MIN(EDATE('Навигатор накоплений'!E23,26),'Навигатор накоплений'!F23)) | R32: =IF(P32="","",ROUND(S31*'Навигатор накоплений'!D23*IF(YEAR(P32)=YEAR(Q32-1),(Q32-P32)/(DATE(YEAR(P32),12,31)-DATE(YEAR(P32),1,1)+1),(DATE(YEAR(P32)+1,1,1)-P32)/(DATE(YEAR(P32),12,31)-DATE(YEAR(P32),1,1)+1)+(Q32-DATE(YEAR(Q32),1,1))/(DATE(YEAR(Q32),12,31)-DATE(YEAR(Q32),1,1)+1)),2)) | S32: =IF(P32="","",ROUND(S31+R32+IF(Q32<'Навигатор накоплений'!F23,N('Навигатор накоплений'!G23),0),2)) | U32: =IF('Навигатор накоплений'!A24="","",IF(26<=DATEDIF('Навигатор накоплений'!E24,'Навигатор накоплений'!F24,"m")+IF(EDATE('Навигатор накоплений'!E24,DATEDIF('Навигатор накоплений'!E24,'Навигатор накоплений'!F24,"m"))<'Навигатор накоплений'!F24,1,0),V31,"")) | V32: =IF(U32="","",MIN(EDATE('Навигатор накоплений'!E24,26),'Навигатор накоплений'!F24)) | W32: =IF(U32="","",ROUND(X31*'Навигатор накоплений'!D24*IF(YEAR(U32)=YEAR(V32-1),(V32-U32)/(DATE(YEAR(U32),12,31)-DATE(YEAR(U32),1,1)+1),(DATE(YEAR(U32)+1,1,1)-U32)/(DATE(YEAR(U32),12,31)-DATE(YEAR(U32),1,1)+1)+(V32-DATE(YEAR(V32),1,1))/(DATE(YEAR(V32),12,31)-DATE(YEAR(V32),1,1)+1)),2)) | X32: =IF(U32="","",ROUND(X31+W32+IF(V32<'Навигатор накоплений'!F24,N('Навигатор накоплений'!G24),0),2)) | Z32: =IF('Навигатор накоплений'!A25="","",IF(26<=DATEDIF('Навигатор накоплений'!E25,'Навигатор накоплений'!F25,"m")+IF(EDATE('Навигатор накоплений'!E25,DATEDIF('Навигатор накоплений'!E25,'Навигатор накоплений'!F25,"m"))<'Навигатор накоплений'!F25,1,0),AA31,"")) | AA32: =IF(Z32="","",MIN(EDATE('Навигатор накоплений'!E25,26),'Навигатор накоплений'!F25)) | AB32: =IF(Z32="","",ROUND(AC31*'Навигатор накоплений'!D25*IF(YEAR(Z32)=YEAR(AA32-1),(AA32-Z32)/(DATE(YEAR(Z32),12,31)-DATE(YEAR(Z32),1,1)+1),(DATE(YEAR(Z32)+1,1,1)-Z32)/(DATE(YEAR(Z32),12,31)-DATE(YEAR(Z32),1,1)+1)+(AA32-DATE(YEAR(AA32),1,1))/(DATE(YEAR(AA32),12,31)-DATE(YEAR(AA32),1,1)+1)),2)) | AC32: =IF(Z32="","",ROUND(AC31+AB32+IF(AA32<'Навигатор накоплений'!F25,N('Навигатор накоплений'!G25),0),2)) | AE32: =IF('Навигатор накоплений'!A26="","",IF(26<=DATEDIF('Навигатор накоплений'!E26,'Навигатор накоплений'!F26,"m")+IF(EDATE('Навигатор накоплений'!E26,DATEDIF('Навигатор накоплений'!E26,'Навигатор накоплений'!F26,"m"))<'Навигатор накоплений'!F26,1,0),AF31,"")) | AF32: =IF(AE32="","",MIN(EDATE('Навигатор накоплений'!E26,26),'Навигатор накоплений'!F26)) | AG32: =IF(AE32="","",ROUND(AH31*'Навигатор накоплений'!D26*IF(YEAR(AE32)=YEAR(AF32-1),(AF32-AE32)/(DATE(YEAR(AE32),12,31)-DATE(YEAR(AE32),1,1)+1),(DATE(YEAR(AE32)+1,1,1)-AE32)/(DATE(YEAR(AE32),12,31)-DATE(YEAR(AE32),1,1)+1)+(AF32-DATE(YEAR(AF32),1,1))/(DATE(YEAR(AF32),12,31)-DATE(YEAR(AF32),1,1)+1)),2)) | AH32: =IF(AE32="","",ROUND(AH31+AG32+IF(AF32<'Навигатор накоплений'!F26,N('Навигатор накоплений'!G26),0),2)) | AJ32: =IF('Навигатор накоплений'!A27="","",IF(26<=DATEDIF('Навигатор накоплений'!E27,'Навигатор накоплений'!F27,"m")+IF(EDATE('Навигатор накоплений'!E27,DATEDIF('Навигатор накоплений'!E27,'Навигатор накоплений'!F27,"m"))<'Навигатор накоплений'!F27,1,0),AK31,"")) | AK32: =IF(AJ32="","",MIN(EDATE('Навигатор накоплений'!E27,26),'Навигатор накоплений'!F27)) | AL32: =IF(AJ32="","",ROUND(AM31*'Навигатор накоплений'!D27*IF(YEAR(AJ32)=YEAR(AK32-1),(AK32-AJ32)/(DATE(YEAR(AJ32),12,31)-DATE(YEAR(AJ32),1,1)+1),(DATE(YEAR(AJ32)+1,1,1)-AJ32)/(DATE(YEAR(AJ32),12,31)-DATE(YEAR(AJ32),1,1)+1)+(AK32-DATE(YEAR(AK32),1,1))/(DATE(YEAR(AK32),12,31)-DATE(YEAR(AK32),1,1)+1)),2)) | AM32: =IF(AJ32="","",ROUND(AM31+AL32+IF(AK32<'Навигатор накоплений'!F27,N('Навигатор накоплений'!G27),0),2)) | AO32: =IF('Навигатор накоплений'!A28="","",IF(26<=DATEDIF('Навигатор накоплений'!E28,'Навигатор накоплений'!F28,"m")+IF(EDATE('Навигатор накоплений'!E28,DATEDIF('Навигатор накоплений'!E28,'Навигатор накоплений'!F28,"m"))<'Навигатор накоплений'!F28,1,0),AP31,"")) | AP32: =IF(AO32="","",MIN(EDATE('Навигатор накоплений'!E28,26),'Навигатор накоплений'!F28)) | AQ32: =IF(AO32="","",ROUND(AR31*'Навигатор накоплений'!D28*IF(YEAR(AO32)=YEAR(AP32-1),(AP32-AO32)/(DATE(YEAR(AO32),12,31)-DATE(YEAR(AO32),1,1)+1),(DATE(YEAR(AO32)+1,1,1)-AO32)/(DATE(YEAR(AO32),12,31)-DATE(YEAR(AO32),1,1)+1)+(AP32-DATE(YEAR(AP32),1,1))/(DATE(YEAR(AP32),12,31)-DATE(YEAR(AP32),1,1)+1)),2)) | AR32: =IF(AO32="","",ROUND(AR31+AQ32+IF(AP32<'Навигатор накоплений'!F28,N('Навигатор накоплений'!G28),0),2)) | AT32: =IF(OR(K32="",L32="",M32="",L32<=K32),0,ROUND(M32*MAX(0,MIN(L32,DATE(2027,1,1))-MAX(K32,DATE(2026,1,1)))/(L32-K32),2)) -> 0 | AU32: =IF(OR(P32="",Q32="",R32="",Q32<=P32),0,ROUND(R32*MAX(0,MIN(Q32,DATE(2027,1,1))-MAX(P32,DATE(2026,1,1)))/(Q32-P32),2)) -> 0 | AV32: =IF(OR(U32="",V32="",W32="",V32<=U32),0,ROUND(W32*MAX(0,MIN(V32,DATE(2027,1,1))-MAX(U32,DATE(2026,1,1)))/(V32-U32),2)) -> 0 | AW32: =IF(OR(Z32="",AA32="",AB32="",AA32<=Z32),0,ROUND(AB32*MAX(0,MIN(AA32,DATE(2027,1,1))-MAX(Z32,DATE(2026,1,1)))/(AA32-Z32),2)) -> 0 | AX32: =IF(OR(AE32="",AF32="",AG32="",AF32<=AE32),0,ROUND(AG32*MAX(0,MIN(AF32,DATE(2027,1,1))-MAX(AE32,DATE(2026,1,1)))/(AF32-AE32),2)) -> 0 | AY32: =IF(OR(AJ32="",AK32="",AL32="",AK32<=AJ32),0,ROUND(AL32*MAX(0,MIN(AK32,DATE(2027,1,1))-MAX(AJ32,DATE(2026,1,1)))/(AK32-AJ32),2)) -> 0 | AZ32: =IF(OR(AO32="",AP32="",AQ32="",AP32<=AO32),0,ROUND(AQ32*MAX(0,MIN(AP32,DATE(2027,1,1))-MAX(AO32,DATE(2026,1,1)))/(AP32-AO32),2)) -> 0
