Workbook

Sheet Навигатор накоплений
C1: Мои банковские накопления
A3: Зеленые ячейки — ручной ввод. Серые — автоматические расчеты.
A4: Ключевые показатели
A5: ВСЕГО НАКОПЛЕНИЙ | D5: ОЖИДАЕМАЯ СУММА | H5: ПРОГРЕСС ЦЕЛЕЙ
A6: =SUM(C22:C28)+SUM(D31:D36) -> 0 | D6: =SUM(I22:I28)+SUM(I31:I36) -> 0 | H6: =IFERROR((SUMPRODUCT((C12:C18<=B12:B18)*C12:C18)+SUMPRODUCT((C12:C18>B12:B18)*B12:B18))/SUM(B12:B18),"")
A7: Автоматическая проверка
A8: =IF(SUM(C12:C18)>A6,"Проверьте цели: распределено больше текущих сбережений",IF(SUM(C12:C18)<A6,"Есть нераспределенные сбережения","Данные согласованы")) -> Данные согласованы
A10: Финансовые цели
A11: Цель | B11: Сумма цели, ₽ | C11: Уже накоплено, ₽ | D11: Прогресс | E11: Осталось, ₽ | F11: Желаемая дата | G11: Плановый взнос, ₽/мес | H11: Дата достижения цели | I11: Рекомендуемый взнос, ₽/мес | J11: Статус
D12: =IF(A12="","",IF(OR(B12="",B12<=0),"",IFERROR(MAX(0,MIN(1,N(C12)/B12)),""))) | E12: =IF(A12="","",IF(OR(B12="",B12<=0),"",MAX(0,B12-N(C12)))) | H12: =IF(A12="","",IF(E12="","",IF(E12=0,TODAY(),IF(OR(G12="",G12<=0),"",IFERROR(EDATE(TODAY(),ROUNDUP(E12/G12,0)),""))))) | I12: =IF(A12="","",IF(E12="","",IF(E12=0,0,IF(F12="","",IF(F12<=TODAY(),E12,ROUNDUP(E12/MAX(1,DATEDIF(TODAY(),F12,"M")+IF(EDATE(TODAY(),DATEDIF(TODAY(),F12,"M"))<F12,1,0)),0)))))) | J12: =IF(A12="","",IF(E12="","",IF(E12=0,"Цель достигнута",IF(F12="","Укажите срок",IF(F12<TODAY(),"Срок прошёл",IF(OR(G12="",G12<=0),"Укажите взнос",IF(H12="","Укажите взнос",IF(H12<=F12,"По плану","Нужно увеличить взнос"))))))))
D13: =IF(A13="","",IF(OR(B13="",B13<=0),"",IFERROR(MAX(0,MIN(1,N(C13)/B13)),""))) | E13: =IF(A13="","",IF(OR(B13="",B13<=0),"",MAX(0,B13-N(C13)))) | H13: =IF(A13="","",IF(E13="","",IF(E13=0,TODAY(),IF(OR(G13="",G13<=0),"",IFERROR(EDATE(TODAY(),ROUNDUP(E13/G13,0)),""))))) | I13: =IF(A13="","",IF(E13="","",IF(E13=0,0,IF(F13="","",IF(F13<=TODAY(),E13,ROUNDUP(E13/MAX(1,DATEDIF(TODAY(),F13,"M")+IF(EDATE(TODAY(),DATEDIF(TODAY(),F13,"M"))<F13,1,0)),0)))))) | J13: =IF(A13="","",IF(E13="","",IF(E13=0,"Цель достигнута",IF(F13="","Укажите срок",IF(F13<TODAY(),"Срок прошёл",IF(OR(G13="",G13<=0),"Укажите взнос",IF(H13="","Укажите взнос",IF(H13<=F13,"По плану","Нужно увеличить взнос"))))))))
D14: =IF(A14="","",IF(OR(B14="",B14<=0),"",IFERROR(MAX(0,MIN(1,N(C14)/B14)),""))) | E14: =IF(A14="","",IF(OR(B14="",B14<=0),"",MAX(0,B14-N(C14)))) | H14: =IF(A14="","",IF(E14="","",IF(E14=0,TODAY(),IF(OR(G14="",G14<=0),"",IFERROR(EDATE(TODAY(),ROUNDUP(E14/G14,0)),""))))) | I14: =IF(A14="","",IF(E14="","",IF(E14=0,0,IF(F14="","",IF(F14<=TODAY(),E14,ROUNDUP(E14/MAX(1,DATEDIF(TODAY(),F14,"M")+IF(EDATE(TODAY(),DATEDIF(TODAY(),F14,"M"))<F14,1,0)),0)))))) | J14: =IF(A14="","",IF(E14="","",IF(E14=0,"Цель достигнута",IF(F14="","Укажите срок",IF(F14<TODAY(),"Срок прошёл",IF(OR(G14="",G14<=0),"Укажите взнос",IF(H14="","Укажите взнос",IF(H14<=F14,"По плану","Нужно увеличить взнос"))))))))
D15: =IF(A15="","",IF(OR(B15="",B15<=0),"",IFERROR(MAX(0,MIN(1,N(C15)/B15)),""))) | E15: =IF(A15="","",IF(OR(B15="",B15<=0),"",MAX(0,B15-N(C15)))) | H15: =IF(A15="","",IF(E15="","",IF(E15=0,TODAY(),IF(OR(G15="",G15<=0),"",IFERROR(EDATE(TODAY(),ROUNDUP(E15/G15,0)),""))))) | I15: =IF(A15="","",IF(E15="","",IF(E15=0,0,IF(F15="","",IF(F15<=TODAY(),E15,ROUNDUP(E15/MAX(1,DATEDIF(TODAY(),F15,"M")+IF(EDATE(TODAY(),DATEDIF(TODAY(),F15,"M"))<F15,1,0)),0)))))) | J15: =IF(A15="","",IF(E15="","",IF(E15=0,"Цель достигнута",IF(F15="","Укажите срок",IF(F15<TODAY(),"Срок прошёл",IF(OR(G15="",G15<=0),"Укажите взнос",IF(H15="","Укажите взнос",IF(H15<=F15,"По плану","Нужно увеличить взнос"))))))))
D16: =IF(A16="","",IF(OR(B16="",B16<=0),"",IFERROR(MAX(0,MIN(1,N(C16)/B16)),""))) | E16: =IF(A16="","",IF(OR(B16="",B16<=0),"",MAX(0,B16-N(C16)))) | H16: =IF(A16="","",IF(E16="","",IF(E16=0,TODAY(),IF(OR(G16="",G16<=0),"",IFERROR(EDATE(TODAY(),ROUNDUP(E16/G16,0)),""))))) | I16: =IF(A16="","",IF(E16="","",IF(E16=0,0,IF(F16="","",IF(F16<=TODAY(),E16,ROUNDUP(E16/MAX(1,DATEDIF(TODAY(),F16,"M")+IF(EDATE(TODAY(),DATEDIF(TODAY(),F16,"M"))<F16,1,0)),0)))))) | J16: =IF(A16="","",IF(E16="","",IF(E16=0,"Цель достигнута",IF(F16="","Укажите срок",IF(F16<TODAY(),"Срок прошёл",IF(OR(G16="",G16<=0),"Укажите взнос",IF(H16="","Укажите взнос",IF(H16<=F16,"По плану","Нужно увеличить взнос"))))))))
D17: =IF(A17="","",IF(OR(B17="",B17<=0),"",IFERROR(MAX(0,MIN(1,N(C17)/B17)),""))) | E17: =IF(A17="","",IF(OR(B17="",B17<=0),"",MAX(0,B17-N(C17)))) | H17: =IF(A17="","",IF(E17="","",IF(E17=0,TODAY(),IF(OR(G17="",G17<=0),"",IFERROR(EDATE(TODAY(),ROUNDUP(E17/G17,0)),""))))) | I17: =IF(A17="","",IF(E17="","",IF(E17=0,0,IF(F17="","",IF(F17<=TODAY(),E17,ROUNDUP(E17/MAX(1,DATEDIF(TODAY(),F17,"M")+IF(EDATE(TODAY(),DATEDIF(TODAY(),F17,"M"))<F17,1,0)),0)))))) | J17: =IF(A17="","",IF(E17="","",IF(E17=0,"Цель достигнута",IF(F17="","Укажите срок",IF(F17<TODAY(),"Срок прошёл",IF(OR(G17="",G17<=0),"Укажите взнос",IF(H17="","Укажите взнос",IF(H17<=F17,"По плану","Нужно увеличить взнос"))))))))
D18: =IF(A18="","",IF(OR(B18="",B18<=0),"",IFERROR(MAX(0,MIN(1,N(C18)/B18)),""))) | E18: =IF(A18="","",IF(OR(B18="",B18<=0),"",MAX(0,B18-N(C18)))) | H18: =IF(A18="","",IF(E18="","",IF(E18=0,TODAY(),IF(OR(G18="",G18<=0),"",IFERROR(EDATE(TODAY(),ROUNDUP(E18/G18,0)),""))))) | I18: =IF(A18="","",IF(E18="","",IF(E18=0,0,IF(F18="","",IF(F18<=TODAY(),E18,ROUNDUP(E18/MAX(1,DATEDIF(TODAY(),F18,"M")+IF(EDATE(TODAY(),DATEDIF(TODAY(),F18,"M"))<F18,1,0)),0)))))) | J18: =IF(A18="","",IF(E18="","",IF(E18=0,"Цель достигнута",IF(F18="","Укажите срок",IF(F18<TODAY(),"Срок прошёл",IF(OR(G18="",G18<=0),"Укажите взнос",IF(H18="","Укажите взнос",IF(H18<=F18,"По плану","Нужно увеличить взнос"))))))))
A20: Вклады | M20: 22
A21: Название | B21: Банк | C21: Сумма вклада, ₽ | D21: Ставка, % годовых | E21: Дата открытия | F21: Дата окончания | G21: Пополнение, ₽/мес | H21: Начисляемый доход, ₽ (с ежемесячной капитализацией) | I21: Ожидаемая сумма, ₽ (с ежемесячной капитализацией) | M21: 22
H22: =IF(A22="","",Расчеты!M67) | I22: =IF(A22="","",Расчеты!N67) | M22: 22
H23: =IF(A23="","",Расчеты!R67) | I23: =IF(A23="","",Расчеты!S67) | M23: 22
H24: =IF(A24="","",Расчеты!W67) | I24: =IF(A24="","",Расчеты!X67) | L24: 22 | M24: 22
H25: =IF(A25="","",Расчеты!AB67) | I25: =IF(A25="","",Расчеты!AC67)
H26: =IF(A26="","",Расчеты!AG67) | I26: =IF(A26="","",Расчеты!AH67)
H27: =IF(A27="","",Расчеты!AL67) | I27: =IF(A27="","",Расчеты!AM67) | L27: 22 | M27: 22
H28: =IF(A28="","",Расчеты!AQ67) | I28: =IF(A28="","",Расчеты!AR67)
A29: Накопительные счета
A30: Название | B30: Банк | C30: Дата начала расчета | D30: Сумма счета на дату начала, ₽ | E30: Текущая ставка, % годовых (Если банк меняет ставку, обновите значение) | F30: Способ начисления процентов | G30: Плановое пополнение, ₽/мес | H30: Прогнозный доход за 12 месяцев, ₽ | I30: Ожидаемая сумма через 12 месяцев, ₽ | K30: 22 | L30: 22
H31: {=IF(A31="","",Расчеты!H22)} | I31: =IF(A31="","",Расчеты!I22)
H32: =IF(A32="","",Расчеты!H39) | I32: =IF(A32="","",Расчеты!I39)
H33: =IF(A33="","",Расчеты!H56) | I33: =IF(A33="","",Расчеты!I56)
H34: =IF(A34="","",Расчеты!H73) | I34: =IF(A34="","",Расчеты!I73)
H35: =IF(A35="","",Расчеты!H90) | I35: =IF(A35="","",Расчеты!I90)
H36: =IF(A36="","",Расчеты!H107) | I36: =IF(A36="","",Расчеты!I107)
A37: Прогноз строится на 12 месяцев от указанной даты начала расчета. Укажите в «Сумме счета» остаток именно на эту дату. Снятия не учитываются, ставка считается неизменной, проценты капитализируются ежемесячно.
A40: Вычисления налога на доходы (вклады и накопительные счета)
A42: Максимальная ключевая ставка на 1-е число месяца в 2026 году | C42: НДФЛ
A43: 0.16 | C43: 0.13
A45: Доход за 2026 год | B45: =SUM(H22:H28)+SUM(H31:H36) -> 0
A46: Налог за 2026 | B46: =-MAX(0,(B45-(1000000*A43))*C43) -> 0

Sheet Расчеты
A1: Технический расчет накопительных счетов | K1: Технический расчет вкладов
A3: Назначение листа: помесячная проверка прогноза за 12 месяцев, капитализации процентов и влияния плановых пополнений. | K3: Расчет по каждому вкладу независимый: проценты считаются по календарным дням, дневной процент округляется вниз до копеек; ежемесячные пополнения и капитализированные проценты начинают участвовать в базе со следующего дня. Общих коэффициентов подгонки нет.
A4: Расчет автоматически следует за строками первого листа. Если строка добавляется внутри таблицы вкладов или накопительных счетов, техлист подхватывает ее по порядку. Подготовлено до 10 продуктов каждого типа.
A5: При ежедневном остатке пополнение входит в процентную базу текущего периода; при минимальном остатке за месяц — только со следующего периода. Проценты капитализируются в конце каждого расчетного периода. | K5: =IF('Навигатор накоплений'!A22="","Вклад не заполнен",'Навигатор накоплений'!A22&" — "&'Навигатор накоплений'!B22) -> Вклад не заполнен | P5: =IF('Навигатор накоплений'!A23="","Вклад не заполнен",'Навигатор накоплений'!A23&" — "&'Навигатор накоплений'!B23) -> Вклад не заполнен | U5: =IF('Навигатор накоплений'!A24="","Вклад не заполнен",'Навигатор накоплений'!A24&" — "&'Навигатор накоплений'!B24) -> Вклад не заполнен | Z5: =IF('Навигатор накоплений'!A25="","Вклад не заполнен",'Навигатор накоплений'!A25&" — "&'Навигатор накоплений'!B25) -> Вклад не заполнен | AE5: =IF('Навигатор накоплений'!A26="","Вклад не заполнен",'Навигатор накоплений'!A26&" — "&'Навигатор накоплений'!B26) -> Вклад не заполнен | AJ5: =IF('Навигатор накоплений'!A27="","Вклад не заполнен",'Навигатор накоплений'!A27&" — "&'Навигатор накоплений'!B27) -> Вклад не заполнен | AO5: =IF('Навигатор накоплений'!A28="","Вклад не заполнен",'Навигатор накоплений'!A28&" — "&'Навигатор накоплений'!B28) -> Вклад не заполнен
K6: Начало периода | L6: Конец периода | M6: Начислено процентов, ₽ | N6: Остаток на конец, ₽ | P6: Начало периода | Q6: Конец периода | R6: Начислено процентов, ₽ | S6: Остаток на конец, ₽ | U6: Начало периода | V6: Конец периода | W6: Начислено процентов, ₽ | X6: Остаток на конец, ₽ | Z6: Начало периода | AA6: Конец периода | AB6: Начислено процентов, ₽ | AC6: Остаток на конец, ₽ | AE6: Начало периода | AF6: Конец периода | AG6: Начислено процентов, ₽ | AH6: Остаток на конец, ₽ | AJ6: Начало периода | AK6: Конец периода | AL6: Начислено процентов, ₽ | AM6: Остаток на конец, ₽ | AO6: Начало периода | AP6: Конец периода | AQ6: Начислено процентов, ₽ | AR6: Остаток на конец, ₽
K7: =IF(OR('Навигатор накоплений'!A22="",'Навигатор накоплений'!E22="",'Навигатор накоплений'!F22="",'Навигатор накоплений'!F22<='Навигатор накоплений'!E22),"",'Навигатор накоплений'!E22) | L7: =IF(K7="","",MIN(EDATE('Навигатор накоплений'!E22,1),'Навигатор накоплений'!F22)) | M7: =IF(K7="","",ROUND('Навигатор накоплений'!C22*'Навигатор накоплений'!D22*IF(YEAR(K7)=YEAR(L7-1),(L7-K7)/(DATE(YEAR(K7),12,31)-DATE(YEAR(K7),1,1)+1),(DATE(YEAR(K7)+1,1,1)-K7)/(DATE(YEAR(K7),12,31)-DATE(YEAR(K7),1,1)+1)+(L7-DATE(YEAR(L7),1,1))/(DATE(YEAR(L7),12,31)-DATE(YEAR(L7),1,1)+1)),2)) | N7: =IF(K7="","",ROUND('Навигатор накоплений'!C22+M7+IF(L7<'Навигатор накоплений'!F22,N('Навигатор накоплений'!G22),0),2)) | P7: =IF(OR('Навигатор накоплений'!A23="",'Навигатор накоплений'!E23="",'Навигатор накоплений'!F23="",'Навигатор накоплений'!F23<='Навигатор накоплений'!E23),"",'Навигатор накоплений'!E23) | Q7: =IF(P7="","",MIN(EDATE('Навигатор накоплений'!E23,1),'Навигатор накоплений'!F23)) | R7: =IF(P7="","",ROUND('Навигатор накоплений'!C23*'Навигатор накоплений'!D23*IF(YEAR(P7)=YEAR(Q7-1),(Q7-P7)/(DATE(YEAR(P7),12,31)-DATE(YEAR(P7),1,1)+1),(DATE(YEAR(P7)+1,1,1)-P7)/(DATE(YEAR(P7),12,31)-DATE(YEAR(P7),1,1)+1)+(Q7-DATE(YEAR(Q7),1,1))/(DATE(YEAR(Q7),12,31)-DATE(YEAR(Q7),1,1)+1)),2)) | S7: =IF(P7="","",ROUND('Навигатор накоплений'!C23+R7+IF(Q7<'Навигатор накоплений'!F23,N('Навигатор накоплений'!G23),0),2)) | U7: =IF(OR('Навигатор накоплений'!A24="",'Навигатор накоплений'!E24="",'Навигатор накоплений'!F24="",'Навигатор накоплений'!F24<='Навигатор накоплений'!E24),"",'Навигатор накоплений'!E24) | V7: =IF(U7="","",MIN(EDATE('Навигатор накоплений'!E24,1),'Навигатор накоплений'!F24)) | W7: =IF(U7="","",ROUND('Навигатор накоплений'!C24*'Навигатор накоплений'!D24*IF(YEAR(U7)=YEAR(V7-1),(V7-U7)/(DATE(YEAR(U7),12,31)-DATE(YEAR(U7),1,1)+1),(DATE(YEAR(U7)+1,1,1)-U7)/(DATE(YEAR(U7),12,31)-DATE(YEAR(U7),1,1)+1)+(V7-DATE(YEAR(V7),1,1))/(DATE(YEAR(V7),12,31)-DATE(YEAR(V7),1,1)+1)),2)) | X7: =IF(U7="","",ROUND('Навигатор накоплений'!C24+W7+IF(V7<'Навигатор накоплений'!F24,N('Навигатор накоплений'!G24),0),2)) | Z7: =IF(OR('Навигатор накоплений'!A25="",'Навигатор накоплений'!E25="",'Навигатор накоплений'!F25="",'Навигатор накоплений'!F25<='Навигатор накоплений'!E25),"",'Навигатор накоплений'!E25) | AA7: =IF(Z7="","",MIN(EDATE('Навигатор накоплений'!E25,1),'Навигатор накоплений'!F25)) | AB7: =IF(Z7="","",ROUND('Навигатор накоплений'!C25*'Навигатор накоплений'!D25*IF(YEAR(Z7)=YEAR(AA7-1),(AA7-Z7)/(DATE(YEAR(Z7),12,31)-DATE(YEAR(Z7),1,1)+1),(DATE(YEAR(Z7)+1,1,1)-Z7)/(DATE(YEAR(Z7),12,31)-DATE(YEAR(Z7),1,1)+1)+(AA7-DATE(YEAR(AA7),1,1))/(DATE(YEAR(AA7),12,31)-DATE(YEAR(AA7),1,1)+1)),2)) | AC7: =IF(Z7="","",ROUND('Навигатор накоплений'!C25+AB7+IF(AA7<'Навигатор накоплений'!F25,N('Навигатор накоплений'!G25),0),2)) | AE7: =IF(OR('Навигатор накоплений'!A26="",'Навигатор накоплений'!E26="",'Навигатор накоплений'!F26="",'Навигатор накоплений'!F26<='Навигатор накоплений'!E26),"",'Навигатор накоплений'!E26) | AF7: =IF(AE7="","",MIN(EDATE('Навигатор накоплений'!E26,1),'Навигатор накоплений'!F26)) | AG7: =IF(AE7="","",ROUND('Навигатор накоплений'!C26*'Навигатор накоплений'!D26*IF(YEAR(AE7)=YEAR(AF7-1),(AF7-AE7)/(DATE(YEAR(AE7),12,31)-DATE(YEAR(AE7),1,1)+1),(DATE(YEAR(AE7)+1,1,1)-AE7)/(DATE(YEAR(AE7),12,31)-DATE(YEAR(AE7),1,1)+1)+(AF7-DATE(YEAR(AF7),1,1))/(DATE(YEAR(AF7),12,31)-DATE(YEAR(AF7),1,1)+1)),2)) | AH7: =IF(AE7="","",ROUND('Навигатор накоплений'!C26+AG7+IF(AF7<'Навигатор накоплений'!F26,N('Навигатор накоплений'!G26),0),2)) | AJ7: =IF(OR('Навигатор накоплений'!A27="",'Навигатор накоплений'!E27="",'Навигатор накоплений'!F27="",'Навигатор накоплений'!F27<='Навигатор накоплений'!E27),"",'Навигатор накоплений'!E27) | AK7: =IF(AJ7="","",MIN(EDATE('Навигатор накоплений'!E27,1),'Навигатор накоплений'!F27)) | AL7: =IF(AJ7="","",ROUND('Навигатор накоплений'!C27*'Навигатор накоплений'!D27*IF(YEAR(AJ7)=YEAR(AK7-1),(AK7-AJ7)/(DATE(YEAR(AJ7),12,31)-DATE(YEAR(AJ7),1,1)+1),(DATE(YEAR(AJ7)+1,1,1)-AJ7)/(DATE(YEAR(AJ7),12,31)-DATE(YEAR(AJ7),1,1)+1)+(AK7-DATE(YEAR(AK7),1,1))/(DATE(YEAR(AK7),12,31)-DATE(YEAR(AK7),1,1)+1)),2)) | AM7: =IF(AJ7="","",ROUND('Навигатор накоплений'!C27+AL7+IF(AK7<'Навигатор накоплений'!F27,N('Навигатор накоплений'!G27),0),2)) | AO7: =IF(OR('Навигатор накоплений'!A28="",'Навигатор накоплений'!E28="",'Навигатор накоплений'!F28="",'Навигатор накоплений'!F28<='Навигатор накоплений'!E28),"",'Навигатор накоплений'!E28) | AP7: =IF(AO7="","",MIN(EDATE('Навигатор накоплений'!E28,1),'Навигатор накоплений'!F28)) | AQ7: =IF(AO7="","",ROUND('Навигатор накоплений'!C28*'Навигатор накоплений'!D28*IF(YEAR(AO7)=YEAR(AP7-1),(AP7-AO7)/(DATE(YEAR(AO7),12,31)-DATE(YEAR(AO7),1,1)+1),(DATE(YEAR(AO7)+1,1,1)-AO7)/(DATE(YEAR(AO7),12,31)-DATE(YEAR(AO7),1,1)+1)+(AP7-DATE(YEAR(AP7),1,1))/(DATE(YEAR(AP7),12,31)-DATE(YEAR(AP7),1,1)+1)),2)) | AR7: =IF(AO7="","",ROUND('Навигатор накоплений'!C28+AQ7+IF(AP7<'Навигатор накоплений'!F28,N('Навигатор накоплений'!G28),0),2)) | AT7: =IF(OR(K7="",L7="",M7="",L7<=K7),0,ROUND(M7*MAX(0,MIN(L7,DATE(2027,1,1))-MAX(K7,DATE(2026,1,1)))/(L7-K7),2)) -> 0 | AU7: =IF(OR(P7="",Q7="",R7="",Q7<=P7),0,ROUND(R7*MAX(0,MIN(Q7,DATE(2027,1,1))-MAX(P7,DATE(2026,1,1)))/(Q7-P7),2)) -> 0 | AV7: =IF(OR(U7="",V7="",W7="",V7<=U7),0,ROUND(W7*MAX(0,MIN(V7,DATE(2027,1,1))-MAX(U7,DATE(2026,1,1)))/(V7-U7),2)) -> 0 | AW7: =IF(OR(Z7="",AA7="",AB7="",AA7<=Z7),0,ROUND(AB7*MAX(0,MIN(AA7,DATE(2027,1,1))-MAX(Z7,DATE(2026,1,1)))/(AA7-Z7),2)) -> 0 | AX7: =IF(OR(AE7="",AF7="",AG7="",AF7<=AE7),0,ROUND(AG7*MAX(0,MIN(AF7,DATE(2027,1,1))-MAX(AE7,DATE(2026,1,1)))/(AF7-AE7),2)) -> 0 | AY7: =IF(OR(AJ7="",AK7="",AL7="",AK7<=AJ7),0,ROUND(AL7*MAX(0,MIN(AK7,DATE(2027,1,1))-MAX(AJ7,DATE(2026,1,1)))/(AK7-AJ7),2)) -> 0 | AZ7: =IF(OR(AO7="",AP7="",AQ7="",AP7<=AO7),0,ROUND(AQ7*MAX(0,MIN(AP7,DATE(2027,1,1))-MAX(AO7,DATE(2026,1,1)))/(AP7-AO7),2)) -> 0 | BA7: =IF(OR(B10="",C10="",H10="",C10<=B10),0,ROUND(H10*MAX(0,MIN(C10,DATE(2027,1,1))-MAX(B10,DATE(2026,1,1)))/(C10-B10),2)) -> 0 | BB7: =IF(OR(B27="",C27="",H27="",C27<=B27),0,ROUND(H27*MAX(0,MIN(C27,DATE(2027,1,1))-MAX(B27,DATE(2026,1,1)))/(C27-B27),2)) -> 0 | BC7: =IF(OR(B44="",C44="",H44="",C44<=B44),0,ROUND(H44*MAX(0,MIN(C44,DATE(2027,1,1))-MAX(B44,DATE(2026,1,1)))/(C44-B44),2)) -> 0 | BD7: =IF(OR(B61="",C61="",H61="",C61<=B61),0,ROUND(H61*MAX(0,MIN(C61,DATE(2027,1,1))-MAX(B61,DATE(2026,1,1)))/(C61-B61),2)) -> 0 | BE7: =IF(OR(B78="",C78="",H78="",C78<=B78),0,ROUND(H78*MAX(0,MIN(C78,DATE(2027,1,1))-MAX(B78,DATE(2026,1,1)))/(C78-B78),2)) -> 0 | BF7: =IF(OR(B95="",C95="",H95="",C95<=B95),0,ROUND(H95*MAX(0,MIN(C95,DATE(2027,1,1))-MAX(B95,DATE(2026,1,1)))/(C95-B95),2)) -> 0
A8: =IF('Навигатор накоплений'!A31="","Счет не заполнен","Счет: "&'Навигатор накоплений'!A31&" — "&'Навигатор накоплений'!B31) -> Счет не заполнен | K8: =IF('Навигатор накоплений'!A22="","",IF(2<=DATEDIF('Навигатор накоплений'!E22,'Навигатор накоплений'!F22,"m")+IF(EDATE('Навигатор накоплений'!E22,DATEDIF('Навигатор накоплений'!E22,'Навигатор накоплений'!F22,"m"))<'Навигатор накоплений'!F22,1,0),L7,"")) | L8: =IF(K8="","",MIN(EDATE('Навигатор накоплений'!E22,2),'Навигатор накоплений'!F22)) | M8: =IF(K8="","",ROUND(N7*'Навигатор накоплений'!D22*IF(YEAR(K8)=YEAR(L8-1),(L8-K8)/(DATE(YEAR(K8),12,31)-DATE(YEAR(K8),1,1)+1),(DATE(YEAR(K8)+1,1,1)-K8)/(DATE(YEAR(K8),12,31)-DATE(YEAR(K8),1,1)+1)+(L8-DATE(YEAR(L8),1,1))/(DATE(YEAR(L8),12,31)-DATE(YEAR(L8),1,1)+1)),2)) | N8: =IF(K8="","",ROUND(N7+M8+IF(L8<'Навигатор накоплений'!F22,N('Навигатор накоплений'!G22),0),2)) | P8: =IF('Навигатор накоплений'!A23="","",IF(2<=DATEDIF('Навигатор накоплений'!E23,'Навигатор накоплений'!F23,"m")+IF(EDATE('Навигатор накоплений'!E23,DATEDIF('Навигатор накоплений'!E23,'Навигатор накоплений'!F23,"m"))<'Навигатор накоплений'!F23,1,0),Q7,"")) | Q8: =IF(P8="","",MIN(EDATE('Навигатор накоплений'!E23,2),'Навигатор накоплений'!F23)) | R8: =IF(P8="","",ROUND(S7*'Навигатор накоплений'!D23*IF(YEAR(P8)=YEAR(Q8-1),(Q8-P8)/(DATE(YEAR(P8),12,31)-DATE(YEAR(P8),1,1)+1),(DATE(YEAR(P8)+1,1,1)-P8)/(DATE(YEAR(P8),12,31)-DATE(YEAR(P8),1,1)+1)+(Q8-DATE(YEAR(Q8),1,1))/(DATE(YEAR(Q8),12,31)-DATE(YEAR(Q8),1,1)+1)),2)) | S8: =IF(P8="","",ROUND(S7+R8+IF(Q8<'Навигатор накоплений'!F23,N('Навигатор накоплений'!G23),0),2)) | U8: =IF('Навигатор накоплений'!A24="","",IF(2<=DATEDIF('Навигатор накоплений'!E24,'Навигатор накоплений'!F24,"m")+IF(EDATE('Навигатор накоплений'!E24,DATEDIF('Навигатор накоплений'!E24,'Навигатор накоплений'!F24,"m"))<'Навигатор накоплений'!F24,1,0),V7,"")) | V8: =IF(U8="","",MIN(EDATE('Навигатор накоплений'!E24,2),'Навигатор накоплений'!F24)) | W8: =IF(U8="","",ROUND(X7*'Навигатор накоплений'!D24*IF(YEAR(U8)=YEAR(V8-1),(V8-U8)/(DATE(YEAR(U8),12,31)-DATE(YEAR(U8),1,1)+1),(DATE(YEAR(U8)+1,1,1)-U8)/(DATE(YEAR(U8),12,31)-DATE(YEAR(U8),1,1)+1)+(V8-DATE(YEAR(V8),1,1))/(DATE(YEAR(V8),12,31)-DATE(YEAR(V8),1,1)+1)),2)) | X8: =IF(U8="","",ROUND(X7+W8+IF(V8<'Навигатор накоплений'!F24,N('Навигатор накоплений'!G24),0),2)) | Z8: =IF('Навигатор накоплений'!A25="","",IF(2<=DATEDIF('Навигатор накоплений'!E25,'Навигатор накоплений'!F25,"m")+IF(EDATE('Навигатор накоплений'!E25,DATEDIF('Навигатор накоплений'!E25,'Навигатор накоплений'!F25,"m"))<'Навигатор накоплений'!F25,1,0),AA7,"")) | AA8: =IF(Z8="","",MIN(EDATE('Навигатор накоплений'!E25,2),'Навигатор накоплений'!F25)) | AB8: =IF(Z8="","",ROUND(AC7*'Навигатор накоплений'!D25*IF(YEAR(Z8)=YEAR(AA8-1),(AA8-Z8)/(DATE(YEAR(Z8),12,31)-DATE(YEAR(Z8),1,1)+1),(DATE(YEAR(Z8)+1,1,1)-Z8)/(DATE(YEAR(Z8),12,31)-DATE(YEAR(Z8),1,1)+1)+(AA8-DATE(YEAR(AA8),1,1))/(DATE(YEAR(AA8),12,31)-DATE(YEAR(AA8),1,1)+1)),2)) | AC8: =IF(Z8="","",ROUND(AC7+AB8+IF(AA8<'Навигатор накоплений'!F25,N('Навигатор накоплений'!G25),0),2)) | AE8: =IF('Навигатор накоплений'!A26="","",IF(2<=DATEDIF('Навигатор накоплений'!E26,'Навигатор накоплений'!F26,"m")+IF(EDATE('Навигатор накоплений'!E26,DATEDIF('Навигатор накоплений'!E26,'Навигатор накоплений'!F26,"m"))<'Навигатор накоплений'!F26,1,0),AF7,"")) | AF8: =IF(AE8="","",MIN(EDATE('Навигатор накоплений'!E26,2),'Навигатор накоплений'!F26)) | AG8: =IF(AE8="","",ROUND(AH7*'Навигатор накоплений'!D26*IF(YEAR(AE8)=YEAR(AF8-1),(AF8-AE8)/(DATE(YEAR(AE8),12,31)-DATE(YEAR(AE8),1,1)+1),(DATE(YEAR(AE8)+1,1,1)-AE8)/(DATE(YEAR(AE8),12,31)-DATE(YEAR(AE8),1,1)+1)+(AF8-DATE(YEAR(AF8),1,1))/(DATE(YEAR(AF8),12,31)-DATE(YEAR(AF8),1,1)+1)),2)) | AH8: =IF(AE8="","",ROUND(AH7+AG8+IF(AF8<'Навигатор накоплений'!F26,N('Навигатор накоплений'!G26),0),2)) | AJ8: =IF('Навигатор накоплений'!A27="","",IF(2<=DATEDIF('Навигатор накоплений'!E27,'Навигатор накоплений'!F27,"m")+IF(EDATE('Навигатор накоплений'!E27,DATEDIF('Навигатор накоплений'!E27,'Навигатор накоплений'!F27,"m"))<'Навигатор накоплений'!F27,1,0),AK7,"")) | AK8: =IF(AJ8="","",MIN(EDATE('Навигатор накоплений'!E27,2),'Навигатор накоплений'!F27)) | AL8: =IF(AJ8="","",ROUND(AM7*'Навигатор накоплений'!D27*IF(YEAR(AJ8)=YEAR(AK8-1),(AK8-AJ8)/(DATE(YEAR(AJ8),12,31)-DATE(YEAR(AJ8),1,1)+1),(DATE(YEAR(AJ8)+1,1,1)-AJ8)/(DATE(YEAR(AJ8),12,31)-DATE(YEAR(AJ8),1,1)+1)+(AK8-DATE(YEAR(AK8),1,1))/(DATE(YEAR(AK8),12,31)-DATE(YEAR(AK8),1,1)+1)),2)) | AM8: =IF(AJ8="","",ROUND(AM7+AL8+IF(AK8<'Навигатор накоплений'!F27,N('Навигатор накоплений'!G27),0),2)) | AO8: =IF('Навигатор накоплений'!A28="","",IF(2<=DATEDIF('Навигатор накоплений'!E28,'Навигатор накоплений'!F28,"m")+IF(EDATE('Навигатор накоплений'!E28,DATEDIF('Навигатор накоплений'!E28,'Навигатор накоплений'!F28,"m"))<'Навигатор накоплений'!F28,1,0),AP7,"")) | AP8: =IF(AO8="","",MIN(EDATE('Навигатор накоплений'!E28,2),'Навигатор накоплений'!F28)) | AQ8: =IF(AO8="","",ROUND(AR7*'Навигатор накоплений'!D28*IF(YEAR(AO8)=YEAR(AP8-1),(AP8-AO8)/(DATE(YEAR(AO8),12,31)-DATE(YEAR(AO8),1,1)+1),(DATE(YEAR(AO8)+1,1,1)-AO8)/(DATE(YEAR(AO8),12,31)-DATE(YEAR(AO8),1,1)+1)+(AP8-DATE(YEAR(AP8),1,1))/(DATE(YEAR(AP8),12,31)-DATE(YEAR(AP8),1,1)+1)),2)) | AR8: =IF(AO8="","",ROUND(AR7+AQ8+IF(AP8<'Навигатор накоплений'!F28,N('Навигатор накоплений'!G28),0),2)) | AT8: =IF(OR(K8="",L8="",M8="",L8<=K8),0,ROUND(M8*MAX(0,MIN(L8,DATE(2027,1,1))-MAX(K8,DATE(2026,1,1)))/(L8-K8),2)) -> 0 | AU8: =IF(OR(P8="",Q8="",R8="",Q8<=P8),0,ROUND(R8*MAX(0,MIN(Q8,DATE(2027,1,1))-MAX(P8,DATE(2026,1,1)))/(Q8-P8),2)) -> 0 | AV8: =IF(OR(U8="",V8="",W8="",V8<=U8),0,ROUND(W8*MAX(0,MIN(V8,DATE(2027,1,1))-MAX(U8,DATE(2026,1,1)))/(V8-U8),2)) -> 0 | AW8: =IF(OR(Z8="",AA8="",AB8="",AA8<=Z8),0,ROUND(AB8*MAX(0,MIN(AA8,DATE(2027,1,1))-MAX(Z8,DATE(2026,1,1)))/(AA8-Z8),2)) -> 0 | AX8: =IF(OR(AE8="",AF8="",AG8="",AF8<=AE8),0,ROUND(AG8*MAX(0,MIN(AF8,DATE(2027,1,1))-MAX(AE8,DATE(2026,1,1)))/(AF8-AE8),2)) -> 0 | AY8: =IF(OR(AJ8="",AK8="",AL8="",AK8<=AJ8),0,ROUND(AL8*MAX(0,MIN(AK8,DATE(2027,1,1))-MAX(AJ8,DATE(2026,1,1)))/(AK8-AJ8),2)) -> 0 | AZ8: =IF(OR(AO8="",AP8="",AQ8="",AP8<=AO8),0,ROUND(AQ8*MAX(0,MIN(AP8,DATE(2027,1,1))-MAX(AO8,DATE(2026,1,1)))/(AP8-AO8),2)) -> 0 | BA8: =IF(OR(B11="",C11="",H11="",C11<=B11),0,ROUND(H11*MAX(0,MIN(C11,DATE(2027,1,1))-MAX(B11,DATE(2026,1,1)))/(C11-B11),2)) -> 0 | BB8: =IF(OR(B28="",C28="",H28="",C28<=B28),0,ROUND(H28*MAX(0,MIN(C28,DATE(2027,1,1))-MAX(B28,DATE(2026,1,1)))/(C28-B28),2)) -> 0 | BC8: =IF(OR(B45="",C45="",H45="",C45<=B45),0,ROUND(H45*MAX(0,MIN(C45,DATE(2027,1,1))-MAX(B45,DATE(2026,1,1)))/(C45-B45),2)) -> 0 | BD8: =IF(OR(B62="",C62="",H62="",C62<=B62),0,ROUND(H62*MAX(0,MIN(C62,DATE(2027,1,1))-MAX(B62,DATE(2026,1,1)))/(C62-B62),2)) -> 0 | BE8: =IF(OR(B79="",C79="",H79="",C79<=B79),0,ROUND(H79*MAX(0,MIN(C79,DATE(2027,1,1))-MAX(B79,DATE(2026,1,1)))/(C79-B79),2)) -> 0 | BF8: =IF(OR(B96="",C96="",H96="",C96<=B96),0,ROUND(H96*MAX(0,MIN(C96,DATE(2027,1,1))-MAX(B96,DATE(2026,1,1)))/(C96-B96),2)) -> 0
A9: Месяц | B9: Начало периода | C9: Конец периода | D9: Остаток на начало, ₽ | E9: Пополнение, ₽ | F9: База для процентов, ₽ | G9: Дней | H9: Начислено процентов, ₽ | I9: Остаток на конец, ₽ | K9: =IF('Навигатор накоплений'!A22="","",IF(3<=DATEDIF('Навигатор накоплений'!E22,'Навигатор накоплений'!F22,"m")+IF(EDATE('Навигатор накоплений'!E22,DATEDIF('Навигатор накоплений'!E22,'Навигатор накоплений'!F22,"m"))<'Навигатор накоплений'!F22,1,0),L8,"")) | L9: =IF(K9="","",MIN(EDATE('Навигатор накоплений'!E22,3),'Навигатор накоплений'!F22)) | M9: =IF(K9="","",ROUND(N8*'Навигатор накоплений'!D22*IF(YEAR(K9)=YEAR(L9-1),(L9-K9)/(DATE(YEAR(K9),12,31)-DATE(YEAR(K9),1,1)+1),(DATE(YEAR(K9)+1,1,1)-K9)/(DATE(YEAR(K9),12,31)-DATE(YEAR(K9),1,1)+1)+(L9-DATE(YEAR(L9),1,1))/(DATE(YEAR(L9),12,31)-DATE(YEAR(L9),1,1)+1)),2)) | N9: =IF(K9="","",ROUND(N8+M9+IF(L9<'Навигатор накоплений'!F22,N('Навигатор накоплений'!G22),0),2)) | P9: =IF('Навигатор накоплений'!A23="","",IF(3<=DATEDIF('Навигатор накоплений'!E23,'Навигатор накоплений'!F23,"m")+IF(EDATE('Навигатор накоплений'!E23,DATEDIF('Навигатор накоплений'!E23,'Навигатор накоплений'!F23,"m"))<'Навигатор накоплений'!F23,1,0),Q8,"")) | Q9: =IF(P9="","",MIN(EDATE('Навигатор накоплений'!E23,3),'Навигатор накоплений'!F23)) | R9: =IF(P9="","",ROUND(S8*'Навигатор накоплений'!D23*IF(YEAR(P9)=YEAR(Q9-1),(Q9-P9)/(DATE(YEAR(P9),12,31)-DATE(YEAR(P9),1,1)+1),(DATE(YEAR(P9)+1,1,1)-P9)/(DATE(YEAR(P9),12,31)-DATE(YEAR(P9),1,1)+1)+(Q9-DATE(YEAR(Q9),1,1))/(DATE(YEAR(Q9),12,31)-DATE(YEAR(Q9),1,1)+1)),2)) | S9: =IF(P9="","",ROUND(S8+R9+IF(Q9<'Навигатор накоплений'!F23,N('Навигатор накоплений'!G23),0),2)) | U9: =IF('Навигатор накоплений'!A24="","",IF(3<=DATEDIF('Навигатор накоплений'!E24,'Навигатор накоплений'!F24,"m")+IF(EDATE('Навигатор накоплений'!E24,DATEDIF('Навигатор накоплений'!E24,'Навигатор накоплений'!F24,"m"))<'Навигатор накоплений'!F24,1,0),V8,"")) | V9: =IF(U9="","",MIN(EDATE('Навигатор накоплений'!E24,3),'Навигатор накоплений'!F24)) | W9: =IF(U9="","",ROUND(X8*'Навигатор накоплений'!D24*IF(YEAR(U9)=YEAR(V9-1),(V9-U9)/(DATE(YEAR(U9),12,31)-DATE(YEAR(U9),1,1)+1),(DATE(YEAR(U9)+1,1,1)-U9)/(DATE(YEAR(U9),12,31)-DATE(YEAR(U9),1,1)+1)+(V9-DATE(YEAR(V9),1,1))/(DATE(YEAR(V9),12,31)-DATE(YEAR(V9),1,1)+1)),2)) | X9: =IF(U9="","",ROUND(X8+W9+IF(V9<'Навигатор накоплений'!F24,N('Навигатор накоплений'!G24),0),2)) | Z9: =IF('Навигатор накоплений'!A25="","",IF(3<=DATEDIF('Навигатор накоплений'!E25,'Навигатор накоплений'!F25,"m")+IF(EDATE('Навигатор накоплений'!E25,DATEDIF('Навигатор накоплений'!E25,'Навигатор накоплений'!F25,"m"))<'Навигатор накоплений'!F25,1,0),AA8,"")) | AA9: =IF(Z9="","",MIN(EDATE('Навигатор накоплений'!E25,3),'Навигатор накоплений'!F25)) | AB9: =IF(Z9="","",ROUND(AC8*'Навигатор накоплений'!D25*IF(YEAR(Z9)=YEAR(AA9-1),(AA9-Z9)/(DATE(YEAR(Z9),12,31)-DATE(YEAR(Z9),1,1)+1),(DATE(YEAR(Z9)+1,1,1)-Z9)/(DATE(YEAR(Z9),12,31)-DATE(YEAR(Z9),1,1)+1)+(AA9-DATE(YEAR(AA9),1,1))/(DATE(YEAR(AA9),12,31)-DATE(YEAR(AA9),1,1)+1)),2)) | AC9: =IF(Z9="","",ROUND(AC8+AB9+IF(AA9<'Навигатор накоплений'!F25,N('Навигатор накоплений'!G25),0),2)) | AE9: =IF('Навигатор накоплений'!A26="","",IF(3<=DATEDIF('Навигатор накоплений'!E26,'Навигатор накоплений'!F26,"m")+IF(EDATE('Навигатор накоплений'!E26,DATEDIF('Навигатор накоплений'!E26,'Навигатор накоплений'!F26,"m"))<'Навигатор накоплений'!F26,1,0),AF8,"")) | AF9: =IF(AE9="","",MIN(EDATE('Навигатор накоплений'!E26,3),'Навигатор накоплений'!F26)) | AG9: =IF(AE9="","",ROUND(AH8*'Навигатор накоплений'!D26*IF(YEAR(AE9)=YEAR(AF9-1),(AF9-AE9)/(DATE(YEAR(AE9),12,31)-DATE(YEAR(AE9),1,1)+1),(DATE(YEAR(AE9)+1,1,1)-AE9)/(DATE(YEAR(AE9),12,31)-DATE(YEAR(AE9),1,1)+1)+(AF9-DATE(YEAR(AF9),1,1))/(DATE(YEAR(AF9),12,31)-DATE(YEAR(AF9),1,1)+1)),2)) | AH9: =IF(AE9="","",ROUND(AH8+AG9+IF(AF9<'Навигатор накоплений'!F26,N('Навигатор накоплений'!G26),0),2)) | AJ9: =IF('Навигатор накоплений'!A27="","",IF(3<=DATEDIF('Навигатор накоплений'!E27,'Навигатор накоплений'!F27,"m")+IF(EDATE('Навигатор накоплений'!E27,DATEDIF('Навигатор накоплений'!E27,'Навигатор накоплений'!F27,"m"))<'Навигатор накоплений'!F27,1,0),AK8,"")) | AK9: =IF(AJ9="","",MIN(EDATE('Навигатор накоплений'!E27,3),'Навигатор накоплений'!F27)) | AL9: =IF(AJ9="","",ROUND(AM8*'Навигатор накоплений'!D27*IF(YEAR(AJ9)=YEAR(AK9-1),(AK9-AJ9)/(DATE(YEAR(AJ9),12,31)-DATE(YEAR(AJ9),1,1)+1),(DATE(YEAR(AJ9)+1,1,1)-AJ9)/(DATE(YEAR(AJ9),12,31)-DATE(YEAR(AJ9),1,1)+1)+(AK9-DATE(YEAR(AK9),1,1))/(DATE(YEAR(AK9),12,31)-DATE(YEAR(AK9),1,1)+1)),2)) | AM9: =IF(AJ9="","",ROUND(AM8+AL9+IF(AK9<'Навигатор накоплений'!F27,N('Навигатор накоплений'!G27),0),2)) | AO9: =IF('Навигатор накоплений'!A28="","",IF(3<=DATEDIF('Навигатор накоплений'!E28,'Навигатор накоплений'!F28,"m")+IF(EDATE('Навигатор накоплений'!E28,DATEDIF('Навигатор накоплений'!E28,'Навигатор накоплений'!F28,"m"))<'Навигатор накоплений'!F28,1,0),AP8,"")) | AP9: =IF(AO9="","",MIN(EDATE('Навигатор накоплений'!E28,3),'Навигатор накоплений'!F28)) | AQ9: =IF(AO9="","",ROUND(AR8*'Навигатор накоплений'!D28*IF(YEAR(AO9)=YEAR(AP9-1),(AP9-AO9)/(DATE(YEAR(AO9),12,31)-DATE(YEAR(AO9),1,1)+1),(DATE(YEAR(AO9)+1,1,1)-AO9)/(DATE(YEAR(AO9),12,31)-DATE(YEAR(AO9),1,1)+1)+(AP9-DATE(YEAR(AP9),1,1))/(DATE(YEAR(AP9),12,31)-DATE(YEAR(AP9),1,1)+1)),2)) | AR9: =IF(AO9="","",ROUND(AR8+AQ9+IF(AP9<'Навигатор накоплений'!F28,N('Навигатор накоплений'!G28),0),2)) | AT9: =IF(OR(K9="",L9="",M9="",L9<=K9),0,ROUND(M9*MAX(0,MIN(L9,DATE(2027,1,1))-MAX(K9,DATE(2026,1,1)))/(L9-K9),2)) -> 0 | AU9: =IF(OR(P9="",Q9="",R9="",Q9<=P9),0,ROUND(R9*MAX(0,MIN(Q9,DATE(2027,1,1))-MAX(P9,DATE(2026,1,1)))/(Q9-P9),2)) -> 0 | AV9: =IF(OR(U9="",V9="",W9="",V9<=U9),0,ROUND(W9*MAX(0,MIN(V9,DATE(2027,1,1))-MAX(U9,DATE(2026,1,1)))/(V9-U9),2)) -> 0 | AW9: =IF(OR(Z9="",AA9="",AB9="",AA9<=Z9),0,ROUND(AB9*MAX(0,MIN(AA9,DATE(2027,1,1))-MAX(Z9,DATE(2026,1,1)))/(AA9-Z9),2)) -> 0 | AX9: =IF(OR(AE9="",AF9="",AG9="",AF9<=AE9),0,ROUND(AG9*MAX(0,MIN(AF9,DATE(2027,1,1))-MAX(AE9,DATE(2026,1,1)))/(AF9-AE9),2)) -> 0 | AY9: =IF(OR(AJ9="",AK9="",AL9="",AK9<=AJ9),0,ROUND(AL9*MAX(0,MIN(AK9,DATE(2027,1,1))-MAX(AJ9,DATE(2026,1,1)))/(AK9-AJ9),2)) -> 0 | AZ9: =IF(OR(AO9="",AP9="",AQ9="",AP9<=AO9),0,ROUND(AQ9*MAX(0,MIN(AP9,DATE(2027,1,1))-MAX(AO9,DATE(2026,1,1)))/(AP9-AO9),2)) -> 0 | BA9: =IF(OR(B12="",C12="",H12="",C12<=B12),0,ROUND(H12*MAX(0,MIN(C12,DATE(2027,1,1))-MAX(B12,DATE(2026,1,1)))/(C12-B12),2)) -> 0 | BB9: =IF(OR(B29="",C29="",H29="",C29<=B29),0,ROUND(H29*MAX(0,MIN(C29,DATE(2027,1,1))-MAX(B29,DATE(2026,1,1)))/(C29-B29),2)) -> 0 | BC9: =IF(OR(B46="",C46="",H46="",C46<=B46),0,ROUND(H46*MAX(0,MIN(C46,DATE(2027,1,1))-MAX(B46,DATE(2026,1,1)))/(C46-B46),2)) -> 0 | BD9: =IF(OR(B63="",C63="",H63="",C63<=B63),0,ROUND(H63*MAX(0,MIN(C63,DATE(2027,1,1))-MAX(B63,DATE(2026,1,1)))/(C63-B63),2)) -> 0 | BE9: =IF(OR(B80="",C80="",H80="",C80<=B80),0,ROUND(H80*MAX(0,MIN(C80,DATE(2027,1,1))-MAX(B80,DATE(2026,1,1)))/(C80-B80),2)) -> 0 | BF9: =IF(OR(B97="",C97="",H97="",C97<=B97),0,ROUND(H97*MAX(0,MIN(C97,DATE(2027,1,1))-MAX(B97,DATE(2026,1,1)))/(C97-B97),2)) -> 0
A10: 1 | B10: =IF('Навигатор накоплений'!A31="","",EDATE('Навигатор накоплений'!C31,A10-1)) | C10: =IF(B10="","",EDATE('Навигатор накоплений'!C31,A10)) | D10: =IF(B10="","",'Навигатор накоплений'!D31) | E10: =IF(B10="","",N('Навигатор накоплений'!G31)) | F10: =IF(B10="","",IF('Навигатор накоплений'!F31="Ежедневный остаток",D10+E10,D10)) | G10: =IF(B10="","",C10-B10) | H10: =IF(B10="","",ROUND(F10*'Навигатор накоплений'!E31*IF(YEAR(B10)=YEAR(C10-1),(C10-B10)/(DATE(YEAR(B10),12,31)-DATE(YEAR(B10),1,1)+1),(DATE(YEAR(B10)+1,1,1)-B10)/(DATE(YEAR(B10),12,31)-DATE(YEAR(B10),1,1)+1)+(C10-DATE(YEAR(C10),1,1))/(DATE(YEAR(C10),12,31)-DATE(YEAR(C10),1,1)+1)),2)) | I10: =IF(B10="","",ROUND(D10+E10+H10,2)) | K10: =IF('Навигатор накоплений'!A22="","",IF(4<=DATEDIF('Навигатор накоплений'!E22,'Навигатор накоплений'!F22,"m")+IF(EDATE('Навигатор накоплений'!E22,DATEDIF('Навигатор накоплений'!E22,'Навигатор накоплений'!F22,"m"))<'Навигатор накоплений'!F22,1,0),L9,"")) | L10: =IF(K10="","",MIN(EDATE('Навигатор накоплений'!E22,4),'Навигатор накоплений'!F22)) | M10: =IF(K10="","",ROUND(N9*'Навигатор накоплений'!D22*IF(YEAR(K10)=YEAR(L10-1),(L10-K10)/(DATE(YEAR(K10),12,31)-DATE(YEAR(K10),1,1)+1),(DATE(YEAR(K10)+1,1,1)-K10)/(DATE(YEAR(K10),12,31)-DATE(YEAR(K10),1,1)+1)+(L10-DATE(YEAR(L10),1,1))/(DATE(YEAR(L10),12,31)-DATE(YEAR(L10),1,1)+1)),2)) | N10: =IF(K10="","",ROUND(N9+M10+IF(L10<'Навигатор накоплений'!F22,N('Навигатор накоплений'!G22),0),2)) | P10: =IF('Навигатор накоплений'!A23="","",IF(4<=DATEDIF('Навигатор накоплений'!E23,'Навигатор накоплений'!F23,"m")+IF(EDATE('Навигатор накоплений'!E23,DATEDIF('Навигатор накоплений'!E23,'Навигатор накоплений'!F23,"m"))<'Навигатор накоплений'!F23,1,0),Q9,"")) | Q10: =IF(P10="","",MIN(EDATE('Навигатор накоплений'!E23,4),'Навигатор накоплений'!F23)) | R10: =IF(P10="","",ROUND(S9*'Навигатор накоплений'!D23*IF(YEAR(P10)=YEAR(Q10-1),(Q10-P10)/(DATE(YEAR(P10),12,31)-DATE(YEAR(P10),1,1)+1),(DATE(YEAR(P10)+1,1,1)-P10)/(DATE(YEAR(P10),12,31)-DATE(YEAR(P10),1,1)+1)+(Q10-DATE(YEAR(Q10),1,1))/(DATE(YEAR(Q10),12,31)-DATE(YEAR(Q10),1,1)+1)),2)) | S10: =IF(P10="","",ROUND(S9+R10+IF(Q10<'Навигатор накоплений'!F23,N('Навигатор накоплений'!G23),0),2)) | U10: =IF('Навигатор накоплений'!A24="","",IF(4<=DATEDIF('Навигатор накоплений'!E24,'Навигатор накоплений'!F24,"m")+IF(EDATE('Навигатор накоплений'!E24,DATEDIF('Навигатор накоплений'!E24,'Навигатор накоплений'!F24,"m"))<'Навигатор накоплений'!F24,1,0),V9,"")) | V10: =IF(U10="","",MIN(EDATE('Навигатор накоплений'!E24,4),'Навигатор накоплений'!F24)) | W10: =IF(U10="","",ROUND(X9*'Навигатор накоплений'!D24*IF(YEAR(U10)=YEAR(V10-1),(V10-U10)/(DATE(YEAR(U10),12,31)-DATE(YEAR(U10),1,1)+1),(DATE(YEAR(U10)+1,1,1)-U10)/(DATE(YEAR(U10),12,31)-DATE(YEAR(U10),1,1)+1)+(V10-DATE(YEAR(V10),1,1))/(DATE(YEAR(V10),12,31)-DATE(YEAR(V10),1,1)+1)),2)) | X10: =IF(U10="","",ROUND(X9+W10+IF(V10<'Навигатор накоплений'!F24,N('Навигатор накоплений'!G24),0),2)) | Z10: =IF('Навигатор накоплений'!A25="","",IF(4<=DATEDIF('Навигатор накоплений'!E25,'Навигатор накоплений'!F25,"m")+IF(EDATE('Навигатор накоплений'!E25,DATEDIF('Навигатор накоплений'!E25,'Навигатор накоплений'!F25,"m"))<'Навигатор накоплений'!F25,1,0),AA9,"")) | AA10: =IF(Z10="","",MIN(EDATE('Навигатор накоплений'!E25,4),'Навигатор накоплений'!F25)) | AB10: =IF(Z10="","",ROUND(AC9*'Навигатор накоплений'!D25*IF(YEAR(Z10)=YEAR(AA10-1),(AA10-Z10)/(DATE(YEAR(Z10),12,31)-DATE(YEAR(Z10),1,1)+1),(DATE(YEAR(Z10)+1,1,1)-Z10)/(DATE(YEAR(Z10),12,31)-DATE(YEAR(Z10),1,1)+1)+(AA10-DATE(YEAR(AA10),1,1))/(DATE(YEAR(AA10),12,31)-DATE(YEAR(AA10),1,1)+1)),2)) | AC10: =IF(Z10="","",ROUND(AC9+AB10+IF(AA10<'Навигатор накоплений'!F25,N('Навигатор накоплений'!G25),0),2)) | AE10: =IF('Навигатор накоплений'!A26="","",IF(4<=DATEDIF('Навигатор накоплений'!E26,'Навигатор накоплений'!F26,"m")+IF(EDATE('Навигатор накоплений'!E26,DATEDIF('Навигатор накоплений'!E26,'Навигатор накоплений'!F26,"m"))<'Навигатор накоплений'!F26,1,0),AF9,"")) | AF10: =IF(AE10="","",MIN(EDATE('Навигатор накоплений'!E26,4),'Навигатор накоплений'!F26)) | AG10: =IF(AE10="","",ROUND(AH9*'Навигатор накоплений'!D26*IF(YEAR(AE10)=YEAR(AF10-1),(AF10-AE10)/(DATE(YEAR(AE10),12,31)-DATE(YEAR(AE10),1,1)+1),(DATE(YEAR(AE10)+1,1,1)-AE10)/(DATE(YEAR(AE10),12,31)-DATE(YEAR(AE10),1,1)+1)+(AF10-DATE(YEAR(AF10),1,1))/(DATE(YEAR(AF10),12,31)-DATE(YEAR(AF10),1,1)+1)),2)) | AH10: =IF(AE10="","",ROUND(AH9+AG10+IF(AF10<'Навигатор накоплений'!F26,N('Навигатор накоплений'!G26),0),2)) | AJ10: =IF('Навигатор накоплений'!A27="","",IF(4<=DATEDIF('Навигатор накоплений'!E27,'Навигатор накоплений'!F27,"m")+IF(EDATE('Навигатор накоплений'!E27,DATEDIF('Навигатор накоплений'!E27,'Навигатор накоплений'!F27,"m"))<'Навигатор накоплений'!F27,1,0),AK9,"")) | AK10: =IF(AJ10="","",MIN(EDATE('Навигатор накоплений'!E27,4),'Навигатор накоплений'!F27)) | AL10: =IF(AJ10="","",ROUND(AM9*'Навигатор накоплений'!D27*IF(YEAR(AJ10)=YEAR(AK10-1),(AK10-AJ10)/(DATE(YEAR(AJ10),12,31)-DATE(YEAR(AJ10),1,1)+1),(DATE(YEAR(AJ10)+1,1,1)-AJ10)/(DATE(YEAR(AJ10),12,31)-DATE(YEAR(AJ10),1,1)+1)+(AK10-DATE(YEAR(AK10),1,1))/(DATE(YEAR(AK10),12,31)-DATE(YEAR(AK10),1,1)+1)),2)) | AM10: =IF(AJ10="","",ROUND(AM9+AL10+IF(AK10<'Навигатор накоплений'!F27,N('Навигатор накоплений'!G27),0),2)) | AO10: =IF('Навигатор накоплений'!A28="","",IF(4<=DATEDIF('Навигатор накоплений'!E28,'Навигатор накоплений'!F28,"m")+IF(EDATE('Навигатор накоплений'!E28,DATEDIF('Навигатор накоплений'!E28,'Навигатор накоплений'!F28,"m"))<'Навигатор накоплений'!F28,1,0),AP9,"")) | AP10: =IF(AO10="","",MIN(EDATE('Навигатор накоплений'!E28,4),'Навигатор накоплений'!F28)) | AQ10: =IF(AO10="","",ROUND(AR9*'Навигатор накоплений'!D28*IF(YEAR(AO10)=YEAR(AP10-1),(AP10-AO10)/(DATE(YEAR(AO10),12,31)-DATE(YEAR(AO10),1,1)+1),(DATE(YEAR(AO10)+1,1,1)-AO10)/(DATE(YEAR(AO10),12,31)-DATE(YEAR(AO10),1,1)+1)+(AP10-DATE(YEAR(AP10),1,1))/(DATE(YEAR(AP10),12,31)-DATE(YEAR(AP10),1,1)+1)),2)) | AR10: =IF(AO10="","",ROUND(AR9+AQ10+IF(AP10<'Навигатор накоплений'!F28,N('Навигатор накоплений'!G28),0),2)) | AT10: =IF(OR(K10="",L10="",M10="",L10<=K10),0,ROUND(M10*MAX(0,MIN(L10,DATE(2027,1,1))-MAX(K10,DATE(2026,1,1)))/(L10-K10),2)) -> 0 | AU10: =IF(OR(P10="",Q10="",R10="",Q10<=P10),0,ROUND(R10*MAX(0,MIN(Q10,DATE(2027,1,1))-MAX(P10,DATE(2026,1,1)))/(Q10-P10),2)) -> 0 | AV10: =IF(OR(U10="",V10="",W10="",V10<=U10),0,ROUND(W10*MAX(0,MIN(V10,DATE(2027,1,1))-MAX(U10,DATE(2026,1,1)))/(V10-U10),2)) -> 0 | AW10: =IF(OR(Z10="",AA10="",AB10="",AA10<=Z10),0,ROUND(AB10*MAX(0,MIN(AA10,DATE(2027,1,1))-MAX(Z10,DATE(2026,1,1)))/(AA10-Z10),2)) -> 0 | AX10: =IF(OR(AE10="",AF10="",AG10="",AF10<=AE10),0,ROUND(AG10*MAX(0,MIN(AF10,DATE(2027,1,1))-MAX(AE10,DATE(2026,1,1)))/(AF10-AE10),2)) -> 0 | AY10: =IF(OR(AJ10="",AK10="",AL10="",AK10<=AJ10),0,ROUND(AL10*MAX(0,MIN(AK10,DATE(2027,1,1))-MAX(AJ10,DATE(2026,1,1)))/(AK10-AJ10),2)) -> 0 | AZ10: =IF(OR(AO10="",AP10="",AQ10="",AP10<=AO10),0,ROUND(AQ10*MAX(0,MIN(AP10,DATE(2027,1,1))-MAX(AO10,DATE(2026,1,1)))/(AP10-AO10),2)) -> 0 | BA10: =IF(OR(B13="",C13="",H13="",C13<=B13),0,ROUND(H13*MAX(0,MIN(C13,DATE(2027,1,1))-MAX(B13,DATE(2026,1,1)))/(C13-B13),2)) -> 0 | BB10: =IF(OR(B30="",C30="",H30="",C30<=B30),0,ROUND(H30*MAX(0,MIN(C30,DATE(2027,1,1))-MAX(B30,DATE(2026,1,1)))/(C30-B30),2)) -> 0 | BC10: =IF(OR(B47="",C47="",H47="",C47<=B47),0,ROUND(H47*MAX(0,MIN(C47,DATE(2027,1,1))-MAX(B47,DATE(2026,1,1)))/(C47-B47),2)) -> 0 | BD10: =IF(OR(B64="",C64="",H64="",C64<=B64),0,ROUND(H64*MAX(0,MIN(C64,DATE(2027,1,1))-MAX(B64,DATE(2026,1,1)))/(C64-B64),2)) -> 0 | BE10: =IF(OR(B81="",C81="",H81="",C81<=B81),0,ROUND(H81*MAX(0,MIN(C81,DATE(2027,1,1))-MAX(B81,DATE(2026,1,1)))/(C81-B81),2)) -> 0 | BF10: =IF(OR(B98="",C98="",H98="",C98<=B98),0,ROUND(H98*MAX(0,MIN(C98,DATE(2027,1,1))-MAX(B98,DATE(2026,1,1)))/(C98-B98),2)) -> 0
A11: 2 | B11: =IF('Навигатор накоплений'!A31="","",EDATE('Навигатор накоплений'!C31,A11-1)) | C11: =IF(B11="","",EDATE('Навигатор накоплений'!C31,A11)) | D11: =IF(B11="","",I10) | E11: =IF(B11="","",N('Навигатор накоплений'!G31)) | F11: =IF(B11="","",IF('Навигатор накоплений'!F31="Ежедневный остаток",D11+E11,D11)) | G11: =IF(B11="","",C11-B11) | H11: =IF(B11="","",ROUND(F11*'Навигатор накоплений'!E31*IF(YEAR(B11)=YEAR(C11-1),(C11-B11)/(DATE(YEAR(B11),12,31)-DATE(YEAR(B11),1,1)+1),(DATE(YEAR(B11)+1,1,1)-B11)/(DATE(YEAR(B11),12,31)-DATE(YEAR(B11),1,1)+1)+(C11-DATE(YEAR(C11),1,1))/(DATE(YEAR(C11),12,31)-DATE(YEAR(C11),1,1)+1)),2)) | I11: =IF(B11="","",ROUND(D11+E11+H11,2)) | K11: =IF('Навигатор накоплений'!A22="","",IF(5<=DATEDIF('Навигатор накоплений'!E22,'Навигатор накоплений'!F22,"m")+IF(EDATE('Навигатор накоплений'!E22,DATEDIF('Навигатор накоплений'!E22,'Навигатор накоплений'!F22,"m"))<'Навигатор накоплений'!F22,1,0),L10,"")) | L11: =IF(K11="","",MIN(EDATE('Навигатор накоплений'!E22,5),'Навигатор накоплений'!F22)) | M11: =IF(K11="","",ROUND(N10*'Навигатор накоплений'!D22*IF(YEAR(K11)=YEAR(L11-1),(L11-K11)/(DATE(YEAR(K11),12,31)-DATE(YEAR(K11),1,1)+1),(DATE(YEAR(K11)+1,1,1)-K11)/(DATE(YEAR(K11),12,31)-DATE(YEAR(K11),1,1)+1)+(L11-DATE(YEAR(L11),1,1))/(DATE(YEAR(L11),12,31)-DATE(YEAR(L11),1,1)+1)),2)) | N11: =IF(K11="","",ROUND(N10+M11+IF(L11<'Навигатор накоплений'!F22,N('Навигатор накоплений'!G22),0),2)) | P11: =IF('Навигатор накоплений'!A23="","",IF(5<=DATEDIF('Навигатор накоплений'!E23,'Навигатор накоплений'!F23,"m")+IF(EDATE('Навигатор накоплений'!E23,DATEDIF('Навигатор накоплений'!E23,'Навигатор накоплений'!F23,"m"))<'Навигатор накоплений'!F23,1,0),Q10,"")) | Q11: =IF(P11="","",MIN(EDATE('Навигатор накоплений'!E23,5),'Навигатор накоплений'!F23)) | R11: =IF(P11="","",ROUND(S10*'Навигатор накоплений'!D23*IF(YEAR(P11)=YEAR(Q11-1),(Q11-P11)/(DATE(YEAR(P11),12,31)-DATE(YEAR(P11),1,1)+1),(DATE(YEAR(P11)+1,1,1)-P11)/(DATE(YEAR(P11),12,31)-DATE(YEAR(P11),1,1)+1)+(Q11-DATE(YEAR(Q11),1,1))/(DATE(YEAR(Q11),12,31)-DATE(YEAR(Q11),1,1)+1)),2)) | S11: =IF(P11="","",ROUND(S10+R11+IF(Q11<'Навигатор накоплений'!F23,N('Навигатор накоплений'!G23),0),2)) | U11: =IF('Навигатор накоплений'!A24="","",IF(5<=DATEDIF('Навигатор накоплений'!E24,'Навигатор накоплений'!F24,"m")+IF(EDATE('Навигатор накоплений'!E24,DATEDIF('Навигатор накоплений'!E24,'Навигатор накоплений'!F24,"m"))<'Навигатор накоплений'!F24,1,0),V10,"")) | V11: =IF(U11="","",MIN(EDATE('Навигатор накоплений'!E24,5),'Навигатор накоплений'!F24)) | W11: =IF(U11="","",ROUND(X10*'Навигатор накоплений'!D24*IF(YEAR(U11)=YEAR(V11-1),(V11-U11)/(DATE(YEAR(U11),12,31)-DATE(YEAR(U11),1,1)+1),(DATE(YEAR(U11)+1,1,1)-U11)/(DATE(YEAR(U11),12,31)-DATE(YEAR(U11),1,1)+1)+(V11-DATE(YEAR(V11),1,1))/(DATE(YEAR(V11),12,31)-DATE(YEAR(V11),1,1)+1)),2)) | X11: =IF(U11="","",ROUND(X10+W11+IF(V11<'Навигатор накоплений'!F24,N('Навигатор накоплений'!G24),0),2)) | Z11: =IF('Навигатор накоплений'!A25="","",IF(5<=DATEDIF('Навигатор накоплений'!E25,'Навигатор накоплений'!F25,"m")+IF(EDATE('Навигатор накоплений'!E25,DATEDIF('Навигатор накоплений'!E25,'Навигатор накоплений'!F25,"m"))<'Навигатор накоплений'!F25,1,0),AA10,"")) | AA11: =IF(Z11="","",MIN(EDATE('Навигатор накоплений'!E25,5),'Навигатор накоплений'!F25)) | AB11: =IF(Z11="","",ROUND(AC10*'Навигатор накоплений'!D25*IF(YEAR(Z11)=YEAR(AA11-1),(AA11-Z11)/(DATE(YEAR(Z11),12,31)-DATE(YEAR(Z11),1,1)+1),(DATE(YEAR(Z11)+1,1,1)-Z11)/(DATE(YEAR(Z11),12,31)-DATE(YEAR(Z11),1,1)+1)+(AA11-DATE(YEAR(AA11),1,1))/(DATE(YEAR(AA11),12,31)-DATE(YEAR(AA11),1,1)+1)),2)) | AC11: =IF(Z11="","",ROUND(AC10+AB11+IF(AA11<'Навигатор накоплений'!F25,N('Навигатор накоплений'!G25),0),2)) | AE11: =IF('Навигатор накоплений'!A26="","",IF(5<=DATEDIF('Навигатор накоплений'!E26,'Навигатор накоплений'!F26,"m")+IF(EDATE('Навигатор накоплений'!E26,DATEDIF('Навигатор накоплений'!E26,'Навигатор накоплений'!F26,"m"))<'Навигатор накоплений'!F26,1,0),AF10,"")) | AF11: =IF(AE11="","",MIN(EDATE('Навигатор накоплений'!E26,5),'Навигатор накоплений'!F26)) | AG11: =IF(AE11="","",ROUND(AH10*'Навигатор накоплений'!D26*IF(YEAR(AE11)=YEAR(AF11-1),(AF11-AE11)/(DATE(YEAR(AE11),12,31)-DATE(YEAR(AE11),1,1)+1),(DATE(YEAR(AE11)+1,1,1)-AE11)/(DATE(YEAR(AE11),12,31)-DATE(YEAR(AE11),1,1)+1)+(AF11-DATE(YEAR(AF11),1,1))/(DATE(YEAR(AF11),12,31)-DATE(YEAR(AF11),1,1)+1)),2)) | AH11: =IF(AE11="","",ROUND(AH10+AG11+IF(AF11<'Навигатор накоплений'!F26,N('Навигатор накоплений'!G26),0),2)) | AJ11: =IF('Навигатор накоплений'!A27="","",IF(5<=DATEDIF('Навигатор накоплений'!E27,'Навигатор накоплений'!F27,"m")+IF(EDATE('Навигатор накоплений'!E27,DATEDIF('Навигатор накоплений'!E27,'Навигатор накоплений'!F27,"m"))<'Навигатор накоплений'!F27,1,0),AK10,"")) | AK11: =IF(AJ11="","",MIN(EDATE('Навигатор накоплений'!E27,5),'Навигатор накоплений'!F27)) | AL11: =IF(AJ11="","",ROUND(AM10*'Навигатор накоплений'!D27*IF(YEAR(AJ11)=YEAR(AK11-1),(AK11-AJ11)/(DATE(YEAR(AJ11),12,31)-DATE(YEAR(AJ11),1,1)+1),(DATE(YEAR(AJ11)+1,1,1)-AJ11)/(DATE(YEAR(AJ11),12,31)-DATE(YEAR(AJ11),1,1)+1)+(AK11-DATE(YEAR(AK11),1,1))/(DATE(YEAR(AK11),12,31)-DATE(YEAR(AK11),1,1)+1)),2)) | AM11: =IF(AJ11="","",ROUND(AM10+AL11+IF(AK11<'Навигатор накоплений'!F27,N('Навигатор накоплений'!G27),0),2)) | AO11: =IF('Навигатор накоплений'!A28="","",IF(5<=DATEDIF('Навигатор накоплений'!E28,'Навигатор накоплений'!F28,"m")+IF(EDATE('Навигатор накоплений'!E28,DATEDIF('Навигатор накоплений'!E28,'Навигатор накоплений'!F28,"m"))<'Навигатор накоплений'!F28,1,0),AP10,"")) | AP11: =IF(AO11="","",MIN(EDATE('Навигатор накоплений'!E28,5),'Навигатор накоплений'!F28)) | AQ11: =IF(AO11="","",ROUND(AR10*'Навигатор накоплений'!D28*IF(YEAR(AO11)=YEAR(AP11-1),(AP11-AO11)/(DATE(YEAR(AO11),12,31)-DATE(YEAR(AO11),1,1)+1),(DATE(YEAR(AO11)+1,1,1)-AO11)/(DATE(YEAR(AO11),12,31)-DATE(YEAR(AO11),1,1)+1)+(AP11-DATE(YEAR(AP11),1,1))/(DATE(YEAR(AP11),12,31)-DATE(YEAR(AP11),1,1)+1)),2)) | AR11: =IF(AO11="","",ROUND(AR10+AQ11+IF(AP11<'Навигатор накоплений'!F28,N('Навигатор накоплений'!G28),0),2)) | AT11: =IF(OR(K11="",L11="",M11="",L11<=K11),0,ROUND(M11*MAX(0,MIN(L11,DATE(2027,1,1))-MAX(K11,DATE(2026,1,1)))/(L11-K11),2)) -> 0 | AU11: =IF(OR(P11="",Q11="",R11="",Q11<=P11),0,ROUND(R11*MAX(0,MIN(Q11,DATE(2027,1,1))-MAX(P11,DATE(2026,1,1)))/(Q11-P11),2)) -> 0 | AV11: =IF(OR(U11="",V11="",W11="",V11<=U11),0,ROUND(W11*MAX(0,MIN(V11,DATE(2027,1,1))-MAX(U11,DATE(2026,1,1)))/(V11-U11),2)) -> 0 | AW11: =IF(OR(Z11="",AA11="",AB11="",AA11<=Z11),0,ROUND(AB11*MAX(0,MIN(AA11,DATE(2027,1,1))-MAX(Z11,DATE(2026,1,1)))/(AA11-Z11),2)) -> 0 | AX11: =IF(OR(AE11="",AF11="",AG11="",AF11<=AE11),0,ROUND(AG11*MAX(0,MIN(AF11,DATE(2027,1,1))-MAX(AE11,DATE(2026,1,1)))/(AF11-AE11),2)) -> 0 | AY11: =IF(OR(AJ11="",AK11="",AL11="",AK11<=AJ11),0,ROUND(AL11*MAX(0,MIN(AK11,DATE(2027,1,1))-MAX(AJ11,DATE(2026,1,1)))/(AK11-AJ11),2)) -> 0 | AZ11: =IF(OR(AO11="",AP11="",AQ11="",AP11<=AO11),0,ROUND(AQ11*MAX(0,MIN(AP11,DATE(2027,1,1))-MAX(AO11,DATE(2026,1,1)))/(AP11-AO11),2)) -> 0 | BA11: =IF(OR(B14="",C14="",H14="",C14<=B14),0,ROUND(H14*MAX(0,MIN(C14,DATE(2027,1,1))-MAX(B14,DATE(2026,1,1)))/(C14-B14),2)) -> 0 | BB11: =IF(OR(B31="",C31="",H31="",C31<=B31),0,ROUND(H31*MAX(0,MIN(C31,DATE(2027,1,1))-MAX(B31,DATE(2026,1,1)))/(C31-B31),2)) -> 0 | BC11: =IF(OR(B48="",C48="",H48="",C48<=B48),0,ROUND(H48*MAX(0,MIN(C48,DATE(2027,1,1))-MAX(B48,DATE(2026,1,1)))/(C48-B48),2)) -> 0 | BD11: =IF(OR(B65="",C65="",H65="",C65<=B65),0,ROUND(H65*MAX(0,MIN(C65,DATE(2027,1,1))-MAX(B65,DATE(2026,1,1)))/(C65-B65),2)) -> 0 | BE11: =IF(OR(B82="",C82="",H82="",C82<=B82),0,ROUND(H82*MAX(0,MIN(C82,DATE(2027,1,1))-MAX(B82,DATE(2026,1,1)))/(C82-B82),2)) -> 0 | BF11: =IF(OR(B99="",C99="",H99="",C99<=B99),0,ROUND(H99*MAX(0,MIN(C99,DATE(2027,1,1))-MAX(B99,DATE(2026,1,1)))/(C99-B99),2)) -> 0
A12: 3 | B12: =IF('Навигатор накоплений'!A31="","",EDATE('Навигатор накоплений'!C31,A12-1)) | C12: =IF(B12="","",EDATE('Навигатор накоплений'!C31,A12)) | D12: =IF(B12="","",I11) | E12: =IF(B12="","",N('Навигатор накоплений'!G31)) | F12: =IF(B12="","",IF('Навигатор накоплений'!F31="Ежедневный остаток",D12+E12,D12)) | G12: =IF(B12="","",C12-B12) | H12: =IF(B12="","",ROUND(F12*'Навигатор накоплений'!E31*IF(YEAR(B12)=YEAR(C12-1),(C12-B12)/(DATE(YEAR(B12),12,31)-DATE(YEAR(B12),1,1)+1),(DATE(YEAR(B12)+1,1,1)-B12)/(DATE(YEAR(B12),12,31)-DATE(YEAR(B12),1,1)+1)+(C12-DATE(YEAR(C12),1,1))/(DATE(YEAR(C12),12,31)-DATE(YEAR(C12),1,1)+1)),2)) | I12: =IF(B12="","",ROUND(D12+E12+H12,2)) | K12: =IF('Навигатор накоплений'!A22="","",IF(6<=DATEDIF('Навигатор накоплений'!E22,'Навигатор накоплений'!F22,"m")+IF(EDATE('Навигатор накоплений'!E22,DATEDIF('Навигатор накоплений'!E22,'Навигатор накоплений'!F22,"m"))<'Навигатор накоплений'!F22,1,0),L11,"")) | L12: =IF(K12="","",MIN(EDATE('Навигатор накоплений'!E22,6),'Навигатор накоплений'!F22)) | M12: =IF(K12="","",ROUND(N11*'Навигатор накоплений'!D22*IF(YEAR(K12)=YEAR(L12-1),(L12-K12)/(DATE(YEAR(K12),12,31)-DATE(YEAR(K12),1,1)+1),(DATE(YEAR(K12)+1,1,1)-K12)/(DATE(YEAR(K12),12,31)-DATE(YEAR(K12),1,1)+1)+(L12-DATE(YEAR(L12),1,1))/(DATE(YEAR(L12),12,31)-DATE(YEAR(L12),1,1)+1)),2)) | N12: =IF(K12="","",ROUND(N11+M12+IF(L12<'Навигатор накоплений'!F22,N('Навигатор накоплений'!G22),0),2)) | P12: =IF('Навигатор накоплений'!A23="","",IF(6<=DATEDIF('Навигатор накоплений'!E23,'Навигатор накоплений'!F23,"m")+IF(EDATE('Навигатор накоплений'!E23,DATEDIF('Навигатор накоплений'!E23,'Навигатор накоплений'!F23,"m"))<'Навигатор накоплений'!F23,1,0),Q11,"")) | Q12: =IF(P12="","",MIN(EDATE('Навигатор накоплений'!E23,6),'Навигатор накоплений'!F23)) | R12: =IF(P12="","",ROUND(S11*'Навигатор накоплений'!D23*IF(YEAR(P12)=YEAR(Q12-1),(Q12-P12)/(DATE(YEAR(P12),12,31)-DATE(YEAR(P12),1,1)+1),(DATE(YEAR(P12)+1,1,1)-P12)/(DATE(YEAR(P12),12,31)-DATE(YEAR(P12),1,1)+1)+(Q12-DATE(YEAR(Q12),1,1))/(DATE(YEAR(Q12),12,31)-DATE(YEAR(Q12),1,1)+1)),2)) | S12: =IF(P12="","",ROUND(S11+R12+IF(Q12<'Навигатор накоплений'!F23,N('Навигатор накоплений'!G23),0),2)) | U12: =IF('Навигатор накоплений'!A24="","",IF(6<=DATEDIF('Навигатор накоплений'!E24,'Навигатор накоплений'!F24,"m")+IF(EDATE('Навигатор накоплений'!E24,DATEDIF('Навигатор накоплений'!E24,'Навигатор накоплений'!F24,"m"))<'Навигатор накоплений'!F24,1,0),V11,"")) | V12: =IF(U12="","",MIN(EDATE('Навигатор накоплений'!E24,6),'Навигатор накоплений'!F24)) | W12: =IF(U12="","",ROUND(X11*'Навигатор накоплений'!D24*IF(YEAR(U12)=YEAR(V12-1),(V12-U12)/(DATE(YEAR(U12),12,31)-DATE(YEAR(U12),1,1)+1),(DATE(YEAR(U12)+1,1,1)-U12)/(DATE(YEAR(U12),12,31)-DATE(YEAR(U12),1,1)+1)+(V12-DATE(YEAR(V12),1,1))/(DATE(YEAR(V12),12,31)-DATE(YEAR(V12),1,1)+1)),2)) | X12: =IF(U12="","",ROUND(X11+W12+IF(V12<'Навигатор накоплений'!F24,N('Навигатор накоплений'!G24),0),2)) | Z12: =IF('Навигатор накоплений'!A25="","",IF(6<=DATEDIF('Навигатор накоплений'!E25,'Навигатор накоплений'!F25,"m")+IF(EDATE('Навигатор накоплений'!E25,DATEDIF('Навигатор накоплений'!E25,'Навигатор накоплений'!F25,"m"))<'Навигатор накоплений'!F25,1,0),AA11,"")) | AA12: =IF(Z12="","",MIN(EDATE('Навигатор накоплений'!E25,6),'Навигатор накоплений'!F25)) | AB12: =IF(Z12="","",ROUND(AC11*'Навигатор накоплений'!D25*IF(YEAR(Z12)=YEAR(AA12-1),(AA12-Z12)/(DATE(YEAR(Z12),12,31)-DATE(YEAR(Z12),1,1)+1),(DATE(YEAR(Z12)+1,1,1)-Z12)/(DATE(YEAR(Z12),12,31)-DATE(YEAR(Z12),1,1)+1)+(AA12-DATE(YEAR(AA12),1,1))/(DATE(YEAR(AA12),12,31)-DATE(YEAR(AA12),1,1)+1)),2)) | AC12: =IF(Z12="","",ROUND(AC11+AB12+IF(AA12<'Навигатор накоплений'!F25,N('Навигатор накоплений'!G25),0),2)) | AE12: =IF('Навигатор накоплений'!A26="","",IF(6<=DATEDIF('Навигатор накоплений'!E26,'Навигатор накоплений'!F26,"m")+IF(EDATE('Навигатор накоплений'!E26,DATEDIF('Навигатор накоплений'!E26,'Навигатор накоплений'!F26,"m"))<'Навигатор накоплений'!F26,1,0),AF11,"")) | AF12: =IF(AE12="","",MIN(EDATE('Навигатор накоплений'!E26,6),'Навигатор накоплений'!F26)) | AG12: =IF(AE12="","",ROUND(AH11*'Навигатор накоплений'!D26*IF(YEAR(AE12)=YEAR(AF12-1),(AF12-AE12)/(DATE(YEAR(AE12),12,31)-DATE(YEAR(AE12),1,1)+1),(DATE(YEAR(AE12)+1,1,1)-AE12)/(DATE(YEAR(AE12),12,31)-DATE(YEAR(AE12),1,1)+1)+(AF12-DATE(YEAR(AF12),1,1))/(DATE(YEAR(AF12),12,31)-DATE(YEAR(AF12),1,1)+1)),2)) | AH12: =IF(AE12="","",ROUND(AH11+AG12+IF(AF12<'Навигатор накоплений'!F26,N('Навигатор накоплений'!G26),0),2)) | AJ12: =IF('Навигатор накоплений'!A27="","",IF(6<=DATEDIF('Навигатор накоплений'!E27,'Навигатор накоплений'!F27,"m")+IF(EDATE('Навигатор накоплений'!E27,DATEDIF('Навигатор накоплений'!E27,'Навигатор накоплений'!F27,"m"))<'Навигатор накоплений'!F27,1,0),AK11,"")) | AK12: =IF(AJ12="","",MIN(EDATE('Навигатор накоплений'!E27,6),'Навигатор накоплений'!F27)) | AL12: =IF(AJ12="","",ROUND(AM11*'Навигатор накоплений'!D27*IF(YEAR(AJ12)=YEAR(AK12-1),(AK12-AJ12)/(DATE(YEAR(AJ12),12,31)-DATE(YEAR(AJ12),1,1)+1),(DATE(YEAR(AJ12)+1,1,1)-AJ12)/(DATE(YEAR(AJ12),12,31)-DATE(YEAR(AJ12),1,1)+1)+(AK12-DATE(YEAR(AK12),1,1))/(DATE(YEAR(AK12),12,31)-DATE(YEAR(AK12),1,1)+1)),2)) | AM12: =IF(AJ12="","",ROUND(AM11+AL12+IF(AK12<'Навигатор накоплений'!F27,N('Навигатор накоплений'!G27),0),2)) | AO12: =IF('Навигатор накоплений'!A28="","",IF(6<=DATEDIF('Навигатор накоплений'!E28,'Навигатор накоплений'!F28,"m")+IF(EDATE('Навигатор накоплений'!E28,DATEDIF('Навигатор накоплений'!E28,'Навигатор накоплений'!F28,"m"))<'Навигатор накоплений'!F28,1,0),AP11,"")) | AP12: =IF(AO12="","",MIN(EDATE('Навигатор накоплений'!E28,6),'Навигатор накоплений'!F28)) | AQ12: =IF(AO12="","",ROUND(AR11*'Навигатор накоплений'!D28*IF(YEAR(AO12)=YEAR(AP12-1),(AP12-AO12)/(DATE(YEAR(AO12),12,31)-DATE(YEAR(AO12),1,1)+1),(DATE(YEAR(AO12)+1,1,1)-AO12)/(DATE(YEAR(AO12),12,31)-DATE(YEAR(AO12),1,1)+1)+(AP12-DATE(YEAR(AP12),1,1))/(DATE(YEAR(AP12),12,31)-DATE(YEAR(AP12),1,1)+1)),2)) | AR12: =IF(AO12="","",ROUND(AR11+AQ12+IF(AP12<'Навигатор накоплений'!F28,N('Навигатор накоплений'!G28),0),2)) | AT12: =IF(OR(K12="",L12="",M12="",L12<=K12),0,ROUND(M12*MAX(0,MIN(L12,DATE(2027,1,1))-MAX(K12,DATE(2026,1,1)))/(L12-K12),2)) -> 0 | AU12: =IF(OR(P12="",Q12="",R12="",Q12<=P12),0,ROUND(R12*MAX(0,MIN(Q12,DATE(2027,1,1))-MAX(P12,DATE(2026,1,1)))/(Q12-P12),2)) -> 0 | AV12: =IF(OR(U12="",V12="",W12="",V12<=U12),0,ROUND(W12*MAX(0,MIN(V12,DATE(2027,1,1))-MAX(U12,DATE(2026,1,1)))/(V12-U12),2)) -> 0 | AW12: =IF(OR(Z12="",AA12="",AB12="",AA12<=Z12),0,ROUND(AB12*MAX(0,MIN(AA12,DATE(2027,1,1))-MAX(Z12,DATE(2026,1,1)))/(AA12-Z12),2)) -> 0 | AX12: =IF(OR(AE12="",AF12="",AG12="",AF12<=AE12),0,ROUND(AG12*MAX(0,MIN(AF12,DATE(2027,1,1))-MAX(AE12,DATE(2026,1,1)))/(AF12-AE12),2)) -> 0 | AY12: =IF(OR(AJ12="",AK12="",AL12="",AK12<=AJ12),0,ROUND(AL12*MAX(0,MIN(AK12,DATE(2027,1,1))-MAX(AJ12,DATE(2026,1,1)))/(AK12-AJ12),2)) -> 0 | AZ12: =IF(OR(AO12="",AP12="",AQ12="",AP12<=AO12),0,ROUND(AQ12*MAX(0,MIN(AP12,DATE(2027,1,1))-MAX(AO12,DATE(2026,1,1)))/(AP12-AO12),2)) -> 0 | BA12: =IF(OR(B15="",C15="",H15="",C15<=B15),0,ROUND(H15*MAX(0,MIN(C15,DATE(2027,1,1))-MAX(B15,DATE(2026,1,1)))/(C15-B15),2)) -> 0 | BB12: =IF(OR(B32="",C32="",H32="",C32<=B32),0,ROUND(H32*MAX(0,MIN(C32,DATE(2027,1,1))-MAX(B32,DATE(2026,1,1)))/(C32-B32),2)) -> 0 | BC12: =IF(OR(B49="",C49="",H49="",C49<=B49),0,ROUND(H49*MAX(0,MIN(C49,DATE(2027,1,1))-MAX(B49,DATE(2026,1,1)))/(C49-B49),2)) -> 0 | BD12: =IF(OR(B66="",C66="",H66="",C66<=B66),0,ROUND(H66*MAX(0,MIN(C66,DATE(2027,1,1))-MAX(B66,DATE(2026,1,1)))/(C66-B66),2)) -> 0 | BE12: =IF(OR(B83="",C83="",H83="",C83<=B83),0,ROUND(H83*MAX(0,MIN(C83,DATE(2027,1,1))-MAX(B83,DATE(2026,1,1)))/(C83-B83),2)) -> 0 | BF12: =IF(OR(B100="",C100="",H100="",C100<=B100),0,ROUND(H100*MAX(0,MIN(C100,DATE(2027,1,1))-MAX(B100,DATE(2026,1,1)))/(C100-B100),2)) -> 0
